BEGIN:VCALENDAR
PRODID:-//WikiCFP//sebasmassanet 1.0//EN
VERSION:2.0
CALSCALE:GREGORIAN
BEGIN:VEVENT
DTSTAMP:20260420T070924Z
DTSTART;VALUE=DATE:20110411
DTEND;VALUE=DATE:20110416
SUMMARY:SSCI 2011
DESCRIPTION:IEEE Symposium Series on Computational Intelligence 2011
URL:http://www.wikicfp.com/cfp/servlet/event.showcfp?eventid=9901&copyown
 erid=11571
UID:cfp116319-E@wikicfp.com
END:VEVENT
BEGIN:VEVENT
DTSTAMP:20260420T070924Z
DTSTART;VALUE=DATE:20101116
SUMMARY:SSCI 2011 Deadline
DESCRIPTION:IEEE Symposium Series on Computational Intelligence 2011
URL:http://www.wikicfp.com/cfp/servlet/event.showcfp?eventid=9901&copyown
 erid=11571
UID:cfp116319-D@wikicfp.com
END:VEVENT
BEGIN:VEVENT
DTSTAMP:20260420T070924Z
DTSTART;VALUE=DATE:20101215
SUMMARY:SSCI 2011 Notification Due
DESCRIPTION:IEEE Symposium Series on Computational Intelligence 2011
URL:http://www.wikicfp.com/cfp/servlet/event.showcfp?eventid=9901&copyown
 erid=11571
UID:cfp116319-N@wikicfp.com
END:VEVENT
BEGIN:VEVENT
DTSTAMP:20260420T070924Z
DTSTART;VALUE=DATE:20110115
SUMMARY:SSCI 2011 Final Version Due
DESCRIPTION:IEEE Symposium Series on Computational Intelligence 2011
URL:http://www.wikicfp.com/cfp/servlet/event.showcfp?eventid=9901&copyown
 erid=11571
UID:cfp116319-N@wikicfp.com
END:VEVENT
BEGIN:VEVENT
DTSTAMP:20260420T070924Z
DTSTART;VALUE=DATE:20110829
DTEND;VALUE=DATE:20110901
SUMMARY:WILF 2011
DESCRIPTION:International Workshop on Fuzzy Logic
URL:http://www.wikicfp.com/cfp/servlet/event.showcfp?eventid=11956&copyow
 nerid=11571
UID:cfp116320-E@wikicfp.com
END:VEVENT
BEGIN:VEVENT
DTSTAMP:20260420T070924Z
DTSTART;VALUE=DATE:20110315
SUMMARY:WILF 2011 Abstract Due
DESCRIPTION:International Workshop on Fuzzy Logic
URL:http://www.wikicfp.com/cfp/servlet/event.showcfp?eventid=11956&copyow
 nerid=11571
UID:cfp116320-A@wikicfp.com
END:VEVENT
BEGIN:VEVENT
DTSTAMP:20260420T070924Z
DTSTART;VALUE=DATE:20110204
SUMMARY:WILF 2011 Deadline
DESCRIPTION:International Workshop on Fuzzy Logic
URL:http://www.wikicfp.com/cfp/servlet/event.showcfp?eventid=11956&copyow
 nerid=11571
UID:cfp116320-D@wikicfp.com
END:VEVENT
BEGIN:VEVENT
DTSTAMP:20260420T070924Z
DTSTART;VALUE=DATE:20110221
SUMMARY:WILF 2011 Notification Due
DESCRIPTION:International Workshop on Fuzzy Logic
URL:http://www.wikicfp.com/cfp/servlet/event.showcfp?eventid=11956&copyow
 nerid=11571
UID:cfp116320-N@wikicfp.com
END:VEVENT
BEGIN:VEVENT
DTSTAMP:20260420T070924Z
DTSTART;VALUE=DATE:20110315
SUMMARY:WILF 2011 Final Version Due
DESCRIPTION:International Workshop on Fuzzy Logic
URL:http://www.wikicfp.com/cfp/servlet/event.showcfp?eventid=11956&copyow
 nerid=11571
UID:cfp116320-N@wikicfp.com
END:VEVENT
END:VCALENDAR
