BEGIN:VCALENDAR
PRODID:-//WikiCFP//u11519_del 1.0//EN
VERSION:2.0
CALSCALE:GREGORIAN
BEGIN:VEVENT
DTSTAMP:20260420T223416Z
DTSTART;VALUE=DATE:20101016
DTEND;VALUE=DATE:20101021
SUMMARY:NordiCHI 2010
DESCRIPTION:Sixth Nordic Conference on Human-Computer Interaction
URL:http://www.wikicfp.com/cfp/servlet/event.showcfp?eventid=6338&copyown
 erid=11519
UID:cfp84456-E@wikicfp.com
END:VEVENT
BEGIN:VEVENT
DTSTAMP:20260420T223416Z
DTSTART;VALUE=DATE:20100503
SUMMARY:NordiCHI 2010 Deadline
DESCRIPTION:Sixth Nordic Conference on Human-Computer Interaction
URL:http://www.wikicfp.com/cfp/servlet/event.showcfp?eventid=6338&copyown
 erid=11519
UID:cfp84456-D@wikicfp.com
END:VEVENT
BEGIN:VEVENT
DTSTAMP:20260420T223416Z
DTSTART;VALUE=DATE:20100705
SUMMARY:NordiCHI 2010 Notification Due
DESCRIPTION:Sixth Nordic Conference on Human-Computer Interaction
URL:http://www.wikicfp.com/cfp/servlet/event.showcfp?eventid=6338&copyown
 erid=11519
UID:cfp84456-N@wikicfp.com
END:VEVENT
BEGIN:VEVENT
DTSTAMP:20260420T223416Z
DTSTART;VALUE=DATE:20100916
DTEND;VALUE=DATE:20100918
SUMMARY:USAB 2010
DESCRIPTION:HCI IN WORK & LEARNING\, LIFE & LEISURE 
URL:http://www.wikicfp.com/cfp/servlet/event.showcfp?eventid=9578&copyown
 erid=11519
UID:cfp84463-E@wikicfp.com
END:VEVENT
BEGIN:VEVENT
DTSTAMP:20260420T223416Z
DTSTART;VALUE=DATE:20100509
SUMMARY:USAB 2010 Deadline
DESCRIPTION:HCI IN WORK & LEARNING\, LIFE & LEISURE 
URL:http://www.wikicfp.com/cfp/servlet/event.showcfp?eventid=9578&copyown
 erid=11519
UID:cfp84463-D@wikicfp.com
END:VEVENT
BEGIN:VEVENT
DTSTAMP:20260420T223416Z
DTSTART;VALUE=DATE:20100516
SUMMARY:USAB 2010 Notification Due
DESCRIPTION:HCI IN WORK & LEARNING\, LIFE & LEISURE 
URL:http://www.wikicfp.com/cfp/servlet/event.showcfp?eventid=9578&copyown
 erid=11519
UID:cfp84463-N@wikicfp.com
END:VEVENT
BEGIN:VEVENT
DTSTAMP:20260420T223416Z
DTSTART;VALUE=DATE:20100606
SUMMARY:USAB 2010 Final Version Due
DESCRIPTION:HCI IN WORK & LEARNING\, LIFE & LEISURE 
URL:http://www.wikicfp.com/cfp/servlet/event.showcfp?eventid=9578&copyown
 erid=11519
UID:cfp84463-N@wikicfp.com
END:VEVENT
BEGIN:VEVENT
DTSTAMP:20260420T223416Z
DTSTART;VALUE=DATE:20101025
DTEND;VALUE=DATE:20101029
SUMMARY:KDIR 2010
DESCRIPTION:International Conference on Knowledge Discovery and Informati
 on Retrieval
URL:http://www.wikicfp.com/cfp/servlet/event.showcfp?eventid=8618&copyown
 erid=11519
UID:cfp84450-E@wikicfp.com
END:VEVENT
BEGIN:VEVENT
DTSTAMP:20260420T223416Z
DTSTART;VALUE=DATE:20100520
SUMMARY:KDIR 2010 Deadline
DESCRIPTION:International Conference on Knowledge Discovery and Informati
 on Retrieval
URL:http://www.wikicfp.com/cfp/servlet/event.showcfp?eventid=8618&copyown
 erid=11519
UID:cfp84450-D@wikicfp.com
END:VEVENT
BEGIN:VEVENT
DTSTAMP:20260420T223416Z
DTSTART;VALUE=DATE:20100709
SUMMARY:KDIR 2010 Notification Due
DESCRIPTION:International Conference on Knowledge Discovery and Informati
 on Retrieval
URL:http://www.wikicfp.com/cfp/servlet/event.showcfp?eventid=8618&copyown
 erid=11519
UID:cfp84450-N@wikicfp.com
END:VEVENT
BEGIN:VEVENT
DTSTAMP:20260420T223416Z
DTSTART;VALUE=DATE:20100727
SUMMARY:KDIR 2010 Final Version Due
DESCRIPTION:International Conference on Knowledge Discovery and Informati
 on Retrieval
URL:http://www.wikicfp.com/cfp/servlet/event.showcfp?eventid=8618&copyown
 erid=11519
UID:cfp84450-N@wikicfp.com
END:VEVENT
BEGIN:VEVENT
DTSTAMP:20260420T223416Z
DTSTART;VALUE=DATE:20100901
DTEND;VALUE=DATE:20100904
SUMMARY:UCMedia  2010
DESCRIPTION:2nd International ICST Conference on  User Centric Media
URL:http://www.wikicfp.com/cfp/servlet/event.showcfp?eventid=9268&copyown
 erid=11519
UID:cfp84460-E@wikicfp.com
END:VEVENT
BEGIN:VEVENT
DTSTAMP:20260420T223416Z
DTSTART;VALUE=DATE:20100521
SUMMARY:UCMedia  2010 Deadline
DESCRIPTION:2nd International ICST Conference on  User Centric Media
URL:http://www.wikicfp.com/cfp/servlet/event.showcfp?eventid=9268&copyown
 erid=11519
UID:cfp84460-D@wikicfp.com
END:VEVENT
BEGIN:VEVENT
DTSTAMP:20260420T223416Z
DTSTART;VALUE=DATE:20100621
SUMMARY:UCMedia  2010 Notification Due
DESCRIPTION:2nd International ICST Conference on  User Centric Media
URL:http://www.wikicfp.com/cfp/servlet/event.showcfp?eventid=9268&copyown
 erid=11519
UID:cfp84460-N@wikicfp.com
END:VEVENT
BEGIN:VEVENT
DTSTAMP:20260420T223416Z
DTSTART;VALUE=DATE:20100709
SUMMARY:UCMedia  2010 Final Version Due
DESCRIPTION:2nd International ICST Conference on  User Centric Media
URL:http://www.wikicfp.com/cfp/servlet/event.showcfp?eventid=9268&copyown
 erid=11519
UID:cfp84460-N@wikicfp.com
END:VEVENT
BEGIN:VEVENT
DTSTAMP:20260420T223416Z
DTSTART;VALUE=DATE:20100723
DTEND;VALUE=DATE:20100724
SUMMARY:AS 2010
DESCRIPTION:Workshop on Accessible Search Systems
URL:http://www.wikicfp.com/cfp/servlet/event.showcfp?eventid=9574&copyown
 erid=11519
UID:cfp84453-E@wikicfp.com
END:VEVENT
BEGIN:VEVENT
DTSTAMP:20260420T223416Z
DTSTART;VALUE=DATE:20100523
SUMMARY:AS 2010 Deadline
DESCRIPTION:Workshop on Accessible Search Systems
URL:http://www.wikicfp.com/cfp/servlet/event.showcfp?eventid=9574&copyown
 erid=11519
UID:cfp84453-D@wikicfp.com
END:VEVENT
BEGIN:VEVENT
DTSTAMP:20260420T223416Z
DTSTART;VALUE=DATE:20101003
DTEND;VALUE=DATE:20101006
SUMMARY:ICMWI 2010
DESCRIPTION:IEEE International Conference on Machine and Web Intelligence
 
URL:http://www.wikicfp.com/cfp/servlet/event.showcfp?eventid=8664&copyown
 erid=11519
UID:cfp84459-E@wikicfp.com
END:VEVENT
BEGIN:VEVENT
DTSTAMP:20260420T223416Z
DTSTART;VALUE=DATE:20100524
SUMMARY:ICMWI 2010 Deadline
DESCRIPTION:IEEE International Conference on Machine and Web Intelligence
 
URL:http://www.wikicfp.com/cfp/servlet/event.showcfp?eventid=8664&copyown
 erid=11519
UID:cfp84459-D@wikicfp.com
END:VEVENT
BEGIN:VEVENT
DTSTAMP:20260420T223416Z
DTSTART;VALUE=DATE:20100621
SUMMARY:ICMWI 2010 Notification Due
DESCRIPTION:IEEE International Conference on Machine and Web Intelligence
 
URL:http://www.wikicfp.com/cfp/servlet/event.showcfp?eventid=8664&copyown
 erid=11519
UID:cfp84459-N@wikicfp.com
END:VEVENT
BEGIN:VEVENT
DTSTAMP:20260420T223416Z
DTSTART;VALUE=DATE:20100705
SUMMARY:ICMWI 2010 Final Version Due
DESCRIPTION:IEEE International Conference on Machine and Web Intelligence
 
URL:http://www.wikicfp.com/cfp/servlet/event.showcfp?eventid=8664&copyown
 erid=11519
UID:cfp84459-N@wikicfp.com
END:VEVENT
BEGIN:VEVENT
DTSTAMP:20260420T223416Z
DTSTART;VALUE=DATE:20100723
DTEND;VALUE=DATE:20100724
SUMMARY:FGGSIR 2010
DESCRIPTION:Feature Generation and Selection for Information Retrieval
URL:http://www.wikicfp.com/cfp/servlet/event.showcfp?eventid=9209&copyown
 erid=11519
UID:cfp84452-E@wikicfp.com
END:VEVENT
BEGIN:VEVENT
DTSTAMP:20260420T223416Z
DTSTART;VALUE=DATE:20100530
SUMMARY:FGGSIR 2010 Deadline
DESCRIPTION:Feature Generation and Selection for Information Retrieval
URL:http://www.wikicfp.com/cfp/servlet/event.showcfp?eventid=9209&copyown
 erid=11519
UID:cfp84452-D@wikicfp.com
END:VEVENT
BEGIN:VEVENT
DTSTAMP:20260420T223416Z
DTSTART;VALUE=DATE:20100625
SUMMARY:FGGSIR 2010 Notification Due
DESCRIPTION:Feature Generation and Selection for Information Retrieval
URL:http://www.wikicfp.com/cfp/servlet/event.showcfp?eventid=9209&copyown
 erid=11519
UID:cfp84452-N@wikicfp.com
END:VEVENT
BEGIN:VEVENT
DTSTAMP:20260420T223416Z
DTSTART;VALUE=DATE:20100705
SUMMARY:FGGSIR 2010 Final Version Due
DESCRIPTION:Feature Generation and Selection for Information Retrieval
URL:http://www.wikicfp.com/cfp/servlet/event.showcfp?eventid=9209&copyown
 erid=11519
UID:cfp84452-N@wikicfp.com
END:VEVENT
BEGIN:VEVENT
DTSTAMP:20260420T223416Z
DTSTART;VALUE=DATE:20100726
DTEND;VALUE=DATE:20100729
SUMMARY:I 2010
DESCRIPTION:IADIS International Conference Informatics 2010
URL:http://www.wikicfp.com/cfp/servlet/event.showcfp?eventid=8504&copyown
 erid=11519
UID:cfp84449-E@wikicfp.com
END:VEVENT
BEGIN:VEVENT
DTSTAMP:20260420T223416Z
DTSTART;VALUE=DATE:20100531
SUMMARY:I 2010 Deadline
DESCRIPTION:IADIS International Conference Informatics 2010
URL:http://www.wikicfp.com/cfp/servlet/event.showcfp?eventid=8504&copyown
 erid=11519
UID:cfp84449-D@wikicfp.com
END:VEVENT
BEGIN:VEVENT
DTSTAMP:20260420T223416Z
DTSTART;VALUE=DATE:20100601
SUMMARY:IJCICG 2010 Deadline
DESCRIPTION:CFP: Int'l. Journal of Creative Interfaces and Computer Graph
 ics
URL:http://www.wikicfp.com/cfp/servlet/event.showcfp?eventid=5611&copyown
 erid=11519
UID:cfp84454-D@wikicfp.com
END:VEVENT
BEGIN:VEVENT
DTSTAMP:20260420T223416Z
DTSTART;VALUE=DATE:20100817
DTEND;VALUE=DATE:20100818
SUMMARY:ODS 2010
DESCRIPTION:Open Design Spaces - Socially Crafting Interactive Experience
 s
URL:http://www.wikicfp.com/cfp/servlet/event.showcfp?eventid=9449&copyown
 erid=11519
UID:cfp84461-E@wikicfp.com
END:VEVENT
BEGIN:VEVENT
DTSTAMP:20260420T223416Z
DTSTART;VALUE=DATE:20100601
SUMMARY:ODS 2010 Deadline
DESCRIPTION:Open Design Spaces - Socially Crafting Interactive Experience
 s
URL:http://www.wikicfp.com/cfp/servlet/event.showcfp?eventid=9449&copyown
 erid=11519
UID:cfp84461-D@wikicfp.com
END:VEVENT
BEGIN:VEVENT
DTSTAMP:20260420T223416Z
DTSTART;VALUE=DATE:20100625
SUMMARY:ODS 2010 Notification Due
DESCRIPTION:Open Design Spaces - Socially Crafting Interactive Experience
 s
URL:http://www.wikicfp.com/cfp/servlet/event.showcfp?eventid=9449&copyown
 erid=11519
UID:cfp84461-N@wikicfp.com
END:VEVENT
BEGIN:VEVENT
DTSTAMP:20260420T223416Z
DTSTART;VALUE=DATE:20100801
SUMMARY:ODS 2010 Final Version Due
DESCRIPTION:Open Design Spaces - Socially Crafting Interactive Experience
 s
URL:http://www.wikicfp.com/cfp/servlet/event.showcfp?eventid=9449&copyown
 erid=11519
UID:cfp84461-N@wikicfp.com
END:VEVENT
BEGIN:VEVENT
DTSTAMP:20260420T223416Z
DTSTART;VALUE=DATE:20101025
DTEND;VALUE=DATE:20101030
SUMMARY:CIKM 2010
DESCRIPTION:International Conference on Information and Knowledge Managem
 ent
URL:http://www.wikicfp.com/cfp/servlet/event.showcfp?eventid=5822&copyown
 erid=11519
UID:cfp84448-E@wikicfp.com
END:VEVENT
BEGIN:VEVENT
DTSTAMP:20260420T223416Z
DTSTART;VALUE=DATE:20100527
SUMMARY:CIKM 2010 Abstract Due
DESCRIPTION:International Conference on Information and Knowledge Managem
 ent
URL:http://www.wikicfp.com/cfp/servlet/event.showcfp?eventid=5822&copyown
 erid=11519
UID:cfp84448-A@wikicfp.com
END:VEVENT
BEGIN:VEVENT
DTSTAMP:20260420T223416Z
DTSTART;VALUE=DATE:20100603
SUMMARY:CIKM 2010 Deadline
DESCRIPTION:International Conference on Information and Knowledge Managem
 ent
URL:http://www.wikicfp.com/cfp/servlet/event.showcfp?eventid=5822&copyown
 erid=11519
UID:cfp84448-D@wikicfp.com
END:VEVENT
BEGIN:VEVENT
DTSTAMP:20260420T223416Z
DTSTART;VALUE=DATE:20100715
SUMMARY:CIKM 2010 Notification Due
DESCRIPTION:International Conference on Information and Knowledge Managem
 ent
URL:http://www.wikicfp.com/cfp/servlet/event.showcfp?eventid=5822&copyown
 erid=11519
UID:cfp84448-N@wikicfp.com
END:VEVENT
BEGIN:VEVENT
DTSTAMP:20260420T223416Z
DTSTART;VALUE=DATE:20101025
DTEND;VALUE=DATE:20101031
SUMMARY:SEMAPRO 2010
DESCRIPTION:The Fourth International Conference on Advances in Semantic P
 rocessing
URL:http://www.wikicfp.com/cfp/servlet/event.showcfp?eventid=8690&copyown
 erid=11519
UID:cfp84451-E@wikicfp.com
END:VEVENT
BEGIN:VEVENT
DTSTAMP:20260420T223416Z
DTSTART;VALUE=DATE:20100603
SUMMARY:SEMAPRO 2010 Deadline
DESCRIPTION:The Fourth International Conference on Advances in Semantic P
 rocessing
URL:http://www.wikicfp.com/cfp/servlet/event.showcfp?eventid=8690&copyown
 erid=11519
UID:cfp84451-D@wikicfp.com
END:VEVENT
BEGIN:VEVENT
DTSTAMP:20260420T223416Z
DTSTART;VALUE=DATE:20100630
SUMMARY:SEMAPRO 2010 Notification Due
DESCRIPTION:The Fourth International Conference on Advances in Semantic P
 rocessing
URL:http://www.wikicfp.com/cfp/servlet/event.showcfp?eventid=8690&copyown
 erid=11519
UID:cfp84451-N@wikicfp.com
END:VEVENT
BEGIN:VEVENT
DTSTAMP:20260420T223416Z
DTSTART;VALUE=DATE:20100715
SUMMARY:SEMAPRO 2010 Final Version Due
DESCRIPTION:The Fourth International Conference on Advances in Semantic P
 rocessing
URL:http://www.wikicfp.com/cfp/servlet/event.showcfp?eventid=8690&copyown
 erid=11519
UID:cfp84451-N@wikicfp.com
END:VEVENT
BEGIN:VEVENT
DTSTAMP:20260420T223416Z
DTSTART;VALUE=DATE:20101014
DTEND;VALUE=DATE:20101016
SUMMARY:HCSE 2010
DESCRIPTION:3rd Conference on Human-Centred Software Engineering 
URL:http://www.wikicfp.com/cfp/servlet/event.showcfp?eventid=7239&copyown
 erid=11519
UID:cfp84457-E@wikicfp.com
END:VEVENT
BEGIN:VEVENT
DTSTAMP:20260420T223416Z
DTSTART;VALUE=DATE:20100531
SUMMARY:HCSE 2010 Abstract Due
DESCRIPTION:3rd Conference on Human-Centred Software Engineering 
URL:http://www.wikicfp.com/cfp/servlet/event.showcfp?eventid=7239&copyown
 erid=11519
UID:cfp84457-A@wikicfp.com
END:VEVENT
BEGIN:VEVENT
DTSTAMP:20260420T223416Z
DTSTART;VALUE=DATE:20100614
SUMMARY:HCSE 2010 Deadline
DESCRIPTION:3rd Conference on Human-Centred Software Engineering 
URL:http://www.wikicfp.com/cfp/servlet/event.showcfp?eventid=7239&copyown
 erid=11519
UID:cfp84457-D@wikicfp.com
END:VEVENT
BEGIN:VEVENT
DTSTAMP:20260420T223416Z
DTSTART;VALUE=DATE:20100719
SUMMARY:HCSE 2010 Notification Due
DESCRIPTION:3rd Conference on Human-Centred Software Engineering 
URL:http://www.wikicfp.com/cfp/servlet/event.showcfp?eventid=7239&copyown
 erid=11519
UID:cfp84457-N@wikicfp.com
END:VEVENT
BEGIN:VEVENT
DTSTAMP:20260420T223416Z
DTSTART;VALUE=DATE:20100809
SUMMARY:HCSE 2010 Final Version Due
DESCRIPTION:3rd Conference on Human-Centred Software Engineering 
URL:http://www.wikicfp.com/cfp/servlet/event.showcfp?eventid=7239&copyown
 erid=11519
UID:cfp84457-N@wikicfp.com
END:VEVENT
BEGIN:VEVENT
DTSTAMP:20260420T223416Z
DTSTART;VALUE=DATE:20101107
DTEND;VALUE=DATE:20101109
SUMMARY:CHiMiT 2010
DESCRIPTION:Computer Human Interaction for the Management of Information 
 Technology
URL:http://www.wikicfp.com/cfp/servlet/event.showcfp?eventid=8196&copyown
 erid=11519
UID:cfp84458-E@wikicfp.com
END:VEVENT
BEGIN:VEVENT
DTSTAMP:20260420T223416Z
DTSTART;VALUE=DATE:20100703
SUMMARY:CHiMiT 2010 Deadline
DESCRIPTION:Computer Human Interaction for the Management of Information 
 Technology
URL:http://www.wikicfp.com/cfp/servlet/event.showcfp?eventid=8196&copyown
 erid=11519
UID:cfp84458-D@wikicfp.com
END:VEVENT
BEGIN:VEVENT
DTSTAMP:20260420T223416Z
DTSTART;VALUE=DATE:20110122
DTEND;VALUE=DATE:20110127
SUMMARY:TEI 2011
DESCRIPTION:Fifth International Conference on Tangible and Embedded Inter
 action - Explorations
URL:http://www.wikicfp.com/cfp/servlet/event.showcfp?eventid=5837&copyown
 erid=11519
UID:cfp84455-E@wikicfp.com
END:VEVENT
BEGIN:VEVENT
DTSTAMP:20260420T223416Z
DTSTART;VALUE=DATE:20101017
SUMMARY:TEI 2011 Deadline
DESCRIPTION:Fifth International Conference on Tangible and Embedded Inter
 action - Explorations
URL:http://www.wikicfp.com/cfp/servlet/event.showcfp?eventid=5837&copyown
 erid=11519
UID:cfp84455-D@wikicfp.com
END:VEVENT
BEGIN:VEVENT
DTSTAMP:20260420T223416Z
DTSTART;VALUE=DATE:20110905
DTEND;VALUE=DATE:20110910
SUMMARY:INTERACT 2011
DESCRIPTION:13th IFIP TC13 Conference on Human-Computer Interaction
URL:http://www.wikicfp.com/cfp/servlet/event.showcfp?eventid=9513&copyown
 erid=11519
UID:cfp84462-E@wikicfp.com
END:VEVENT
BEGIN:VEVENT
DTSTAMP:20260420T223416Z
DTSTART;VALUE=DATE:20110110
SUMMARY:INTERACT 2011 Abstract Due
DESCRIPTION:13th IFIP TC13 Conference on Human-Computer Interaction
URL:http://www.wikicfp.com/cfp/servlet/event.showcfp?eventid=9513&copyown
 erid=11519
UID:cfp84462-A@wikicfp.com
END:VEVENT
BEGIN:VEVENT
DTSTAMP:20260420T223416Z
DTSTART;VALUE=DATE:20110124
SUMMARY:INTERACT 2011 Deadline
DESCRIPTION:13th IFIP TC13 Conference on Human-Computer Interaction
URL:http://www.wikicfp.com/cfp/servlet/event.showcfp?eventid=9513&copyown
 erid=11519
UID:cfp84462-D@wikicfp.com
END:VEVENT
BEGIN:VEVENT
DTSTAMP:20260420T223416Z
DTSTART;VALUE=DATE:20110328
SUMMARY:INTERACT 2011 Notification Due
DESCRIPTION:13th IFIP TC13 Conference on Human-Computer Interaction
URL:http://www.wikicfp.com/cfp/servlet/event.showcfp?eventid=9513&copyown
 erid=11519
UID:cfp84462-N@wikicfp.com
END:VEVENT
BEGIN:VEVENT
DTSTAMP:20260420T223416Z
DTSTART;VALUE=DATE:20110418
SUMMARY:INTERACT 2011 Final Version Due
DESCRIPTION:13th IFIP TC13 Conference on Human-Computer Interaction
URL:http://www.wikicfp.com/cfp/servlet/event.showcfp?eventid=9513&copyown
 erid=11519
UID:cfp84462-N@wikicfp.com
END:VEVENT
END:VCALENDAR
