BEGIN:VCALENDAR
PRODID:-//WikiCFP//sajji786 1.0//EN
VERSION:2.0
CALSCALE:GREGORIAN
BEGIN:VEVENT
DTSTAMP:20260422T184425Z
DTSTART;VALUE=DATE:20100816
DTEND;VALUE=DATE:20100819
SUMMARY:OTN  2010
DESCRIPTION:Object Tracking in WSN (OTN 2010)
URL:http://www.wikicfp.com/cfp/servlet/event.showcfp?eventid=9628&copyown
 erid=11446
UID:cfp83874-E@wikicfp.com
END:VEVENT
BEGIN:VEVENT
DTSTAMP:20260422T184425Z
DTSTART;VALUE=DATE:20100510
SUMMARY:OTN  2010 Deadline
DESCRIPTION:Object Tracking in WSN (OTN 2010)
URL:http://www.wikicfp.com/cfp/servlet/event.showcfp?eventid=9628&copyown
 erid=11446
UID:cfp83874-D@wikicfp.com
END:VEVENT
BEGIN:VEVENT
DTSTAMP:20260422T184425Z
DTSTART;VALUE=DATE:20100530
SUMMARY:OTN  2010 Notification Due
DESCRIPTION:Object Tracking in WSN (OTN 2010)
URL:http://www.wikicfp.com/cfp/servlet/event.showcfp?eventid=9628&copyown
 erid=11446
UID:cfp83874-N@wikicfp.com
END:VEVENT
END:VCALENDAR
