BEGIN:VCALENDAR
PRODID:-//WikiCFP//prasanthparaselli 1.0//EN
VERSION:2.0
CALSCALE:GREGORIAN
BEGIN:VEVENT
DTSTAMP:20260422T100645Z
DTSTART;VALUE=DATE:20180807
DTEND;VALUE=DATE:20180809
SUMMARY:AEROTECH VII 2018
DESCRIPTION:AEROTECH VII Conference
URL:http://www.wikicfp.com/cfp/servlet/event.showcfp?eventid=74897&copyow
 nerid=113279
UID:cfp719730-E@wikicfp.com
END:VEVENT
BEGIN:VEVENT
DTSTAMP:20260422T100645Z
DTSTART;VALUE=DATE:20180430
SUMMARY:AEROTECH VII 2018 Deadline
DESCRIPTION:AEROTECH VII Conference
URL:http://www.wikicfp.com/cfp/servlet/event.showcfp?eventid=74897&copyow
 nerid=113279
UID:cfp719730-D@wikicfp.com
END:VEVENT
BEGIN:VEVENT
DTSTAMP:20260422T100645Z
DTSTART;VALUE=DATE:20180924
DTEND;VALUE=DATE:20180927
SUMMARY:IWAIPR'2018 2018
DESCRIPTION:6th Internacional Workshop on Artificial Intelligence and Pat
 tern Recognition
URL:http://www.wikicfp.com/cfp/servlet/event.showcfp?eventid=73521&copyow
 nerid=113279
UID:cfp719727-E@wikicfp.com
END:VEVENT
BEGIN:VEVENT
DTSTAMP:20260422T100645Z
DTSTART;VALUE=DATE:20180515
SUMMARY:IWAIPR'2018 2018 Deadline
DESCRIPTION:6th Internacional Workshop on Artificial Intelligence and Pat
 tern Recognition
URL:http://www.wikicfp.com/cfp/servlet/event.showcfp?eventid=73521&copyow
 nerid=113279
UID:cfp719727-D@wikicfp.com
END:VEVENT
BEGIN:VEVENT
DTSTAMP:20260422T100645Z
DTSTART;VALUE=DATE:20180705
SUMMARY:IWAIPR'2018 2018 Notification Due
DESCRIPTION:6th Internacional Workshop on Artificial Intelligence and Pat
 tern Recognition
URL:http://www.wikicfp.com/cfp/servlet/event.showcfp?eventid=73521&copyow
 nerid=113279
UID:cfp719727-N@wikicfp.com
END:VEVENT
BEGIN:VEVENT
DTSTAMP:20260422T100645Z
DTSTART;VALUE=DATE:20180805
SUMMARY:IWAIPR'2018 2018 Final Version Due
DESCRIPTION:6th Internacional Workshop on Artificial Intelligence and Pat
 tern Recognition
URL:http://www.wikicfp.com/cfp/servlet/event.showcfp?eventid=73521&copyow
 nerid=113279
UID:cfp719727-N@wikicfp.com
END:VEVENT
BEGIN:VEVENT
DTSTAMP:20260422T100645Z
DTSTART;VALUE=DATE:20180910
DTEND;VALUE=DATE:20180911
SUMMARY:AI4BPM 2018
DESCRIPTION:Artificial Intelligence for Business Process Management Works
 hop (AI4BPM 2018)
URL:http://www.wikicfp.com/cfp/servlet/event.showcfp?eventid=73113&copyow
 nerid=113279
UID:cfp719728-E@wikicfp.com
END:VEVENT
BEGIN:VEVENT
DTSTAMP:20260422T100645Z
DTSTART;VALUE=DATE:20180525
SUMMARY:AI4BPM 2018 Deadline
DESCRIPTION:Artificial Intelligence for Business Process Management Works
 hop (AI4BPM 2018)
URL:http://www.wikicfp.com/cfp/servlet/event.showcfp?eventid=73113&copyow
 nerid=113279
UID:cfp719728-D@wikicfp.com
END:VEVENT
BEGIN:VEVENT
DTSTAMP:20260422T100645Z
DTSTART;VALUE=DATE:20180629
SUMMARY:AI4BPM 2018 Notification Due
DESCRIPTION:Artificial Intelligence for Business Process Management Works
 hop (AI4BPM 2018)
URL:http://www.wikicfp.com/cfp/servlet/event.showcfp?eventid=73113&copyow
 nerid=113279
UID:cfp719728-N@wikicfp.com
END:VEVENT
BEGIN:VEVENT
DTSTAMP:20260422T100645Z
DTSTART;VALUE=DATE:20180712
SUMMARY:AI4BPM 2018 Final Version Due
DESCRIPTION:Artificial Intelligence for Business Process Management Works
 hop (AI4BPM 2018)
URL:http://www.wikicfp.com/cfp/servlet/event.showcfp?eventid=73113&copyow
 nerid=113279
UID:cfp719728-N@wikicfp.com
END:VEVENT
BEGIN:VEVENT
DTSTAMP:20260422T100645Z
DTSTART;VALUE=DATE:20181117
DTEND;VALUE=DATE:20181121
SUMMARY:ICDM 2018
DESCRIPTION:IEEE International Conference on Data Mining
URL:http://www.wikicfp.com/cfp/servlet/event.showcfp?eventid=70277&copyow
 nerid=113279
UID:cfp719731-E@wikicfp.com
END:VEVENT
BEGIN:VEVENT
DTSTAMP:20260422T100645Z
DTSTART;VALUE=DATE:20180605
SUMMARY:ICDM 2018 Deadline
DESCRIPTION:IEEE International Conference on Data Mining
URL:http://www.wikicfp.com/cfp/servlet/event.showcfp?eventid=70277&copyow
 nerid=113279
UID:cfp719731-D@wikicfp.com
END:VEVENT
BEGIN:VEVENT
DTSTAMP:20260422T100645Z
DTSTART;VALUE=DATE:20180817
SUMMARY:ICDM 2018 Notification Due
DESCRIPTION:IEEE International Conference on Data Mining
URL:http://www.wikicfp.com/cfp/servlet/event.showcfp?eventid=70277&copyow
 nerid=113279
UID:cfp719731-N@wikicfp.com
END:VEVENT
BEGIN:VEVENT
DTSTAMP:20260422T100645Z
DTSTART;VALUE=DATE:20180915
SUMMARY:ICDM 2018 Final Version Due
DESCRIPTION:IEEE International Conference on Data Mining
URL:http://www.wikicfp.com/cfp/servlet/event.showcfp?eventid=70277&copyow
 nerid=113279
UID:cfp719731-N@wikicfp.com
END:VEVENT
BEGIN:VEVENT
DTSTAMP:20260422T100645Z
DTSTART;VALUE=DATE:20181114
DTEND;VALUE=DATE:20181117
SUMMARY:ACML 2018
DESCRIPTION:The 10th Asian Conference on Machine Learning
URL:http://www.wikicfp.com/cfp/servlet/event.showcfp?eventid=71200&copyow
 nerid=113279
UID:cfp719729-E@wikicfp.com
END:VEVENT
BEGIN:VEVENT
DTSTAMP:20260422T100645Z
DTSTART;VALUE=DATE:20180801
SUMMARY:ACML 2018 Deadline
DESCRIPTION:The 10th Asian Conference on Machine Learning
URL:http://www.wikicfp.com/cfp/servlet/event.showcfp?eventid=71200&copyow
 nerid=113279
UID:cfp719729-D@wikicfp.com
END:VEVENT
BEGIN:VEVENT
DTSTAMP:20260422T100645Z
DTSTART;VALUE=DATE:20180920
SUMMARY:ACML 2018 Notification Due
DESCRIPTION:The 10th Asian Conference on Machine Learning
URL:http://www.wikicfp.com/cfp/servlet/event.showcfp?eventid=71200&copyow
 nerid=113279
UID:cfp719729-N@wikicfp.com
END:VEVENT
BEGIN:VEVENT
DTSTAMP:20260422T100645Z
DTSTART;VALUE=DATE:20181005
SUMMARY:ACML 2018 Final Version Due
DESCRIPTION:The 10th Asian Conference on Machine Learning
URL:http://www.wikicfp.com/cfp/servlet/event.showcfp?eventid=71200&copyow
 nerid=113279
UID:cfp719729-N@wikicfp.com
END:VEVENT
BEGIN:VEVENT
DTSTAMP:20260422T100645Z
DTSTART;VALUE=DATE:20180928
DTEND;VALUE=DATE:20181001
SUMMARY:MLMI--Ei Compendex\, Scopus 2018
DESCRIPTION:ACM--2018 International Conference on Machine Learning and Ma
 chine Intelligence (MLMI 2018)--Ei Compendex\, Scopus
URL:http://www.wikicfp.com/cfp/servlet/event.showcfp?eventid=71695&copyow
 nerid=113279
UID:cfp719726-E@wikicfp.com
END:VEVENT
BEGIN:VEVENT
DTSTAMP:20260422T100645Z
DTSTART;VALUE=DATE:20180805
SUMMARY:MLMI--Ei Compendex\, Scopus 2018 Deadline
DESCRIPTION:ACM--2018 International Conference on Machine Learning and Ma
 chine Intelligence (MLMI 2018)--Ei Compendex\, Scopus
URL:http://www.wikicfp.com/cfp/servlet/event.showcfp?eventid=71695&copyow
 nerid=113279
UID:cfp719726-D@wikicfp.com
END:VEVENT
END:VCALENDAR
