BEGIN:VCALENDAR
PRODID:-//WikiCFP//ealkayal 1.0//EN
VERSION:2.0
CALSCALE:GREGORIAN
BEGIN:VEVENT
DTSTAMP:20260420T033434Z
DTSTART;VALUE=DATE:20180219
DTEND;VALUE=DATE:20180222
SUMMARY:ITCE 2018
DESCRIPTION:The International Conference on Innovative Trends in Computer
  Engineering
URL:http://www.wikicfp.com/cfp/servlet/event.showcfp?eventid=66348&copyow
 nerid=113249
UID:cfp719698-E@wikicfp.com
END:VEVENT
BEGIN:VEVENT
DTSTAMP:20260420T033434Z
DTSTART;VALUE=DATE:20170815
SUMMARY:ITCE 2018 Deadline
DESCRIPTION:The International Conference on Innovative Trends in Computer
  Engineering
URL:http://www.wikicfp.com/cfp/servlet/event.showcfp?eventid=66348&copyow
 nerid=113249
UID:cfp719698-D@wikicfp.com
END:VEVENT
BEGIN:VEVENT
DTSTAMP:20260420T033434Z
DTSTART;VALUE=DATE:20171015
SUMMARY:ITCE 2018 Notification Due
DESCRIPTION:The International Conference on Innovative Trends in Computer
  Engineering
URL:http://www.wikicfp.com/cfp/servlet/event.showcfp?eventid=66348&copyow
 nerid=113249
UID:cfp719698-N@wikicfp.com
END:VEVENT
BEGIN:VEVENT
DTSTAMP:20260420T033434Z
DTSTART;VALUE=DATE:20171215
SUMMARY:ITCE 2018 Final Version Due
DESCRIPTION:The International Conference on Innovative Trends in Computer
  Engineering
URL:http://www.wikicfp.com/cfp/servlet/event.showcfp?eventid=66348&copyow
 nerid=113249
UID:cfp719698-N@wikicfp.com
END:VEVENT
BEGIN:VEVENT
DTSTAMP:20260420T033434Z
DTSTART;VALUE=DATE:20180503
DTEND;VALUE=DATE:20180506
SUMMARY:ICCTA--Ei Compendex and Scopus 2018
DESCRIPTION:2018 4th International Conference on Computer and Technology 
 Applications (ICCTA 2018)--EI Compendex and Scopus
URL:http://www.wikicfp.com/cfp/servlet/event.showcfp?eventid=67967&copyow
 nerid=113249
UID:cfp719702-E@wikicfp.com
END:VEVENT
BEGIN:VEVENT
DTSTAMP:20260420T033434Z
DTSTART;VALUE=DATE:20180410
SUMMARY:ICCTA--Ei Compendex and Scopus 2018 Deadline
DESCRIPTION:2018 4th International Conference on Computer and Technology 
 Applications (ICCTA 2018)--EI Compendex and Scopus
URL:http://www.wikicfp.com/cfp/servlet/event.showcfp?eventid=67967&copyow
 nerid=113249
UID:cfp719702-D@wikicfp.com
END:VEVENT
BEGIN:VEVENT
DTSTAMP:20260420T033434Z
DTSTART;VALUE=DATE:20180628
DTEND;VALUE=DATE:20180701
SUMMARY:WCSE--Scopus & Ei Compendex 2018
DESCRIPTION:2018 the 8th International Workshop on Computer Science and E
 ngineering (WCSE 2018)--Scopus & Ei Compendex
URL:http://www.wikicfp.com/cfp/servlet/event.showcfp?eventid=69472&copyow
 nerid=113249
UID:cfp719697-E@wikicfp.com
END:VEVENT
BEGIN:VEVENT
DTSTAMP:20260420T033434Z
DTSTART;VALUE=DATE:20180430
SUMMARY:WCSE--Scopus & Ei Compendex 2018 Deadline
DESCRIPTION:2018 the 8th International Workshop on Computer Science and E
 ngineering (WCSE 2018)--Scopus & Ei Compendex
URL:http://www.wikicfp.com/cfp/servlet/event.showcfp?eventid=69472&copyow
 nerid=113249
UID:cfp719697-D@wikicfp.com
END:VEVENT
BEGIN:VEVENT
DTSTAMP:20260420T033434Z
DTSTART;VALUE=DATE:20180727
DTEND;VALUE=DATE:20180728
SUMMARY:ApPLIED  2018
DESCRIPTION:ApPLIED 2018: Advanced tools\, programming languages\, and PL
 atforms for Implementing and Evaluating algorithms for Distributed syste
 ms
URL:http://www.wikicfp.com/cfp/servlet/event.showcfp?eventid=74861&copyow
 nerid=113249
UID:cfp719701-E@wikicfp.com
END:VEVENT
BEGIN:VEVENT
DTSTAMP:20260420T033434Z
DTSTART;VALUE=DATE:20180513
SUMMARY:ApPLIED  2018 Deadline
DESCRIPTION:ApPLIED 2018: Advanced tools\, programming languages\, and PL
 atforms for Implementing and Evaluating algorithms for Distributed syste
 ms
URL:http://www.wikicfp.com/cfp/servlet/event.showcfp?eventid=74861&copyow
 nerid=113249
UID:cfp719701-D@wikicfp.com
END:VEVENT
BEGIN:VEVENT
DTSTAMP:20260420T033434Z
DTSTART;VALUE=DATE:20180606
SUMMARY:ApPLIED  2018 Notification Due
DESCRIPTION:ApPLIED 2018: Advanced tools\, programming languages\, and PL
 atforms for Implementing and Evaluating algorithms for Distributed syste
 ms
URL:http://www.wikicfp.com/cfp/servlet/event.showcfp?eventid=74861&copyow
 nerid=113249
UID:cfp719701-N@wikicfp.com
END:VEVENT
BEGIN:VEVENT
DTSTAMP:20260420T033434Z
DTSTART;VALUE=DATE:20180618
SUMMARY:ApPLIED  2018 Final Version Due
DESCRIPTION:ApPLIED 2018: Advanced tools\, programming languages\, and PL
 atforms for Implementing and Evaluating algorithms for Distributed syste
 ms
URL:http://www.wikicfp.com/cfp/servlet/event.showcfp?eventid=74861&copyow
 nerid=113249
UID:cfp719701-N@wikicfp.com
END:VEVENT
BEGIN:VEVENT
DTSTAMP:20260420T033434Z
DTSTART;VALUE=DATE:20181102
DTEND;VALUE=DATE:20181105
SUMMARY:ICCNS--Ei and Scopus 2018
DESCRIPTION:2018 the 8th International Conference on Communication and Ne
 twork Security (ICCNS 2018)--Ei Compendex and Scopus
URL:http://www.wikicfp.com/cfp/servlet/event.showcfp?eventid=74813&copyow
 nerid=113249
UID:cfp719700-E@wikicfp.com
END:VEVENT
BEGIN:VEVENT
DTSTAMP:20260420T033434Z
DTSTART;VALUE=DATE:20180925
SUMMARY:ICCNS--Ei and Scopus 2018 Deadline
DESCRIPTION:2018 the 8th International Conference on Communication and Ne
 twork Security (ICCNS 2018)--Ei Compendex and Scopus
URL:http://www.wikicfp.com/cfp/servlet/event.showcfp?eventid=74813&copyow
 nerid=113249
UID:cfp719700-D@wikicfp.com
END:VEVENT
BEGIN:VEVENT
DTSTAMP:20260420T033434Z
DTSTART;VALUE=DATE:20181208
DTEND;VALUE=DATE:20181211
SUMMARY:ACM--CSAI--Ei Compendex\, Scopus 2018
DESCRIPTION:ACM--2018 2nd International Conference on Computer Science an
 d Artificial Intelligence (CSAI 2018)--Ei Compendex\, Scopus
URL:http://www.wikicfp.com/cfp/servlet/event.showcfp?eventid=74815&copyow
 nerid=113249
UID:cfp719699-E@wikicfp.com
END:VEVENT
BEGIN:VEVENT
DTSTAMP:20260420T033434Z
DTSTART;VALUE=DATE:20181015
SUMMARY:ACM--CSAI--Ei Compendex\, Scopus 2018 Deadline
DESCRIPTION:ACM--2018 2nd International Conference on Computer Science an
 d Artificial Intelligence (CSAI 2018)--Ei Compendex\, Scopus
URL:http://www.wikicfp.com/cfp/servlet/event.showcfp?eventid=74815&copyow
 nerid=113249
UID:cfp719699-D@wikicfp.com
END:VEVENT
BEGIN:VEVENT
DTSTAMP:20260420T033434Z
DTSTART;VALUE=DATE:20181221
DTEND;VALUE=DATE:20181223
SUMMARY:ICSTR 2018
DESCRIPTION: ICSTR Bangkok â International Conference on Science & Tech
 nology Research\, 21-22 December\, 2018
URL:http://www.wikicfp.com/cfp/servlet/event.showcfp?eventid=72583&copyow
 nerid=113249
UID:cfp719695-E@wikicfp.com
END:VEVENT
BEGIN:VEVENT
DTSTAMP:20260420T033434Z
DTSTART;VALUE=DATE:20181220
SUMMARY:ICSTR 2018 Deadline
DESCRIPTION: ICSTR Bangkok â International Conference on Science & Tech
 nology Research\, 21-22 December\, 2018
URL:http://www.wikicfp.com/cfp/servlet/event.showcfp?eventid=72583&copyow
 nerid=113249
UID:cfp719695-D@wikicfp.com
END:VEVENT
BEGIN:VEVENT
DTSTAMP:20260420T033434Z
DTSTART;VALUE=DATE:20181220
SUMMARY:ICSTR 2018 Notification Due
DESCRIPTION: ICSTR Bangkok â International Conference on Science & Tech
 nology Research\, 21-22 December\, 2018
URL:http://www.wikicfp.com/cfp/servlet/event.showcfp?eventid=72583&copyow
 nerid=113249
UID:cfp719695-N@wikicfp.com
END:VEVENT
BEGIN:VEVENT
DTSTAMP:20260420T033434Z
DTSTART;VALUE=DATE:20181220
SUMMARY:ICSTR 2018 Final Version Due
DESCRIPTION: ICSTR Bangkok â International Conference on Science & Tech
 nology Research\, 21-22 December\, 2018
URL:http://www.wikicfp.com/cfp/servlet/event.showcfp?eventid=72583&copyow
 nerid=113249
UID:cfp719695-N@wikicfp.com
END:VEVENT
BEGIN:VEVENT
DTSTAMP:20260420T033434Z
DTSTART;VALUE=DATE:20191206
DTEND;VALUE=DATE:20191210
SUMMARY:SSCI 2019
DESCRIPTION:The 2019 IEEE Symposium Series on Computational Intelligence
URL:http://www.wikicfp.com/cfp/servlet/event.showcfp?eventid=73721&copyow
 nerid=113249
UID:cfp719696-E@wikicfp.com
END:VEVENT
BEGIN:VEVENT
DTSTAMP:20260420T033434Z
DTSTART;VALUE=DATE:20190801
SUMMARY:SSCI 2019 Deadline
DESCRIPTION:The 2019 IEEE Symposium Series on Computational Intelligence
URL:http://www.wikicfp.com/cfp/servlet/event.showcfp?eventid=73721&copyow
 nerid=113249
UID:cfp719696-D@wikicfp.com
END:VEVENT
BEGIN:VEVENT
DTSTAMP:20260420T033434Z
DTSTART;VALUE=DATE:20190901
SUMMARY:SSCI 2019 Notification Due
DESCRIPTION:The 2019 IEEE Symposium Series on Computational Intelligence
URL:http://www.wikicfp.com/cfp/servlet/event.showcfp?eventid=73721&copyow
 nerid=113249
UID:cfp719696-N@wikicfp.com
END:VEVENT
BEGIN:VEVENT
DTSTAMP:20260420T033434Z
DTSTART;VALUE=DATE:20191001
SUMMARY:SSCI 2019 Final Version Due
DESCRIPTION:The 2019 IEEE Symposium Series on Computational Intelligence
URL:http://www.wikicfp.com/cfp/servlet/event.showcfp?eventid=73721&copyow
 nerid=113249
UID:cfp719696-N@wikicfp.com
END:VEVENT
END:VCALENDAR
