BEGIN:VCALENDAR
PRODID:-//WikiCFP//emorshdy 1.0//EN
VERSION:2.0
CALSCALE:GREGORIAN
BEGIN:VEVENT
DTSTAMP:20260426T025548Z
DTSTART;VALUE=DATE:20101010
DTEND;VALUE=DATE:20101018
SUMMARY:SPLASH (OOPSLA) 2010
DESCRIPTION:Systems\, Programming\, Languages\, and Applications: Softwar
 e for Humanity.
URL:http://www.wikicfp.com/cfp/servlet/event.showcfp?eventid=8220&copyown
 erid=11306
UID:cfp82631-E@wikicfp.com
END:VEVENT
BEGIN:VEVENT
DTSTAMP:20260426T025548Z
DTSTART;VALUE=DATE:20100325
SUMMARY:SPLASH (OOPSLA) 2010 Deadline
DESCRIPTION:Systems\, Programming\, Languages\, and Applications: Softwar
 e for Humanity.
URL:http://www.wikicfp.com/cfp/servlet/event.showcfp?eventid=8220&copyown
 erid=11306
UID:cfp82631-D@wikicfp.com
END:VEVENT
BEGIN:VEVENT
DTSTAMP:20260426T025548Z
DTSTART;VALUE=DATE:20100524
SUMMARY:SPLASH (OOPSLA) 2010 Notification Due
DESCRIPTION:Systems\, Programming\, Languages\, and Applications: Softwar
 e for Humanity.
URL:http://www.wikicfp.com/cfp/servlet/event.showcfp?eventid=8220&copyown
 erid=11306
UID:cfp82631-N@wikicfp.com
END:VEVENT
END:VCALENDAR
