BEGIN:VCALENDAR
PRODID:-//WikiCFP//saeedidrees 1.0//EN
VERSION:2.0
CALSCALE:GREGORIAN
BEGIN:VEVENT
DTSTAMP:20260422T225650Z
DTSTART;VALUE=DATE:20160710
DTEND;VALUE=DATE:20160716
SUMMARY:IGARSS 2016
DESCRIPTION:2016 IEEE International Conference on Geoscience and Remote S
 ensing 
URL:http://www.wikicfp.com/cfp/servlet/event.showcfp?eventid=48553&copyow
 nerid=11305
UID:cfp585626-E@wikicfp.com
END:VEVENT
BEGIN:VEVENT
DTSTAMP:20260422T225650Z
DTSTART;VALUE=DATE:20160108
SUMMARY:IGARSS 2016 Deadline
DESCRIPTION:2016 IEEE International Conference on Geoscience and Remote S
 ensing 
URL:http://www.wikicfp.com/cfp/servlet/event.showcfp?eventid=48553&copyow
 nerid=11305
UID:cfp585626-D@wikicfp.com
END:VEVENT
BEGIN:VEVENT
DTSTAMP:20260422T225650Z
DTSTART;VALUE=DATE:20160408
SUMMARY:IGARSS 2016 Notification Due
DESCRIPTION:2016 IEEE International Conference on Geoscience and Remote S
 ensing 
URL:http://www.wikicfp.com/cfp/servlet/event.showcfp?eventid=48553&copyow
 nerid=11305
UID:cfp585626-N@wikicfp.com
END:VEVENT
BEGIN:VEVENT
DTSTAMP:20260422T225650Z
DTSTART;VALUE=DATE:20160520
SUMMARY:IGARSS 2016 Final Version Due
DESCRIPTION:2016 IEEE International Conference on Geoscience and Remote S
 ensing 
URL:http://www.wikicfp.com/cfp/servlet/event.showcfp?eventid=48553&copyow
 nerid=11305
UID:cfp585626-N@wikicfp.com
END:VEVENT
BEGIN:VEVENT
DTSTAMP:20260422T225650Z
DTSTART;VALUE=DATE:20160601
SUMMARY:MLRSIP 2016 Deadline
DESCRIPTION:Special Issue: Machine Learning Methods for Remote Sensing Im
 age Processing (SCI Index)
URL:http://www.wikicfp.com/cfp/servlet/event.showcfp?eventid=51189&copyow
 nerid=11305
UID:cfp585627-D@wikicfp.com
END:VEVENT
BEGIN:VEVENT
DTSTAMP:20260422T225650Z
DTSTART;VALUE=DATE:20160901
SUMMARY:MLRSIP 2016 Notification Due
DESCRIPTION:Special Issue: Machine Learning Methods for Remote Sensing Im
 age Processing (SCI Index)
URL:http://www.wikicfp.com/cfp/servlet/event.showcfp?eventid=51189&copyow
 nerid=11305
UID:cfp585627-N@wikicfp.com
END:VEVENT
END:VCALENDAR
