BEGIN:VCALENDAR
PRODID:-//WikiCFP//mira_bs 1.0//EN
VERSION:2.0
CALSCALE:GREGORIAN
BEGIN:VEVENT
DTSTAMP:20260420T234915Z
DTSTART;VALUE=DATE:20181217
DTEND;VALUE=DATE:20181221
SUMMARY:IEEE ICMLA 2018
DESCRIPTION:17th IEEE International Conference On Machine Learning And Ap
 plications
URL:http://www.wikicfp.com/cfp/servlet/event.showcfp?eventid=69798&copyow
 nerid=112903
UID:cfp719022-E@wikicfp.com
END:VEVENT
BEGIN:VEVENT
DTSTAMP:20260420T234915Z
DTSTART;VALUE=DATE:20180823
DTEND;VALUE=DATE:20180824
SUMMARY:ICMLB 2018
DESCRIPTION:International Conference on Machine Learning and Big Data 201
 8
URL:http://www.wikicfp.com/cfp/servlet/event.showcfp?eventid=72074&copyow
 nerid=112903
UID:cfp719021-E@wikicfp.com
END:VEVENT
BEGIN:VEVENT
DTSTAMP:20260420T234915Z
DTSTART;VALUE=DATE:20180723
SUMMARY:ICMLB 2018 Abstract Due
DESCRIPTION:International Conference on Machine Learning and Big Data 201
 8
URL:http://www.wikicfp.com/cfp/servlet/event.showcfp?eventid=72074&copyow
 nerid=112903
UID:cfp719021-A@wikicfp.com
END:VEVENT
BEGIN:VEVENT
DTSTAMP:20260420T234915Z
DTSTART;VALUE=DATE:20180623
SUMMARY:ICMLB 2018 Deadline
DESCRIPTION:International Conference on Machine Learning and Big Data 201
 8
URL:http://www.wikicfp.com/cfp/servlet/event.showcfp?eventid=72074&copyow
 nerid=112903
UID:cfp719021-D@wikicfp.com
END:VEVENT
BEGIN:VEVENT
DTSTAMP:20260420T234915Z
DTSTART;VALUE=DATE:20180702
SUMMARY:ICMLB 2018 Notification Due
DESCRIPTION:International Conference on Machine Learning and Big Data 201
 8
URL:http://www.wikicfp.com/cfp/servlet/event.showcfp?eventid=72074&copyow
 nerid=112903
UID:cfp719021-N@wikicfp.com
END:VEVENT
BEGIN:VEVENT
DTSTAMP:20260420T234915Z
DTSTART;VALUE=DATE:20180810
SUMMARY:ICMLB 2018 Final Version Due
DESCRIPTION:International Conference on Machine Learning and Big Data 201
 8
URL:http://www.wikicfp.com/cfp/servlet/event.showcfp?eventid=72074&copyow
 nerid=112903
UID:cfp719021-N@wikicfp.com
END:VEVENT
END:VCALENDAR
