BEGIN:VCALENDAR
PRODID:-//WikiCFP//ERM 1.0//EN
VERSION:2.0
CALSCALE:GREGORIAN
BEGIN:VEVENT
DTSTAMP:20260421T105909Z
DTSTART;VALUE=DATE:20181009
DTEND;VALUE=DATE:20181013
SUMMARY:ICOM ICME 2018
DESCRIPTION:Reâimagining the Museum in the Global Contemporary  ICOMâ
 ICME 51st Annual Conference 2018 
URL:http://www.wikicfp.com/cfp/servlet/event.showcfp?eventid=74791&copyow
 nerid=112888
UID:cfp719009-E@wikicfp.com
END:VEVENT
BEGIN:VEVENT
DTSTAMP:20260421T105909Z
DTSTART;VALUE=DATE:20180420
SUMMARY:ICOM ICME 2018 Deadline
DESCRIPTION:Reâimagining the Museum in the Global Contemporary  ICOMâ
 ICME 51st Annual Conference 2018 
URL:http://www.wikicfp.com/cfp/servlet/event.showcfp?eventid=74791&copyow
 nerid=112888
UID:cfp719009-D@wikicfp.com
END:VEVENT
BEGIN:VEVENT
DTSTAMP:20260421T105909Z
DTSTART;VALUE=DATE:20180510
SUMMARY:ICOM ICME 2018 Notification Due
DESCRIPTION:Reâimagining the Museum in the Global Contemporary  ICOMâ
 ICME 51st Annual Conference 2018 
URL:http://www.wikicfp.com/cfp/servlet/event.showcfp?eventid=74791&copyow
 nerid=112888
UID:cfp719009-N@wikicfp.com
END:VEVENT
END:VCALENDAR
