BEGIN:VCALENDAR
PRODID:-//WikiCFP//steghoja 1.0//EN
VERSION:2.0
CALSCALE:GREGORIAN
BEGIN:VEVENT
DTSTAMP:20260424T041402Z
DTSTART;VALUE=DATE:20100817
DTEND;VALUE=DATE:20100820
SUMMARY:PST 2010
DESCRIPTION:Eight International Conference on Privacy\, Security and Trus
 t
URL:http://www.wikicfp.com/cfp/servlet/event.showcfp?eventid=7447&copyown
 erid=11227
UID:cfp82240-E@wikicfp.com
END:VEVENT
BEGIN:VEVENT
DTSTAMP:20260424T041402Z
DTSTART;VALUE=DATE:20100403
SUMMARY:PST 2010 Deadline
DESCRIPTION:Eight International Conference on Privacy\, Security and Trus
 t
URL:http://www.wikicfp.com/cfp/servlet/event.showcfp?eventid=7447&copyown
 erid=11227
UID:cfp82240-D@wikicfp.com
END:VEVENT
BEGIN:VEVENT
DTSTAMP:20260424T041402Z
DTSTART;VALUE=DATE:20100529
SUMMARY:PST 2010 Notification Due
DESCRIPTION:Eight International Conference on Privacy\, Security and Trus
 t
URL:http://www.wikicfp.com/cfp/servlet/event.showcfp?eventid=7447&copyown
 erid=11227
UID:cfp82240-N@wikicfp.com
END:VEVENT
BEGIN:VEVENT
DTSTAMP:20260424T041402Z
DTSTART;VALUE=DATE:20100626
SUMMARY:PST 2010 Final Version Due
DESCRIPTION:Eight International Conference on Privacy\, Security and Trus
 t
URL:http://www.wikicfp.com/cfp/servlet/event.showcfp?eventid=7447&copyown
 erid=11227
UID:cfp82240-N@wikicfp.com
END:VEVENT
BEGIN:VEVENT
DTSTAMP:20260424T041402Z
DTSTART;VALUE=DATE:20100927
DTEND;VALUE=DATE:20101002
SUMMARY:SASO 2010
DESCRIPTION:Fourth IEEE International Conference on Self-Adaptive and Sel
 f-Organizing Systems
URL:http://www.wikicfp.com/cfp/servlet/event.showcfp?eventid=8098&copyown
 erid=11227
UID:cfp82239-E@wikicfp.com
END:VEVENT
BEGIN:VEVENT
DTSTAMP:20260424T041402Z
DTSTART;VALUE=DATE:20100419
SUMMARY:SASO 2010 Abstract Due
DESCRIPTION:Fourth IEEE International Conference on Self-Adaptive and Sel
 f-Organizing Systems
URL:http://www.wikicfp.com/cfp/servlet/event.showcfp?eventid=8098&copyown
 erid=11227
UID:cfp82239-A@wikicfp.com
END:VEVENT
BEGIN:VEVENT
DTSTAMP:20260424T041402Z
DTSTART;VALUE=DATE:20100426
SUMMARY:SASO 2010 Deadline
DESCRIPTION:Fourth IEEE International Conference on Self-Adaptive and Sel
 f-Organizing Systems
URL:http://www.wikicfp.com/cfp/servlet/event.showcfp?eventid=8098&copyown
 erid=11227
UID:cfp82239-D@wikicfp.com
END:VEVENT
BEGIN:VEVENT
DTSTAMP:20260424T041402Z
DTSTART;VALUE=DATE:20101026
DTEND;VALUE=DATE:20101030
SUMMARY:ATC 2010
DESCRIPTION:The 7th International Conference on Autonomic and Trusted Com
 puting
URL:http://www.wikicfp.com/cfp/servlet/event.showcfp?eventid=7459&copyown
 erid=11227
UID:cfp82238-E@wikicfp.com
END:VEVENT
BEGIN:VEVENT
DTSTAMP:20260424T041402Z
DTSTART;VALUE=DATE:20100430
SUMMARY:ATC 2010 Deadline
DESCRIPTION:The 7th International Conference on Autonomic and Trusted Com
 puting
URL:http://www.wikicfp.com/cfp/servlet/event.showcfp?eventid=7459&copyown
 erid=11227
UID:cfp82238-D@wikicfp.com
END:VEVENT
BEGIN:VEVENT
DTSTAMP:20260424T041402Z
DTSTART;VALUE=DATE:20100630
SUMMARY:ATC 2010 Notification Due
DESCRIPTION:The 7th International Conference on Autonomic and Trusted Com
 puting
URL:http://www.wikicfp.com/cfp/servlet/event.showcfp?eventid=7459&copyown
 erid=11227
UID:cfp82238-N@wikicfp.com
END:VEVENT
BEGIN:VEVENT
DTSTAMP:20260424T041402Z
DTSTART;VALUE=DATE:20100730
SUMMARY:ATC 2010 Final Version Due
DESCRIPTION:The 7th International Conference on Autonomic and Trusted Com
 puting
URL:http://www.wikicfp.com/cfp/servlet/event.showcfp?eventid=7459&copyown
 erid=11227
UID:cfp82238-N@wikicfp.com
END:VEVENT
BEGIN:VEVENT
DTSTAMP:20260424T041402Z
DTSTART;VALUE=DATE:20100928
DTEND;VALUE=DATE:20100929
SUMMARY:TSOS 2010
DESCRIPTION:Trustworthy Self-Organizing Systems
URL:http://www.wikicfp.com/cfp/servlet/event.showcfp?eventid=9480&copyown
 erid=11227
UID:cfp82237-E@wikicfp.com
END:VEVENT
BEGIN:VEVENT
DTSTAMP:20260424T041402Z
DTSTART;VALUE=DATE:20100712
SUMMARY:TSOS 2010 Deadline
DESCRIPTION:Trustworthy Self-Organizing Systems
URL:http://www.wikicfp.com/cfp/servlet/event.showcfp?eventid=9480&copyown
 erid=11227
UID:cfp82237-D@wikicfp.com
END:VEVENT
BEGIN:VEVENT
DTSTAMP:20260424T041402Z
DTSTART;VALUE=DATE:20100806
SUMMARY:TSOS 2010 Notification Due
DESCRIPTION:Trustworthy Self-Organizing Systems
URL:http://www.wikicfp.com/cfp/servlet/event.showcfp?eventid=9480&copyown
 erid=11227
UID:cfp82237-N@wikicfp.com
END:VEVENT
BEGIN:VEVENT
DTSTAMP:20260424T041402Z
DTSTART;VALUE=DATE:20100820
SUMMARY:TSOS 2010 Final Version Due
DESCRIPTION:Trustworthy Self-Organizing Systems
URL:http://www.wikicfp.com/cfp/servlet/event.showcfp?eventid=9480&copyown
 erid=11227
UID:cfp82237-N@wikicfp.com
END:VEVENT
BEGIN:VEVENT
DTSTAMP:20260424T041402Z
DTSTART;VALUE=DATE:20111003
DTEND;VALUE=DATE:20111004
SUMMARY:TSOS 2011
DESCRIPTION:2nd Workshop on Trustworthy Self-Organizing Systems
URL:http://www.wikicfp.com/cfp/servlet/event.showcfp?eventid=16067&copyow
 nerid=11227
UID:cfp168619-E@wikicfp.com
END:VEVENT
BEGIN:VEVENT
DTSTAMP:20260424T041402Z
DTSTART;VALUE=DATE:20110711
SUMMARY:TSOS 2011 Deadline
DESCRIPTION:2nd Workshop on Trustworthy Self-Organizing Systems
URL:http://www.wikicfp.com/cfp/servlet/event.showcfp?eventid=16067&copyow
 nerid=11227
UID:cfp168619-D@wikicfp.com
END:VEVENT
BEGIN:VEVENT
DTSTAMP:20260424T041402Z
DTSTART;VALUE=DATE:20110725
SUMMARY:TSOS 2011 Notification Due
DESCRIPTION:2nd Workshop on Trustworthy Self-Organizing Systems
URL:http://www.wikicfp.com/cfp/servlet/event.showcfp?eventid=16067&copyow
 nerid=11227
UID:cfp168619-N@wikicfp.com
END:VEVENT
BEGIN:VEVENT
DTSTAMP:20260424T041402Z
DTSTART;VALUE=DATE:20110825
SUMMARY:TSOS 2011 Final Version Due
DESCRIPTION:2nd Workshop on Trustworthy Self-Organizing Systems
URL:http://www.wikicfp.com/cfp/servlet/event.showcfp?eventid=16067&copyow
 nerid=11227
UID:cfp168619-N@wikicfp.com
END:VEVENT
BEGIN:VEVENT
DTSTAMP:20260424T041402Z
DTSTART;VALUE=DATE:20120716
DTEND;VALUE=DATE:20120717
SUMMARY:TSOS 2012
DESCRIPTION:3rd Workshop on Trustworthy Self-Organizing Systems
URL:http://www.wikicfp.com/cfp/servlet/event.showcfp?eventid=21775&copyow
 nerid=11227
UID:cfp248677-E@wikicfp.com
END:VEVENT
BEGIN:VEVENT
DTSTAMP:20260424T041402Z
DTSTART;VALUE=DATE:20120423
SUMMARY:TSOS 2012 Deadline
DESCRIPTION:3rd Workshop on Trustworthy Self-Organizing Systems
URL:http://www.wikicfp.com/cfp/servlet/event.showcfp?eventid=21775&copyow
 nerid=11227
UID:cfp248677-D@wikicfp.com
END:VEVENT
BEGIN:VEVENT
DTSTAMP:20260424T041402Z
DTSTART;VALUE=DATE:20120514
SUMMARY:TSOS 2012 Notification Due
DESCRIPTION:3rd Workshop on Trustworthy Self-Organizing Systems
URL:http://www.wikicfp.com/cfp/servlet/event.showcfp?eventid=21775&copyow
 nerid=11227
UID:cfp248677-N@wikicfp.com
END:VEVENT
BEGIN:VEVENT
DTSTAMP:20260424T041402Z
DTSTART;VALUE=DATE:20120521
SUMMARY:TSOS 2012 Final Version Due
DESCRIPTION:3rd Workshop on Trustworthy Self-Organizing Systems
URL:http://www.wikicfp.com/cfp/servlet/event.showcfp?eventid=21775&copyow
 nerid=11227
UID:cfp248677-N@wikicfp.com
END:VEVENT
BEGIN:VEVENT
DTSTAMP:20260424T041402Z
DTSTART;VALUE=DATE:20130710
DTEND;VALUE=DATE:20130713
SUMMARY:PST 2013
DESCRIPTION:11th annual Conference on Privacy\, Security and Trust (PST 2
 013)
URL:http://www.wikicfp.com/cfp/servlet/event.showcfp?eventid=27596&copyow
 nerid=11227
UID:cfp320609-E@wikicfp.com
END:VEVENT
BEGIN:VEVENT
DTSTAMP:20260424T041402Z
DTSTART;VALUE=DATE:20130317
SUMMARY:PST 2013 Deadline
DESCRIPTION:11th annual Conference on Privacy\, Security and Trust (PST 2
 013)
URL:http://www.wikicfp.com/cfp/servlet/event.showcfp?eventid=27596&copyow
 nerid=11227
UID:cfp320609-D@wikicfp.com
END:VEVENT
BEGIN:VEVENT
DTSTAMP:20260424T041402Z
DTSTART;VALUE=DATE:20130510
SUMMARY:PST 2013 Notification Due
DESCRIPTION:11th annual Conference on Privacy\, Security and Trust (PST 2
 013)
URL:http://www.wikicfp.com/cfp/servlet/event.showcfp?eventid=27596&copyow
 nerid=11227
UID:cfp320609-N@wikicfp.com
END:VEVENT
BEGIN:VEVENT
DTSTAMP:20260424T041402Z
DTSTART;VALUE=DATE:20130609
SUMMARY:PST 2013 Final Version Due
DESCRIPTION:11th annual Conference on Privacy\, Security and Trust (PST 2
 013)
URL:http://www.wikicfp.com/cfp/servlet/event.showcfp?eventid=27596&copyow
 nerid=11227
UID:cfp320609-N@wikicfp.com
END:VEVENT
BEGIN:VEVENT
DTSTAMP:20260424T041402Z
DTSTART;VALUE=DATE:20130909
DTEND;VALUE=DATE:20130910
SUMMARY:TSOS 2013
DESCRIPTION:4th Workshop on Trustworthy Self-Organizing and Autonomous Sy
 stems
URL:http://www.wikicfp.com/cfp/servlet/event.showcfp?eventid=30193&copyow
 nerid=11227
UID:cfp350879-E@wikicfp.com
END:VEVENT
BEGIN:VEVENT
DTSTAMP:20260424T041402Z
DTSTART;VALUE=DATE:20130711
SUMMARY:TSOS 2013 Deadline
DESCRIPTION:4th Workshop on Trustworthy Self-Organizing and Autonomous Sy
 stems
URL:http://www.wikicfp.com/cfp/servlet/event.showcfp?eventid=30193&copyow
 nerid=11227
UID:cfp350879-D@wikicfp.com
END:VEVENT
BEGIN:VEVENT
DTSTAMP:20260424T041402Z
DTSTART;VALUE=DATE:20130725
SUMMARY:TSOS 2013 Notification Due
DESCRIPTION:4th Workshop on Trustworthy Self-Organizing and Autonomous Sy
 stems
URL:http://www.wikicfp.com/cfp/servlet/event.showcfp?eventid=30193&copyow
 nerid=11227
UID:cfp350879-N@wikicfp.com
END:VEVENT
BEGIN:VEVENT
DTSTAMP:20260424T041402Z
DTSTART;VALUE=DATE:20130814
SUMMARY:TSOS 2013 Final Version Due
DESCRIPTION:4th Workshop on Trustworthy Self-Organizing and Autonomous Sy
 stems
URL:http://www.wikicfp.com/cfp/servlet/event.showcfp?eventid=30193&copyow
 nerid=11227
UID:cfp350879-N@wikicfp.com
END:VEVENT
BEGIN:VEVENT
DTSTAMP:20260424T041402Z
DTSTART;VALUE=DATE:20160912
DTEND;VALUE=DATE:20160917
SUMMARY:SASO 2016
DESCRIPTION:IEEE International Conference on Self-Adaptive and Self-Organ
 izing Systems
URL:http://www.wikicfp.com/cfp/servlet/event.showcfp?eventid=51762&copyow
 nerid=11227
UID:cfp580695-E@wikicfp.com
END:VEVENT
BEGIN:VEVENT
DTSTAMP:20260424T041402Z
DTSTART;VALUE=DATE:20160513
SUMMARY:SASO 2016 Abstract Due
DESCRIPTION:IEEE International Conference on Self-Adaptive and Self-Organ
 izing Systems
URL:http://www.wikicfp.com/cfp/servlet/event.showcfp?eventid=51762&copyow
 nerid=11227
UID:cfp580695-A@wikicfp.com
END:VEVENT
BEGIN:VEVENT
DTSTAMP:20260424T041402Z
DTSTART;VALUE=DATE:20160523
SUMMARY:SASO 2016 Deadline
DESCRIPTION:IEEE International Conference on Self-Adaptive and Self-Organ
 izing Systems
URL:http://www.wikicfp.com/cfp/servlet/event.showcfp?eventid=51762&copyow
 nerid=11227
UID:cfp580695-D@wikicfp.com
END:VEVENT
BEGIN:VEVENT
DTSTAMP:20260424T041402Z
DTSTART;VALUE=DATE:20160623
SUMMARY:SASO 2016 Notification Due
DESCRIPTION:IEEE International Conference on Self-Adaptive and Self-Organ
 izing Systems
URL:http://www.wikicfp.com/cfp/servlet/event.showcfp?eventid=51762&copyow
 nerid=11227
UID:cfp580695-N@wikicfp.com
END:VEVENT
BEGIN:VEVENT
DTSTAMP:20260424T041402Z
DTSTART;VALUE=DATE:20160705
SUMMARY:SASO 2016 Final Version Due
DESCRIPTION:IEEE International Conference on Self-Adaptive and Self-Organ
 izing Systems
URL:http://www.wikicfp.com/cfp/servlet/event.showcfp?eventid=51762&copyow
 nerid=11227
UID:cfp580695-N@wikicfp.com
END:VEVENT
BEGIN:VEVENT
DTSTAMP:20260424T041402Z
DTSTART;VALUE=DATE:20170612
DTEND;VALUE=DATE:20170618
SUMMARY:IFIPTM 2017
DESCRIPTION:11th IFIP WG 11.11 International Conference on Trust Manageme
 nt\, GÃ¶teborg\, June 12-16\, 2017
URL:http://www.wikicfp.com/cfp/servlet/event.showcfp?eventid=58394&copyow
 nerid=11227
UID:cfp627699-E@wikicfp.com
END:VEVENT
BEGIN:VEVENT
DTSTAMP:20260424T041402Z
DTSTART;VALUE=DATE:20170130
SUMMARY:IFIPTM 2017 Deadline
DESCRIPTION:11th IFIP WG 11.11 International Conference on Trust Manageme
 nt\, GÃ¶teborg\, June 12-16\, 2017
URL:http://www.wikicfp.com/cfp/servlet/event.showcfp?eventid=58394&copyow
 nerid=11227
UID:cfp627699-D@wikicfp.com
END:VEVENT
BEGIN:VEVENT
DTSTAMP:20260424T041402Z
DTSTART;VALUE=DATE:20170306
SUMMARY:IFIPTM 2017 Notification Due
DESCRIPTION:11th IFIP WG 11.11 International Conference on Trust Manageme
 nt\, GÃ¶teborg\, June 12-16\, 2017
URL:http://www.wikicfp.com/cfp/servlet/event.showcfp?eventid=58394&copyow
 nerid=11227
UID:cfp627699-N@wikicfp.com
END:VEVENT
BEGIN:VEVENT
DTSTAMP:20260424T041402Z
DTSTART;VALUE=DATE:20170327
SUMMARY:IFIPTM 2017 Final Version Due
DESCRIPTION:11th IFIP WG 11.11 International Conference on Trust Manageme
 nt\, GÃ¶teborg\, June 12-16\, 2017
URL:http://www.wikicfp.com/cfp/servlet/event.showcfp?eventid=58394&copyow
 nerid=11227
UID:cfp627699-N@wikicfp.com
END:VEVENT
END:VCALENDAR
