BEGIN:VCALENDAR
PRODID:-//WikiCFP//fyt404181036 1.0//EN
VERSION:2.0
CALSCALE:GREGORIAN
BEGIN:VEVENT
DTSTAMP:20260421T023151Z
DTSTART;VALUE=DATE:20180621
DTEND;VALUE=DATE:20180623
SUMMARY:UF3 2018
DESCRIPTION:Urban Futures 3 Conference
URL:http://www.wikicfp.com/cfp/servlet/event.showcfp?eventid=73026&copyow
 nerid=112223
UID:cfp718150-E@wikicfp.com
END:VEVENT
BEGIN:VEVENT
DTSTAMP:20260421T023151Z
DTSTART;VALUE=DATE:20180402
SUMMARY:UF3 2018 Deadline
DESCRIPTION:Urban Futures 3 Conference
URL:http://www.wikicfp.com/cfp/servlet/event.showcfp?eventid=73026&copyow
 nerid=112223
UID:cfp718150-D@wikicfp.com
END:VEVENT
BEGIN:VEVENT
DTSTAMP:20260421T023151Z
DTSTART;VALUE=DATE:20180430
SUMMARY:UF3 2018 Notification Due
DESCRIPTION:Urban Futures 3 Conference
URL:http://www.wikicfp.com/cfp/servlet/event.showcfp?eventid=73026&copyow
 nerid=112223
UID:cfp718150-N@wikicfp.com
END:VEVENT
BEGIN:VEVENT
DTSTAMP:20260421T023151Z
DTSTART;VALUE=DATE:20180621
SUMMARY:UF3 2018 Final Version Due
DESCRIPTION:Urban Futures 3 Conference
URL:http://www.wikicfp.com/cfp/servlet/event.showcfp?eventid=73026&copyow
 nerid=112223
UID:cfp718150-N@wikicfp.com
END:VEVENT
BEGIN:VEVENT
DTSTAMP:20260421T023151Z
DTSTART;VALUE=DATE:20180817
DTEND;VALUE=DATE:20180818
SUMMARY:BTL 2018
DESCRIPTION:BETWEEN THE LINES: INTERNATIONAL CONFERENCE ON ARCHITECTURE A
 ND URBAN PLANNING
URL:http://www.wikicfp.com/cfp/servlet/event.showcfp?eventid=74296&copyow
 nerid=112223
UID:cfp718151-E@wikicfp.com
END:VEVENT
BEGIN:VEVENT
DTSTAMP:20260421T023151Z
DTSTART;VALUE=DATE:20180410
SUMMARY:BTL 2018 Deadline
DESCRIPTION:BETWEEN THE LINES: INTERNATIONAL CONFERENCE ON ARCHITECTURE A
 ND URBAN PLANNING
URL:http://www.wikicfp.com/cfp/servlet/event.showcfp?eventid=74296&copyow
 nerid=112223
UID:cfp718151-D@wikicfp.com
END:VEVENT
BEGIN:VEVENT
DTSTAMP:20260421T023151Z
DTSTART;VALUE=DATE:20180601
SUMMARY:BTL 2018 Final Version Due
DESCRIPTION:BETWEEN THE LINES: INTERNATIONAL CONFERENCE ON ARCHITECTURE A
 ND URBAN PLANNING
URL:http://www.wikicfp.com/cfp/servlet/event.showcfp?eventid=74296&copyow
 nerid=112223
UID:cfp718151-N@wikicfp.com
END:VEVENT
BEGIN:VEVENT
DTSTAMP:20260421T023151Z
DTSTART;VALUE=DATE:20180620
DTEND;VALUE=DATE:20180623
SUMMARY:ICEST--EI\, Scopus 2018
DESCRIPTION:2018 9th International Conference on Environmental Science an
 d Technology (ICEST 2018)--EI Compendex\, Scopus
URL:http://www.wikicfp.com/cfp/servlet/event.showcfp?eventid=68497&copyow
 nerid=112223
UID:cfp718152-E@wikicfp.com
END:VEVENT
BEGIN:VEVENT
DTSTAMP:20260421T023151Z
DTSTART;VALUE=DATE:20180505
SUMMARY:ICEST--EI\, Scopus 2018 Deadline
DESCRIPTION:2018 9th International Conference on Environmental Science an
 d Technology (ICEST 2018)--EI Compendex\, Scopus
URL:http://www.wikicfp.com/cfp/servlet/event.showcfp?eventid=68497&copyow
 nerid=112223
UID:cfp718152-D@wikicfp.com
END:VEVENT
BEGIN:VEVENT
DTSTAMP:20260421T023151Z
DTSTART;VALUE=DATE:20180710
DTEND;VALUE=DATE:20180713
SUMMARY:ICGET--EI Compendex\, Scopus 2018
DESCRIPTION:2018 3rd International Conference on Green Energy Technology 
 (ICGET 2018)--EI Compendex\, Scopus
URL:http://www.wikicfp.com/cfp/servlet/event.showcfp?eventid=70428&copyow
 nerid=112223
UID:cfp718154-E@wikicfp.com
END:VEVENT
BEGIN:VEVENT
DTSTAMP:20260421T023151Z
DTSTART;VALUE=DATE:20180525
SUMMARY:ICGET--EI Compendex\, Scopus 2018 Deadline
DESCRIPTION:2018 3rd International Conference on Green Energy Technology 
 (ICGET 2018)--EI Compendex\, Scopus
URL:http://www.wikicfp.com/cfp/servlet/event.showcfp?eventid=70428&copyow
 nerid=112223
UID:cfp718154-D@wikicfp.com
END:VEVENT
BEGIN:VEVENT
DTSTAMP:20260421T023151Z
DTSTART;VALUE=DATE:20190103
DTEND;VALUE=DATE:20190106
SUMMARY:IICSEEHawaii 2019
DESCRIPTION:The IAFOR International Conference on Sustainability\, Energy
  & the Environment â Hawaii 2019
URL:http://www.wikicfp.com/cfp/servlet/event.showcfp?eventid=73770&copyow
 nerid=112223
UID:cfp718149-E@wikicfp.com
END:VEVENT
BEGIN:VEVENT
DTSTAMP:20260421T023151Z
DTSTART;VALUE=DATE:20180821
SUMMARY:IICSEEHawaii 2019 Deadline
DESCRIPTION:The IAFOR International Conference on Sustainability\, Energy
  & the Environment â Hawaii 2019
URL:http://www.wikicfp.com/cfp/servlet/event.showcfp?eventid=73770&copyow
 nerid=112223
UID:cfp718149-D@wikicfp.com
END:VEVENT
BEGIN:VEVENT
DTSTAMP:20260421T023151Z
DTSTART;VALUE=DATE:20201011
DTEND;VALUE=DATE:20201014
SUMMARY:EI-IWoSR 2020
DESCRIPTION:2020 International Workshop on Service Robotics (IWoSR 2020)
URL:http://www.wikicfp.com/cfp/servlet/event.showcfp?eventid=70046&copyow
 nerid=112223
UID:cfp718155-E@wikicfp.com
END:VEVENT
BEGIN:VEVENT
DTSTAMP:20260421T023151Z
DTSTART;VALUE=DATE:20200531
SUMMARY:EI-IWoSR 2020 Deadline
DESCRIPTION:2020 International Workshop on Service Robotics (IWoSR 2020)
URL:http://www.wikicfp.com/cfp/servlet/event.showcfp?eventid=70046&copyow
 nerid=112223
UID:cfp718155-D@wikicfp.com
END:VEVENT
BEGIN:VEVENT
DTSTAMP:20260421T023151Z
DTSTART;VALUE=DATE:20200531
SUMMARY:EI-IWoSR 2020 Notification Due
DESCRIPTION:2020 International Workshop on Service Robotics (IWoSR 2020)
URL:http://www.wikicfp.com/cfp/servlet/event.showcfp?eventid=70046&copyow
 nerid=112223
UID:cfp718155-N@wikicfp.com
END:VEVENT
BEGIN:VEVENT
DTSTAMP:20260421T023151Z
DTSTART;VALUE=DATE:20200531
SUMMARY:EI-IWoSR 2020 Final Version Due
DESCRIPTION:2020 International Workshop on Service Robotics (IWoSR 2020)
URL:http://www.wikicfp.com/cfp/servlet/event.showcfp?eventid=70046&copyow
 nerid=112223
UID:cfp718155-N@wikicfp.com
END:VEVENT
BEGIN:VEVENT
DTSTAMP:20260421T023151Z
DTSTART;VALUE=DATE:20260420
SUMMARY:CiVEJ 2026 Deadline
DESCRIPTION:Civil Engineering and Urban Planning: An International Journa
 l 
URL:http://www.wikicfp.com/cfp/servlet/event.showcfp?eventid=65987&copyow
 nerid=112223
UID:cfp718156-D@wikicfp.com
END:VEVENT
BEGIN:VEVENT
DTSTAMP:20260421T023151Z
DTSTART;VALUE=DATE:20260519
SUMMARY:CiVEJ 2026 Notification Due
DESCRIPTION:Civil Engineering and Urban Planning: An International Journa
 l 
URL:http://www.wikicfp.com/cfp/servlet/event.showcfp?eventid=65987&copyow
 nerid=112223
UID:cfp718156-N@wikicfp.com
END:VEVENT
BEGIN:VEVENT
DTSTAMP:20260421T023151Z
DTSTART;VALUE=DATE:20260526
SUMMARY:CiVEJ 2026 Final Version Due
DESCRIPTION:Civil Engineering and Urban Planning: An International Journa
 l 
URL:http://www.wikicfp.com/cfp/servlet/event.showcfp?eventid=65987&copyow
 nerid=112223
UID:cfp718156-N@wikicfp.com
END:VEVENT
END:VCALENDAR
