BEGIN:VCALENDAR
PRODID:-//WikiCFP//j1989n 1.0//EN
VERSION:2.0
CALSCALE:GREGORIAN
BEGIN:VEVENT
DTSTAMP:20260422T093204Z
DTSTART;VALUE=DATE:20180921
DTEND;VALUE=DATE:20180923
SUMMARY:PCM 2018
DESCRIPTION:Pacific Rim Conference on Multimedia
URL:http://www.wikicfp.com/cfp/servlet/event.showcfp?eventid=71208&copyow
 nerid=111672
UID:cfp717368-E@wikicfp.com
END:VEVENT
BEGIN:VEVENT
DTSTAMP:20260422T093204Z
DTSTART;VALUE=DATE:20171022
DTEND;VALUE=DATE:20171030
SUMMARY:ICCV 2017
DESCRIPTION:International Conference on Computer Vision
URL:http://www.wikicfp.com/cfp/servlet/event.showcfp?eventid=57716&copyow
 nerid=111672
UID:cfp717359-E@wikicfp.com
END:VEVENT
BEGIN:VEVENT
DTSTAMP:20260422T093204Z
DTSTART;VALUE=DATE:20170317
SUMMARY:ICCV 2017 Deadline
DESCRIPTION:International Conference on Computer Vision
URL:http://www.wikicfp.com/cfp/servlet/event.showcfp?eventid=57716&copyow
 nerid=111672
UID:cfp717359-D@wikicfp.com
END:VEVENT
BEGIN:VEVENT
DTSTAMP:20260422T093204Z
DTSTART;VALUE=DATE:20170717
SUMMARY:ICCV 2017 Notification Due
DESCRIPTION:International Conference on Computer Vision
URL:http://www.wikicfp.com/cfp/servlet/event.showcfp?eventid=57716&copyow
 nerid=111672
UID:cfp717359-N@wikicfp.com
END:VEVENT
BEGIN:VEVENT
DTSTAMP:20260422T093204Z
DTSTART;VALUE=DATE:20170731
SUMMARY:ICCV 2017 Final Version Due
DESCRIPTION:International Conference on Computer Vision
URL:http://www.wikicfp.com/cfp/servlet/event.showcfp?eventid=57716&copyow
 nerid=111672
UID:cfp717359-N@wikicfp.com
END:VEVENT
BEGIN:VEVENT
DTSTAMP:20260422T093204Z
DTSTART;VALUE=DATE:20180202
DTEND;VALUE=DATE:20180208
SUMMARY:AAAI 2018
DESCRIPTION:The Thirty-Second AAAI Conference on Artificial Intelligence
URL:http://www.wikicfp.com/cfp/servlet/event.showcfp?eventid=63229&copyow
 nerid=111672
UID:cfp717357-E@wikicfp.com
END:VEVENT
BEGIN:VEVENT
DTSTAMP:20260422T093204Z
DTSTART;VALUE=DATE:20170908
SUMMARY:AAAI 2018 Abstract Due
DESCRIPTION:The Thirty-Second AAAI Conference on Artificial Intelligence
URL:http://www.wikicfp.com/cfp/servlet/event.showcfp?eventid=63229&copyow
 nerid=111672
UID:cfp717357-A@wikicfp.com
END:VEVENT
BEGIN:VEVENT
DTSTAMP:20260422T093204Z
DTSTART;VALUE=DATE:20170911
SUMMARY:AAAI 2018 Deadline
DESCRIPTION:The Thirty-Second AAAI Conference on Artificial Intelligence
URL:http://www.wikicfp.com/cfp/servlet/event.showcfp?eventid=63229&copyow
 nerid=111672
UID:cfp717357-D@wikicfp.com
END:VEVENT
BEGIN:VEVENT
DTSTAMP:20260422T093204Z
DTSTART;VALUE=DATE:20180521
DTEND;VALUE=DATE:20180526
SUMMARY:ICRA 2018
DESCRIPTION:The international confernce on robotics & automation
URL:http://www.wikicfp.com/cfp/servlet/event.showcfp?eventid=62173&copyow
 nerid=111672
UID:cfp717364-E@wikicfp.com
END:VEVENT
BEGIN:VEVENT
DTSTAMP:20260422T093204Z
DTSTART;VALUE=DATE:20170915
SUMMARY:ICRA 2018 Deadline
DESCRIPTION:The international confernce on robotics & automation
URL:http://www.wikicfp.com/cfp/servlet/event.showcfp?eventid=62173&copyow
 nerid=111672
UID:cfp717364-D@wikicfp.com
END:VEVENT
BEGIN:VEVENT
DTSTAMP:20260422T093204Z
DTSTART;VALUE=DATE:20180115
SUMMARY:ICRA 2018 Notification Due
DESCRIPTION:The international confernce on robotics & automation
URL:http://www.wikicfp.com/cfp/servlet/event.showcfp?eventid=62173&copyow
 nerid=111672
UID:cfp717364-N@wikicfp.com
END:VEVENT
BEGIN:VEVENT
DTSTAMP:20260422T093204Z
DTSTART;VALUE=DATE:20180225
SUMMARY:ICRA 2018 Final Version Due
DESCRIPTION:The international confernce on robotics & automation
URL:http://www.wikicfp.com/cfp/servlet/event.showcfp?eventid=62173&copyow
 nerid=111672
UID:cfp717364-N@wikicfp.com
END:VEVENT
BEGIN:VEVENT
DTSTAMP:20260422T093204Z
DTSTART;VALUE=DATE:20180618
DTEND;VALUE=DATE:20180623
SUMMARY:CVPR 2018
DESCRIPTION:Computer Vision and Pattern Recognition
URL:http://www.wikicfp.com/cfp/servlet/event.showcfp?eventid=67108&copyow
 nerid=111672
UID:cfp717355-E@wikicfp.com
END:VEVENT
BEGIN:VEVENT
DTSTAMP:20260422T093204Z
DTSTART;VALUE=DATE:20171108
SUMMARY:CVPR 2018 Abstract Due
DESCRIPTION:Computer Vision and Pattern Recognition
URL:http://www.wikicfp.com/cfp/servlet/event.showcfp?eventid=67108&copyow
 nerid=111672
UID:cfp717355-A@wikicfp.com
END:VEVENT
BEGIN:VEVENT
DTSTAMP:20260422T093204Z
DTSTART;VALUE=DATE:20171115
SUMMARY:CVPR 2018 Deadline
DESCRIPTION:Computer Vision and Pattern Recognition
URL:http://www.wikicfp.com/cfp/servlet/event.showcfp?eventid=67108&copyow
 nerid=111672
UID:cfp717355-D@wikicfp.com
END:VEVENT
BEGIN:VEVENT
DTSTAMP:20260422T093204Z
DTSTART;VALUE=DATE:20180228
SUMMARY:CVPR 2018 Notification Due
DESCRIPTION:Computer Vision and Pattern Recognition
URL:http://www.wikicfp.com/cfp/servlet/event.showcfp?eventid=67108&copyow
 nerid=111672
UID:cfp717355-N@wikicfp.com
END:VEVENT
BEGIN:VEVENT
DTSTAMP:20260422T093204Z
DTSTART;VALUE=DATE:20180723
DTEND;VALUE=DATE:20180728
SUMMARY:ICME 2018
DESCRIPTION:IEEE International Conference on Multimedia and Expo
URL:http://www.wikicfp.com/cfp/servlet/event.showcfp?eventid=68061&copyow
 nerid=111672
UID:cfp717362-E@wikicfp.com
END:VEVENT
BEGIN:VEVENT
DTSTAMP:20260422T093204Z
DTSTART;VALUE=DATE:20171124
SUMMARY:ICME 2018 Abstract Due
DESCRIPTION:IEEE International Conference on Multimedia and Expo
URL:http://www.wikicfp.com/cfp/servlet/event.showcfp?eventid=68061&copyow
 nerid=111672
UID:cfp717362-A@wikicfp.com
END:VEVENT
BEGIN:VEVENT
DTSTAMP:20260422T093204Z
DTSTART;VALUE=DATE:20171201
SUMMARY:ICME 2018 Deadline
DESCRIPTION:IEEE International Conference on Multimedia and Expo
URL:http://www.wikicfp.com/cfp/servlet/event.showcfp?eventid=68061&copyow
 nerid=111672
UID:cfp717362-D@wikicfp.com
END:VEVENT
BEGIN:VEVENT
DTSTAMP:20260422T093204Z
DTSTART;VALUE=DATE:20180312
SUMMARY:ICME 2018 Notification Due
DESCRIPTION:IEEE International Conference on Multimedia and Expo
URL:http://www.wikicfp.com/cfp/servlet/event.showcfp?eventid=68061&copyow
 nerid=111672
UID:cfp717362-N@wikicfp.com
END:VEVENT
BEGIN:VEVENT
DTSTAMP:20260422T093204Z
DTSTART;VALUE=DATE:20180413
SUMMARY:ICME 2018 Final Version Due
DESCRIPTION:IEEE International Conference on Multimedia and Expo
URL:http://www.wikicfp.com/cfp/servlet/event.showcfp?eventid=68061&copyow
 nerid=111672
UID:cfp717362-N@wikicfp.com
END:VEVENT
BEGIN:VEVENT
DTSTAMP:20260422T093204Z
DTSTART;VALUE=DATE:20180820
DTEND;VALUE=DATE:20180825
SUMMARY:ICPR 2018
DESCRIPTION:24th International Conference on Pattern Recognition
URL:http://www.wikicfp.com/cfp/servlet/event.showcfp?eventid=62174&copyow
 nerid=111672
UID:cfp717363-E@wikicfp.com
END:VEVENT
BEGIN:VEVENT
DTSTAMP:20260422T093204Z
DTSTART;VALUE=DATE:20180105
SUMMARY:ICPR 2018 Deadline
DESCRIPTION:24th International Conference on Pattern Recognition
URL:http://www.wikicfp.com/cfp/servlet/event.showcfp?eventid=62174&copyow
 nerid=111672
UID:cfp717363-D@wikicfp.com
END:VEVENT
BEGIN:VEVENT
DTSTAMP:20260422T093204Z
DTSTART;VALUE=DATE:20180405
SUMMARY:ICPR 2018 Notification Due
DESCRIPTION:24th International Conference on Pattern Recognition
URL:http://www.wikicfp.com/cfp/servlet/event.showcfp?eventid=62174&copyow
 nerid=111672
UID:cfp717363-N@wikicfp.com
END:VEVENT
BEGIN:VEVENT
DTSTAMP:20260422T093204Z
DTSTART;VALUE=DATE:20180520
SUMMARY:ICPR 2018 Final Version Due
DESCRIPTION:24th International Conference on Pattern Recognition
URL:http://www.wikicfp.com/cfp/servlet/event.showcfp?eventid=62174&copyow
 nerid=111672
UID:cfp717363-N@wikicfp.com
END:VEVENT
BEGIN:VEVENT
DTSTAMP:20260422T093204Z
DTSTART;VALUE=DATE:20180708
DTEND;VALUE=DATE:20180714
SUMMARY:IJCNN 2018
DESCRIPTION:International Joint Conference on Neural Networks
URL:http://www.wikicfp.com/cfp/servlet/event.showcfp?eventid=70804&copyow
 nerid=111672
UID:cfp717369-E@wikicfp.com
END:VEVENT
BEGIN:VEVENT
DTSTAMP:20260422T093204Z
DTSTART;VALUE=DATE:20180115
SUMMARY:IJCNN 2018 Deadline
DESCRIPTION:International Joint Conference on Neural Networks
URL:http://www.wikicfp.com/cfp/servlet/event.showcfp?eventid=70804&copyow
 nerid=111672
UID:cfp717369-D@wikicfp.com
END:VEVENT
BEGIN:VEVENT
DTSTAMP:20260422T093204Z
DTSTART;VALUE=DATE:20180315
SUMMARY:IJCNN 2018 Notification Due
DESCRIPTION:International Joint Conference on Neural Networks
URL:http://www.wikicfp.com/cfp/servlet/event.showcfp?eventid=70804&copyow
 nerid=111672
UID:cfp717369-N@wikicfp.com
END:VEVENT
BEGIN:VEVENT
DTSTAMP:20260422T093204Z
DTSTART;VALUE=DATE:20180501
SUMMARY:IJCNN 2018 Final Version Due
DESCRIPTION:International Joint Conference on Neural Networks
URL:http://www.wikicfp.com/cfp/servlet/event.showcfp?eventid=70804&copyow
 nerid=111672
UID:cfp717369-N@wikicfp.com
END:VEVENT
BEGIN:VEVENT
DTSTAMP:20260422T093204Z
DTSTART;VALUE=DATE:20180611
DTEND;VALUE=DATE:20180615
SUMMARY:ICMR 2018
DESCRIPTION:ACM International Conference on Multimedia Retrieval
URL:http://www.wikicfp.com/cfp/servlet/event.showcfp?eventid=68541&copyow
 nerid=111672
UID:cfp717361-E@wikicfp.com
END:VEVENT
BEGIN:VEVENT
DTSTAMP:20260422T093204Z
DTSTART;VALUE=DATE:20180120
SUMMARY:ICMR 2018 Deadline
DESCRIPTION:ACM International Conference on Multimedia Retrieval
URL:http://www.wikicfp.com/cfp/servlet/event.showcfp?eventid=68541&copyow
 nerid=111672
UID:cfp717361-D@wikicfp.com
END:VEVENT
BEGIN:VEVENT
DTSTAMP:20260422T093204Z
DTSTART;VALUE=DATE:20180330
SUMMARY:ICMR 2018 Notification Due
DESCRIPTION:ACM International Conference on Multimedia Retrieval
URL:http://www.wikicfp.com/cfp/servlet/event.showcfp?eventid=68541&copyow
 nerid=111672
UID:cfp717361-N@wikicfp.com
END:VEVENT
BEGIN:VEVENT
DTSTAMP:20260422T093204Z
DTSTART;VALUE=DATE:20180427
SUMMARY:ICMR 2018 Final Version Due
DESCRIPTION:ACM International Conference on Multimedia Retrieval
URL:http://www.wikicfp.com/cfp/servlet/event.showcfp?eventid=68541&copyow
 nerid=111672
UID:cfp717361-N@wikicfp.com
END:VEVENT
BEGIN:VEVENT
DTSTAMP:20260422T093204Z
DTSTART;VALUE=DATE:20180713
DTEND;VALUE=DATE:20180720
SUMMARY:IJCAI 2018
DESCRIPTION:International Joint Conferences on Artificial Intelligence Or
 ganization
URL:http://www.wikicfp.com/cfp/servlet/event.showcfp?eventid=68009&copyow
 nerid=111672
UID:cfp717365-E@wikicfp.com
END:VEVENT
BEGIN:VEVENT
DTSTAMP:20260422T093204Z
DTSTART;VALUE=DATE:20180125
SUMMARY:IJCAI 2018 Abstract Due
DESCRIPTION:International Joint Conferences on Artificial Intelligence Or
 ganization
URL:http://www.wikicfp.com/cfp/servlet/event.showcfp?eventid=68009&copyow
 nerid=111672
UID:cfp717365-A@wikicfp.com
END:VEVENT
BEGIN:VEVENT
DTSTAMP:20260422T093204Z
DTSTART;VALUE=DATE:20180131
SUMMARY:IJCAI 2018 Deadline
DESCRIPTION:International Joint Conferences on Artificial Intelligence Or
 ganization
URL:http://www.wikicfp.com/cfp/servlet/event.showcfp?eventid=68009&copyow
 nerid=111672
UID:cfp717365-D@wikicfp.com
END:VEVENT
BEGIN:VEVENT
DTSTAMP:20260422T093204Z
DTSTART;VALUE=DATE:20180416
SUMMARY:IJCAI 2018 Notification Due
DESCRIPTION:International Joint Conferences on Artificial Intelligence Or
 ganization
URL:http://www.wikicfp.com/cfp/servlet/event.showcfp?eventid=68009&copyow
 nerid=111672
UID:cfp717365-N@wikicfp.com
END:VEVENT
BEGIN:VEVENT
DTSTAMP:20260422T093204Z
DTSTART;VALUE=DATE:20180710
DTEND;VALUE=DATE:20180716
SUMMARY:ICML 2018
DESCRIPTION:The 35th International Conference on Machine Learning
URL:http://www.wikicfp.com/cfp/servlet/event.showcfp?eventid=67105&copyow
 nerid=111672
UID:cfp717360-E@wikicfp.com
END:VEVENT
BEGIN:VEVENT
DTSTAMP:20260422T093204Z
DTSTART;VALUE=DATE:20180209
SUMMARY:ICML 2018 Deadline
DESCRIPTION:The 35th International Conference on Machine Learning
URL:http://www.wikicfp.com/cfp/servlet/event.showcfp?eventid=67105&copyow
 nerid=111672
UID:cfp717360-D@wikicfp.com
END:VEVENT
BEGIN:VEVENT
DTSTAMP:20260422T093204Z
DTSTART;VALUE=DATE:20180908
DTEND;VALUE=DATE:20180915
SUMMARY:ECCV 2018
DESCRIPTION:European Conference on Computer Vision
URL:http://www.wikicfp.com/cfp/servlet/event.showcfp?eventid=58291&copyow
 nerid=111672
UID:cfp717353-E@wikicfp.com
END:VEVENT
BEGIN:VEVENT
DTSTAMP:20260422T093204Z
DTSTART;VALUE=DATE:20180314
SUMMARY:ECCV 2018 Deadline
DESCRIPTION:European Conference on Computer Vision
URL:http://www.wikicfp.com/cfp/servlet/event.showcfp?eventid=58291&copyow
 nerid=111672
UID:cfp717353-D@wikicfp.com
END:VEVENT
BEGIN:VEVENT
DTSTAMP:20260422T093204Z
DTSTART;VALUE=DATE:20180701
SUMMARY:ECCV 2018 Notification Due
DESCRIPTION:European Conference on Computer Vision
URL:http://www.wikicfp.com/cfp/servlet/event.showcfp?eventid=58291&copyow
 nerid=111672
UID:cfp717353-N@wikicfp.com
END:VEVENT
BEGIN:VEVENT
DTSTAMP:20260422T093204Z
DTSTART;VALUE=DATE:20180725
SUMMARY:ECCV 2018 Final Version Due
DESCRIPTION:European Conference on Computer Vision
URL:http://www.wikicfp.com/cfp/servlet/event.showcfp?eventid=58291&copyow
 nerid=111672
UID:cfp717353-N@wikicfp.com
END:VEVENT
BEGIN:VEVENT
DTSTAMP:20260422T093204Z
DTSTART;VALUE=DATE:20181022
DTEND;VALUE=DATE:20181027
SUMMARY:MM 2018
DESCRIPTION:ACM Multimedia
URL:http://www.wikicfp.com/cfp/servlet/event.showcfp?eventid=72970&copyow
 nerid=111672
UID:cfp717366-E@wikicfp.com
END:VEVENT
BEGIN:VEVENT
DTSTAMP:20260422T093204Z
DTSTART;VALUE=DATE:20180330
SUMMARY:MM 2018 Abstract Due
DESCRIPTION:ACM Multimedia
URL:http://www.wikicfp.com/cfp/servlet/event.showcfp?eventid=72970&copyow
 nerid=111672
UID:cfp717366-A@wikicfp.com
END:VEVENT
BEGIN:VEVENT
DTSTAMP:20260422T093204Z
DTSTART;VALUE=DATE:20180408
SUMMARY:MM 2018 Deadline
DESCRIPTION:ACM Multimedia
URL:http://www.wikicfp.com/cfp/servlet/event.showcfp?eventid=72970&copyow
 nerid=111672
UID:cfp717366-D@wikicfp.com
END:VEVENT
BEGIN:VEVENT
DTSTAMP:20260422T093204Z
DTSTART;VALUE=DATE:20180902
DTEND;VALUE=DATE:20180907
SUMMARY:BMVC 2018
DESCRIPTION:British Machine Vision Conference
URL:http://www.wikicfp.com/cfp/servlet/event.showcfp?eventid=71131&copyow
 nerid=111672
UID:cfp717352-E@wikicfp.com
END:VEVENT
BEGIN:VEVENT
DTSTAMP:20260422T093204Z
DTSTART;VALUE=DATE:20180430
SUMMARY:BMVC 2018 Deadline
DESCRIPTION:British Machine Vision Conference
URL:http://www.wikicfp.com/cfp/servlet/event.showcfp?eventid=71131&copyow
 nerid=111672
UID:cfp717352-D@wikicfp.com
END:VEVENT
BEGIN:VEVENT
DTSTAMP:20260422T093204Z
DTSTART;VALUE=DATE:20180702
SUMMARY:BMVC 2018 Notification Due
DESCRIPTION:British Machine Vision Conference
URL:http://www.wikicfp.com/cfp/servlet/event.showcfp?eventid=71131&copyow
 nerid=111672
UID:cfp717352-N@wikicfp.com
END:VEVENT
BEGIN:VEVENT
DTSTAMP:20260422T093204Z
DTSTART;VALUE=DATE:20181005
DTEND;VALUE=DATE:20181008
SUMMARY:ICANN 2018
DESCRIPTION:27th International Conference on Artificial Neural Networks 
URL:http://www.wikicfp.com/cfp/servlet/event.showcfp?eventid=69763&copyow
 nerid=111672
UID:cfp717358-E@wikicfp.com
END:VEVENT
BEGIN:VEVENT
DTSTAMP:20260422T093204Z
DTSTART;VALUE=DATE:20180502
SUMMARY:ICANN 2018 Deadline
DESCRIPTION:27th International Conference on Artificial Neural Networks 
URL:http://www.wikicfp.com/cfp/servlet/event.showcfp?eventid=69763&copyow
 nerid=111672
UID:cfp717358-D@wikicfp.com
END:VEVENT
BEGIN:VEVENT
DTSTAMP:20260422T093204Z
DTSTART;VALUE=DATE:20180601
SUMMARY:ICANN 2018 Notification Due
DESCRIPTION:27th International Conference on Artificial Neural Networks 
URL:http://www.wikicfp.com/cfp/servlet/event.showcfp?eventid=69763&copyow
 nerid=111672
UID:cfp717358-N@wikicfp.com
END:VEVENT
BEGIN:VEVENT
DTSTAMP:20260422T093204Z
DTSTART;VALUE=DATE:20180610
SUMMARY:ICANN 2018 Final Version Due
DESCRIPTION:27th International Conference on Artificial Neural Networks 
URL:http://www.wikicfp.com/cfp/servlet/event.showcfp?eventid=69763&copyow
 nerid=111672
UID:cfp717358-N@wikicfp.com
END:VEVENT
BEGIN:VEVENT
DTSTAMP:20260422T093204Z
DTSTART;VALUE=DATE:20181127
DTEND;VALUE=DATE:20181201
SUMMARY:IEEE AVSS 2018
DESCRIPTION:IEEE International Conference on Advanced Video and Signal-ba
 sed Surveillance
URL:http://www.wikicfp.com/cfp/servlet/event.showcfp?eventid=66702&copyow
 nerid=111672
UID:cfp717351-E@wikicfp.com
END:VEVENT
BEGIN:VEVENT
DTSTAMP:20260422T093204Z
DTSTART;VALUE=DATE:20180501
SUMMARY:IEEE AVSS 2018 Abstract Due
DESCRIPTION:IEEE International Conference on Advanced Video and Signal-ba
 sed Surveillance
URL:http://www.wikicfp.com/cfp/servlet/event.showcfp?eventid=66702&copyow
 nerid=111672
UID:cfp717351-A@wikicfp.com
END:VEVENT
BEGIN:VEVENT
DTSTAMP:20260422T093204Z
DTSTART;VALUE=DATE:20180601
SUMMARY:IEEE AVSS 2018 Deadline
DESCRIPTION:IEEE International Conference on Advanced Video and Signal-ba
 sed Surveillance
URL:http://www.wikicfp.com/cfp/servlet/event.showcfp?eventid=66702&copyow
 nerid=111672
UID:cfp717351-D@wikicfp.com
END:VEVENT
BEGIN:VEVENT
DTSTAMP:20260422T093204Z
DTSTART;VALUE=DATE:20180801
SUMMARY:IEEE AVSS 2018 Notification Due
DESCRIPTION:IEEE International Conference on Advanced Video and Signal-ba
 sed Surveillance
URL:http://www.wikicfp.com/cfp/servlet/event.showcfp?eventid=66702&copyow
 nerid=111672
UID:cfp717351-N@wikicfp.com
END:VEVENT
BEGIN:VEVENT
DTSTAMP:20260422T093204Z
DTSTART;VALUE=DATE:20180901
SUMMARY:IEEE AVSS 2018 Final Version Due
DESCRIPTION:IEEE International Conference on Advanced Video and Signal-ba
 sed Surveillance
URL:http://www.wikicfp.com/cfp/servlet/event.showcfp?eventid=66702&copyow
 nerid=111672
UID:cfp717351-N@wikicfp.com
END:VEVENT
BEGIN:VEVENT
DTSTAMP:20260422T093204Z
DTSTART;VALUE=DATE:20181204
DTEND;VALUE=DATE:20181207
SUMMARY:ACCV 2018
DESCRIPTION:14th Asian Conference on Computer Vision 
URL:http://www.wikicfp.com/cfp/servlet/event.showcfp?eventid=72960&copyow
 nerid=111672
UID:cfp717354-E@wikicfp.com
END:VEVENT
BEGIN:VEVENT
DTSTAMP:20260422T093204Z
DTSTART;VALUE=DATE:20180705
SUMMARY:ACCV 2018 Deadline
DESCRIPTION:14th Asian Conference on Computer Vision 
URL:http://www.wikicfp.com/cfp/servlet/event.showcfp?eventid=72960&copyow
 nerid=111672
UID:cfp717354-D@wikicfp.com
END:VEVENT
BEGIN:VEVENT
DTSTAMP:20260422T093204Z
DTSTART;VALUE=DATE:20180921
SUMMARY:ACCV 2018 Notification Due
DESCRIPTION:14th Asian Conference on Computer Vision 
URL:http://www.wikicfp.com/cfp/servlet/event.showcfp?eventid=72960&copyow
 nerid=111672
UID:cfp717354-N@wikicfp.com
END:VEVENT
BEGIN:VEVENT
DTSTAMP:20260422T093204Z
DTSTART;VALUE=DATE:20190108
DTEND;VALUE=DATE:20190112
SUMMARY:MMM 2019
DESCRIPTION:Conference on Multimedia Modeling
URL:http://www.wikicfp.com/cfp/servlet/event.showcfp?eventid=73505&copyow
 nerid=111672
UID:cfp717367-E@wikicfp.com
END:VEVENT
BEGIN:VEVENT
DTSTAMP:20260422T093204Z
DTSTART;VALUE=DATE:20180715
SUMMARY:MMM 2019 Deadline
DESCRIPTION:Conference on Multimedia Modeling
URL:http://www.wikicfp.com/cfp/servlet/event.showcfp?eventid=73505&copyow
 nerid=111672
UID:cfp717367-D@wikicfp.com
END:VEVENT
BEGIN:VEVENT
DTSTAMP:20260422T093204Z
DTSTART;VALUE=DATE:20180917
SUMMARY:MMM 2019 Notification Due
DESCRIPTION:Conference on Multimedia Modeling
URL:http://www.wikicfp.com/cfp/servlet/event.showcfp?eventid=73505&copyow
 nerid=111672
UID:cfp717367-N@wikicfp.com
END:VEVENT
BEGIN:VEVENT
DTSTAMP:20260422T093204Z
DTSTART;VALUE=DATE:20181114
DTEND;VALUE=DATE:20181117
SUMMARY:ACML 2018
DESCRIPTION:The 10th Asian Conference on Machine Learning
URL:http://www.wikicfp.com/cfp/servlet/event.showcfp?eventid=71200&copyow
 nerid=111672
UID:cfp717356-E@wikicfp.com
END:VEVENT
BEGIN:VEVENT
DTSTAMP:20260422T093204Z
DTSTART;VALUE=DATE:20180801
SUMMARY:ACML 2018 Deadline
DESCRIPTION:The 10th Asian Conference on Machine Learning
URL:http://www.wikicfp.com/cfp/servlet/event.showcfp?eventid=71200&copyow
 nerid=111672
UID:cfp717356-D@wikicfp.com
END:VEVENT
BEGIN:VEVENT
DTSTAMP:20260422T093204Z
DTSTART;VALUE=DATE:20180920
SUMMARY:ACML 2018 Notification Due
DESCRIPTION:The 10th Asian Conference on Machine Learning
URL:http://www.wikicfp.com/cfp/servlet/event.showcfp?eventid=71200&copyow
 nerid=111672
UID:cfp717356-N@wikicfp.com
END:VEVENT
BEGIN:VEVENT
DTSTAMP:20260422T093204Z
DTSTART;VALUE=DATE:20181005
SUMMARY:ACML 2018 Final Version Due
DESCRIPTION:The 10th Asian Conference on Machine Learning
URL:http://www.wikicfp.com/cfp/servlet/event.showcfp?eventid=71200&copyow
 nerid=111672
UID:cfp717356-N@wikicfp.com
END:VEVENT
END:VCALENDAR
