BEGIN:VCALENDAR
PRODID:-//WikiCFP//ilkedemir 1.0//EN
VERSION:2.0
CALSCALE:GREGORIAN
BEGIN:VEVENT
DTSTAMP:20260422T110703Z
DTSTART;VALUE=DATE:20180622
DTEND;VALUE=DATE:20180623
SUMMARY:WiCV 2018
DESCRIPTION:Women in Computer Vision Workshop at CVPR
URL:http://www.wikicfp.com/cfp/servlet/event.showcfp?eventid=74664&copyow
 nerid=111489
UID:cfp718523-E@wikicfp.com
END:VEVENT
BEGIN:VEVENT
DTSTAMP:20260422T110703Z
DTSTART;VALUE=DATE:20180328
SUMMARY:WiCV 2018 Deadline
DESCRIPTION:Women in Computer Vision Workshop at CVPR
URL:http://www.wikicfp.com/cfp/servlet/event.showcfp?eventid=74664&copyow
 nerid=111489
UID:cfp718523-D@wikicfp.com
END:VEVENT
BEGIN:VEVENT
DTSTAMP:20260422T110703Z
DTSTART;VALUE=DATE:20180413
SUMMARY:WiCV 2018 Notification Due
DESCRIPTION:Women in Computer Vision Workshop at CVPR
URL:http://www.wikicfp.com/cfp/servlet/event.showcfp?eventid=74664&copyow
 nerid=111489
UID:cfp718523-N@wikicfp.com
END:VEVENT
BEGIN:VEVENT
DTSTAMP:20260422T110703Z
DTSTART;VALUE=DATE:20180420
SUMMARY:WiCV 2018 Final Version Due
DESCRIPTION:Women in Computer Vision Workshop at CVPR
URL:http://www.wikicfp.com/cfp/servlet/event.showcfp?eventid=74664&copyow
 nerid=111489
UID:cfp718523-N@wikicfp.com
END:VEVENT
BEGIN:VEVENT
DTSTAMP:20260422T110703Z
DTSTART;VALUE=DATE:20180618
DTEND;VALUE=DATE:20180619
SUMMARY:DeepGlobe 2018
DESCRIPTION:A Challenge for Parsing the Earth through Satellite Images - 
 CVPR18 Workshop
URL:http://www.wikicfp.com/cfp/servlet/event.showcfp?eventid=74252&copyow
 nerid=111489
UID:cfp717046-E@wikicfp.com
END:VEVENT
BEGIN:VEVENT
DTSTAMP:20260422T110703Z
DTSTART;VALUE=DATE:20180501
SUMMARY:DeepGlobe 2018 Deadline
DESCRIPTION:A Challenge for Parsing the Earth through Satellite Images - 
 CVPR18 Workshop
URL:http://www.wikicfp.com/cfp/servlet/event.showcfp?eventid=74252&copyow
 nerid=111489
UID:cfp717046-D@wikicfp.com
END:VEVENT
BEGIN:VEVENT
DTSTAMP:20260422T110703Z
DTSTART;VALUE=DATE:20180520
SUMMARY:DeepGlobe 2018 Notification Due
DESCRIPTION:A Challenge for Parsing the Earth through Satellite Images - 
 CVPR18 Workshop
URL:http://www.wikicfp.com/cfp/servlet/event.showcfp?eventid=74252&copyow
 nerid=111489
UID:cfp717046-N@wikicfp.com
END:VEVENT
BEGIN:VEVENT
DTSTAMP:20260422T110703Z
DTSTART;VALUE=DATE:20180525
SUMMARY:DeepGlobe 2018 Final Version Due
DESCRIPTION:A Challenge for Parsing the Earth through Satellite Images - 
 CVPR18 Workshop
URL:http://www.wikicfp.com/cfp/servlet/event.showcfp?eventid=74252&copyow
 nerid=111489
UID:cfp717046-N@wikicfp.com
END:VEVENT
BEGIN:VEVENT
DTSTAMP:20260422T110703Z
DTSTART;VALUE=DATE:20190616
DTEND;VALUE=DATE:20190618
SUMMARY:SUMO 2019
DESCRIPTION:The 2019 SUMO Challenge Workshop: 360Â° Indoor Scene Understa
 nding and Modeling
URL:http://www.wikicfp.com/cfp/servlet/event.showcfp?eventid=85669&copyow
 nerid=111489
UID:cfp770213-E@wikicfp.com
END:VEVENT
BEGIN:VEVENT
DTSTAMP:20260422T110703Z
DTSTART;VALUE=DATE:20190426
SUMMARY:SUMO 2019 Deadline
DESCRIPTION:The 2019 SUMO Challenge Workshop: 360Â° Indoor Scene Understa
 nding and Modeling
URL:http://www.wikicfp.com/cfp/servlet/event.showcfp?eventid=85669&copyow
 nerid=111489
UID:cfp770213-D@wikicfp.com
END:VEVENT
BEGIN:VEVENT
DTSTAMP:20260422T110703Z
DTSTART;VALUE=DATE:20190510
SUMMARY:SUMO 2019 Notification Due
DESCRIPTION:The 2019 SUMO Challenge Workshop: 360Â° Indoor Scene Understa
 nding and Modeling
URL:http://www.wikicfp.com/cfp/servlet/event.showcfp?eventid=85669&copyow
 nerid=111489
UID:cfp770213-N@wikicfp.com
END:VEVENT
BEGIN:VEVENT
DTSTAMP:20260422T110703Z
DTSTART;VALUE=DATE:20190517
SUMMARY:SUMO 2019 Final Version Due
DESCRIPTION:The 2019 SUMO Challenge Workshop: 360Â° Indoor Scene Understa
 nding and Modeling
URL:http://www.wikicfp.com/cfp/servlet/event.showcfp?eventid=85669&copyow
 nerid=111489
UID:cfp770213-N@wikicfp.com
END:VEVENT
BEGIN:VEVENT
DTSTAMP:20260422T110703Z
DTSTART;VALUE=DATE:20210507
DTEND;VALUE=DATE:20211012
SUMMARY:DLGC 2021
DESCRIPTION:ICCV 2021 - Deep Learning for Geometric Computing Workshop an
 d Challenges
URL:http://www.wikicfp.com/cfp/servlet/event.showcfp?eventid=133914&copyo
 wnerid=111489
UID:cfp886967-E@wikicfp.com
END:VEVENT
BEGIN:VEVENT
DTSTAMP:20260422T110703Z
DTSTART;VALUE=DATE:20210726
SUMMARY:DLGC 2021 Abstract Due
DESCRIPTION:ICCV 2021 - Deep Learning for Geometric Computing Workshop an
 d Challenges
URL:http://www.wikicfp.com/cfp/servlet/event.showcfp?eventid=133914&copyo
 wnerid=111489
UID:cfp886967-A@wikicfp.com
END:VEVENT
BEGIN:VEVENT
DTSTAMP:20260422T110703Z
DTSTART;VALUE=DATE:20210801
SUMMARY:DLGC 2021 Deadline
DESCRIPTION:ICCV 2021 - Deep Learning for Geometric Computing Workshop an
 d Challenges
URL:http://www.wikicfp.com/cfp/servlet/event.showcfp?eventid=133914&copyo
 wnerid=111489
UID:cfp886967-D@wikicfp.com
END:VEVENT
BEGIN:VEVENT
DTSTAMP:20260422T110703Z
DTSTART;VALUE=DATE:20210811
SUMMARY:DLGC 2021 Notification Due
DESCRIPTION:ICCV 2021 - Deep Learning for Geometric Computing Workshop an
 d Challenges
URL:http://www.wikicfp.com/cfp/servlet/event.showcfp?eventid=133914&copyo
 wnerid=111489
UID:cfp886967-N@wikicfp.com
END:VEVENT
BEGIN:VEVENT
DTSTAMP:20260422T110703Z
DTSTART;VALUE=DATE:20210817
SUMMARY:DLGC 2021 Final Version Due
DESCRIPTION:ICCV 2021 - Deep Learning for Geometric Computing Workshop an
 d Challenges
URL:http://www.wikicfp.com/cfp/servlet/event.showcfp?eventid=133914&copyo
 wnerid=111489
UID:cfp886967-N@wikicfp.com
END:VEVENT
END:VCALENDAR
