BEGIN:VCALENDAR
PRODID:-//WikiCFP//farhadtaheri 1.0//EN
VERSION:2.0
CALSCALE:GREGORIAN
BEGIN:VEVENT
DTSTAMP:20260420T143546Z
DTSTART;VALUE=DATE:20180618
DTEND;VALUE=DATE:20180623
SUMMARY:SIGMETRICS 2018
DESCRIPTION:ACM SIGMETRICS International Conference on Measurement and Mo
 deling of Computer Systems
URL:http://www.wikicfp.com/cfp/servlet/event.showcfp?eventid=64945&copyow
 nerid=111355
UID:cfp716805-E@wikicfp.com
END:VEVENT
BEGIN:VEVENT
DTSTAMP:20260420T143546Z
DTSTART;VALUE=DATE:20170710
SUMMARY:SIGMETRICS 2018 Abstract Due
DESCRIPTION:ACM SIGMETRICS International Conference on Measurement and Mo
 deling of Computer Systems
URL:http://www.wikicfp.com/cfp/servlet/event.showcfp?eventid=64945&copyow
 nerid=111355
UID:cfp716805-A@wikicfp.com
END:VEVENT
BEGIN:VEVENT
DTSTAMP:20260420T143546Z
DTSTART;VALUE=DATE:20170717
SUMMARY:SIGMETRICS 2018 Deadline
DESCRIPTION:ACM SIGMETRICS International Conference on Measurement and Mo
 deling of Computer Systems
URL:http://www.wikicfp.com/cfp/servlet/event.showcfp?eventid=64945&copyow
 nerid=111355
UID:cfp716805-D@wikicfp.com
END:VEVENT
BEGIN:VEVENT
DTSTAMP:20260420T143546Z
DTSTART;VALUE=DATE:20170922
SUMMARY:SIGMETRICS 2018 Notification Due
DESCRIPTION:ACM SIGMETRICS International Conference on Measurement and Mo
 deling of Computer Systems
URL:http://www.wikicfp.com/cfp/servlet/event.showcfp?eventid=64945&copyow
 nerid=111355
UID:cfp716805-N@wikicfp.com
END:VEVENT
BEGIN:VEVENT
DTSTAMP:20260420T143546Z
DTSTART;VALUE=DATE:20171221
DTEND;VALUE=DATE:20171224
SUMMARY:CADS  2017
DESCRIPTION:The 19th CSI International Symposium on Computer Architecture
  & Digital Systems (CADS 2017)
URL:http://www.wikicfp.com/cfp/servlet/event.showcfp?eventid=64870&copyow
 nerid=111355
UID:cfp716807-E@wikicfp.com
END:VEVENT
BEGIN:VEVENT
DTSTAMP:20260420T143546Z
DTSTART;VALUE=DATE:20170730
SUMMARY:CADS  2017 Deadline
DESCRIPTION:The 19th CSI International Symposium on Computer Architecture
  & Digital Systems (CADS 2017)
URL:http://www.wikicfp.com/cfp/servlet/event.showcfp?eventid=64870&copyow
 nerid=111355
UID:cfp716807-D@wikicfp.com
END:VEVENT
BEGIN:VEVENT
DTSTAMP:20260420T143546Z
DTSTART;VALUE=DATE:20170922
SUMMARY:CADS  2017 Notification Due
DESCRIPTION:The 19th CSI International Symposium on Computer Architecture
  & Digital Systems (CADS 2017)
URL:http://www.wikicfp.com/cfp/servlet/event.showcfp?eventid=64870&copyow
 nerid=111355
UID:cfp716807-N@wikicfp.com
END:VEVENT
BEGIN:VEVENT
DTSTAMP:20260420T143546Z
DTSTART;VALUE=DATE:20171003
SUMMARY:CADS  2017 Final Version Due
DESCRIPTION:The 19th CSI International Symposium on Computer Architecture
  & Digital Systems (CADS 2017)
URL:http://www.wikicfp.com/cfp/servlet/event.showcfp?eventid=64870&copyow
 nerid=111355
UID:cfp716807-N@wikicfp.com
END:VEVENT
BEGIN:VEVENT
DTSTAMP:20260420T143546Z
DTSTART;VALUE=DATE:20180224
DTEND;VALUE=DATE:20180301
SUMMARY:HPCA 2018
DESCRIPTION:HPCA 2018: 24th IEEE International Symposium on High-Performa
 nce Computer Architecture
URL:http://www.wikicfp.com/cfp/servlet/event.showcfp?eventid=65259&copyow
 nerid=111355
UID:cfp716806-E@wikicfp.com
END:VEVENT
BEGIN:VEVENT
DTSTAMP:20260420T143546Z
DTSTART;VALUE=DATE:20170725
SUMMARY:HPCA 2018 Abstract Due
DESCRIPTION:HPCA 2018: 24th IEEE International Symposium on High-Performa
 nce Computer Architecture
URL:http://www.wikicfp.com/cfp/servlet/event.showcfp?eventid=65259&copyow
 nerid=111355
UID:cfp716806-A@wikicfp.com
END:VEVENT
BEGIN:VEVENT
DTSTAMP:20260420T143546Z
DTSTART;VALUE=DATE:20170801
SUMMARY:HPCA 2018 Deadline
DESCRIPTION:HPCA 2018: 24th IEEE International Symposium on High-Performa
 nce Computer Architecture
URL:http://www.wikicfp.com/cfp/servlet/event.showcfp?eventid=65259&copyow
 nerid=111355
UID:cfp716806-D@wikicfp.com
END:VEVENT
BEGIN:VEVENT
DTSTAMP:20260420T143546Z
DTSTART;VALUE=DATE:20180319
DTEND;VALUE=DATE:20180324
SUMMARY:DATE E2 2018
DESCRIPTION:Design\, Automation\, and Test in Europe\, Topic E2: Compiler
 s and Software Synthesis
URL:http://www.wikicfp.com/cfp/servlet/event.showcfp?eventid=66653&copyow
 nerid=111355
UID:cfp716809-E@wikicfp.com
END:VEVENT
BEGIN:VEVENT
DTSTAMP:20260420T143546Z
DTSTART;VALUE=DATE:20170910
SUMMARY:DATE E2 2018 Abstract Due
DESCRIPTION:Design\, Automation\, and Test in Europe\, Topic E2: Compiler
 s and Software Synthesis
URL:http://www.wikicfp.com/cfp/servlet/event.showcfp?eventid=66653&copyow
 nerid=111355
UID:cfp716809-A@wikicfp.com
END:VEVENT
BEGIN:VEVENT
DTSTAMP:20260420T143546Z
DTSTART;VALUE=DATE:20170917
SUMMARY:DATE E2 2018 Deadline
DESCRIPTION:Design\, Automation\, and Test in Europe\, Topic E2: Compiler
 s and Software Synthesis
URL:http://www.wikicfp.com/cfp/servlet/event.showcfp?eventid=66653&copyow
 nerid=111355
UID:cfp716809-D@wikicfp.com
END:VEVENT
BEGIN:VEVENT
DTSTAMP:20260420T143546Z
DTSTART;VALUE=DATE:20171110
SUMMARY:DATE E2 2018 Notification Due
DESCRIPTION:Design\, Automation\, and Test in Europe\, Topic E2: Compiler
 s and Software Synthesis
URL:http://www.wikicfp.com/cfp/servlet/event.showcfp?eventid=66653&copyow
 nerid=111355
UID:cfp716809-N@wikicfp.com
END:VEVENT
BEGIN:VEVENT
DTSTAMP:20260420T143546Z
DTSTART;VALUE=DATE:20171130
SUMMARY:DATE E2 2018 Final Version Due
DESCRIPTION:Design\, Automation\, and Test in Europe\, Topic E2: Compiler
 s and Software Synthesis
URL:http://www.wikicfp.com/cfp/servlet/event.showcfp?eventid=66653&copyow
 nerid=111355
UID:cfp716809-N@wikicfp.com
END:VEVENT
BEGIN:VEVENT
DTSTAMP:20260420T143546Z
DTSTART;VALUE=DATE:20180212
DTEND;VALUE=DATE:20180216
SUMMARY:FAST 2018
DESCRIPTION:The 16th USENIX Conference on File and Storage Technologies
URL:http://www.wikicfp.com/cfp/servlet/event.showcfp?eventid=62584&copyow
 nerid=111355
UID:cfp716814-E@wikicfp.com
END:VEVENT
BEGIN:VEVENT
DTSTAMP:20260420T143546Z
DTSTART;VALUE=DATE:20170928
SUMMARY:FAST 2018 Deadline
DESCRIPTION:The 16th USENIX Conference on File and Storage Technologies
URL:http://www.wikicfp.com/cfp/servlet/event.showcfp?eventid=62584&copyow
 nerid=111355
UID:cfp716814-D@wikicfp.com
END:VEVENT
BEGIN:VEVENT
DTSTAMP:20260420T143546Z
DTSTART;VALUE=DATE:20171211
SUMMARY:FAST 2018 Notification Due
DESCRIPTION:The 16th USENIX Conference on File and Storage Technologies
URL:http://www.wikicfp.com/cfp/servlet/event.showcfp?eventid=62584&copyow
 nerid=111355
UID:cfp716814-N@wikicfp.com
END:VEVENT
BEGIN:VEVENT
DTSTAMP:20260420T143546Z
DTSTART;VALUE=DATE:20180123
SUMMARY:FAST 2018 Final Version Due
DESCRIPTION:The 16th USENIX Conference on File and Storage Technologies
URL:http://www.wikicfp.com/cfp/servlet/event.showcfp?eventid=62584&copyow
 nerid=111355
UID:cfp716814-N@wikicfp.com
END:VEVENT
BEGIN:VEVENT
DTSTAMP:20260420T143546Z
DTSTART;VALUE=DATE:20180604
DTEND;VALUE=DATE:20180607
SUMMARY:SYSTOR 2018
DESCRIPTION:11th ACM International Systems and Storage Conference
URL:http://www.wikicfp.com/cfp/servlet/event.showcfp?eventid=69417&copyow
 nerid=111355
UID:cfp716815-E@wikicfp.com
END:VEVENT
BEGIN:VEVENT
DTSTAMP:20260420T143546Z
DTSTART;VALUE=DATE:20180228
SUMMARY:SYSTOR 2018 Deadline
DESCRIPTION:11th ACM International Systems and Storage Conference
URL:http://www.wikicfp.com/cfp/servlet/event.showcfp?eventid=69417&copyow
 nerid=111355
UID:cfp716815-D@wikicfp.com
END:VEVENT
BEGIN:VEVENT
DTSTAMP:20260420T143546Z
DTSTART;VALUE=DATE:20180415
SUMMARY:SYSTOR 2018 Notification Due
DESCRIPTION:11th ACM International Systems and Storage Conference
URL:http://www.wikicfp.com/cfp/servlet/event.showcfp?eventid=69417&copyow
 nerid=111355
UID:cfp716815-N@wikicfp.com
END:VEVENT
BEGIN:VEVENT
DTSTAMP:20260420T143546Z
DTSTART;VALUE=DATE:20160506
SUMMARY:SYSTOR 2018 Final Version Due
DESCRIPTION:11th ACM International Systems and Storage Conference
URL:http://www.wikicfp.com/cfp/servlet/event.showcfp?eventid=69417&copyow
 nerid=111355
UID:cfp716815-N@wikicfp.com
END:VEVENT
BEGIN:VEVENT
DTSTAMP:20260420T143546Z
DTSTART;VALUE=DATE:20180628
DTEND;VALUE=DATE:20180629
SUMMARY:HPC-IODC 2018
DESCRIPTION:HPC I/O in the Data Center Workshop
URL:http://www.wikicfp.com/cfp/servlet/event.showcfp?eventid=71718&copyow
 nerid=111355
UID:cfp716816-E@wikicfp.com
END:VEVENT
BEGIN:VEVENT
DTSTAMP:20260420T143546Z
DTSTART;VALUE=DATE:20180412
SUMMARY:HPC-IODC 2018 Deadline
DESCRIPTION:HPC I/O in the Data Center Workshop
URL:http://www.wikicfp.com/cfp/servlet/event.showcfp?eventid=71718&copyow
 nerid=111355
UID:cfp716816-D@wikicfp.com
END:VEVENT
BEGIN:VEVENT
DTSTAMP:20260420T143546Z
DTSTART;VALUE=DATE:20180425
SUMMARY:HPC-IODC 2018 Notification Due
DESCRIPTION:HPC I/O in the Data Center Workshop
URL:http://www.wikicfp.com/cfp/servlet/event.showcfp?eventid=71718&copyow
 nerid=111355
UID:cfp716816-N@wikicfp.com
END:VEVENT
BEGIN:VEVENT
DTSTAMP:20260420T143546Z
DTSTART;VALUE=DATE:20180610
SUMMARY:HPC-IODC 2018 Final Version Due
DESCRIPTION:HPC I/O in the Data Center Workshop
URL:http://www.wikicfp.com/cfp/servlet/event.showcfp?eventid=71718&copyow
 nerid=111355
UID:cfp716816-N@wikicfp.com
END:VEVENT
BEGIN:VEVENT
DTSTAMP:20260420T143546Z
DTSTART;VALUE=DATE:20180829
DTEND;VALUE=DATE:20180901
SUMMARY:NVMSA 2018
DESCRIPTION:The 7th IEEE Non-Volatile Memory Systems and Applications Sym
 posium
URL:http://www.wikicfp.com/cfp/servlet/event.showcfp?eventid=71236&copyow
 nerid=111355
UID:cfp716817-E@wikicfp.com
END:VEVENT
BEGIN:VEVENT
DTSTAMP:20260420T143546Z
DTSTART;VALUE=DATE:20180413
SUMMARY:NVMSA 2018 Abstract Due
DESCRIPTION:The 7th IEEE Non-Volatile Memory Systems and Applications Sym
 posium
URL:http://www.wikicfp.com/cfp/servlet/event.showcfp?eventid=71236&copyow
 nerid=111355
UID:cfp716817-A@wikicfp.com
END:VEVENT
BEGIN:VEVENT
DTSTAMP:20260420T143546Z
DTSTART;VALUE=DATE:20180420
SUMMARY:NVMSA 2018 Deadline
DESCRIPTION:The 7th IEEE Non-Volatile Memory Systems and Applications Sym
 posium
URL:http://www.wikicfp.com/cfp/servlet/event.showcfp?eventid=71236&copyow
 nerid=111355
UID:cfp716817-D@wikicfp.com
END:VEVENT
BEGIN:VEVENT
DTSTAMP:20260420T143546Z
DTSTART;VALUE=DATE:20180601
SUMMARY:NVMSA 2018 Notification Due
DESCRIPTION:The 7th IEEE Non-Volatile Memory Systems and Applications Sym
 posium
URL:http://www.wikicfp.com/cfp/servlet/event.showcfp?eventid=71236&copyow
 nerid=111355
UID:cfp716817-N@wikicfp.com
END:VEVENT
BEGIN:VEVENT
DTSTAMP:20260420T143546Z
DTSTART;VALUE=DATE:20180615
SUMMARY:NVMSA 2018 Final Version Due
DESCRIPTION:The 7th IEEE Non-Volatile Memory Systems and Applications Sym
 posium
URL:http://www.wikicfp.com/cfp/servlet/event.showcfp?eventid=71236&copyow
 nerid=111355
UID:cfp716817-N@wikicfp.com
END:VEVENT
END:VCALENDAR
