BEGIN:VCALENDAR
PRODID:-//WikiCFP//gfernandes 1.0//EN
VERSION:2.0
CALSCALE:GREGORIAN
BEGIN:VEVENT
DTSTAMP:20260424T214400Z
DTSTART;VALUE=DATE:20090315
DTEND;VALUE=DATE:20090320
SUMMARY:SAC 2009
DESCRIPTION:The 2009 ACM Symposium on Applied Computing
URL:http://www.wikicfp.com/cfp/servlet/event.showcfp?eventid=1716&copyown
 erid=1109
UID:cfp12446-E@wikicfp.com
END:VEVENT
BEGIN:VEVENT
DTSTAMP:20260424T214400Z
DTSTART;VALUE=DATE:20080823
SUMMARY:SAC 2009 Deadline
DESCRIPTION:The 2009 ACM Symposium on Applied Computing
URL:http://www.wikicfp.com/cfp/servlet/event.showcfp?eventid=1716&copyown
 erid=1109
UID:cfp12446-D@wikicfp.com
END:VEVENT
END:VCALENDAR
