BEGIN:VCALENDAR
PRODID:-//WikiCFP//Montreal_Amasya 1.0//EN
VERSION:2.0
CALSCALE:GREGORIAN
BEGIN:VEVENT
DTSTAMP:20260424T101312Z
DTSTART;VALUE=DATE:20100830
DTEND;VALUE=DATE:20100903
SUMMARY:BMVC 2010
DESCRIPTION:British Machine Vision Conference
URL:http://www.wikicfp.com/cfp/servlet/event.showcfp?eventid=5652&copyown
 erid=11079
UID:cfp81563-E@wikicfp.com
END:VEVENT
BEGIN:VEVENT
DTSTAMP:20260424T101312Z
DTSTART;VALUE=DATE:20100423
SUMMARY:BMVC 2010 Abstract Due
DESCRIPTION:British Machine Vision Conference
URL:http://www.wikicfp.com/cfp/servlet/event.showcfp?eventid=5652&copyown
 erid=11079
UID:cfp81563-A@wikicfp.com
END:VEVENT
BEGIN:VEVENT
DTSTAMP:20260424T101312Z
DTSTART;VALUE=DATE:20100430
SUMMARY:BMVC 2010 Deadline
DESCRIPTION:British Machine Vision Conference
URL:http://www.wikicfp.com/cfp/servlet/event.showcfp?eventid=5652&copyown
 erid=11079
UID:cfp81563-D@wikicfp.com
END:VEVENT
BEGIN:VEVENT
DTSTAMP:20260424T101312Z
DTSTART;VALUE=DATE:20100614
SUMMARY:BMVC 2010 Notification Due
DESCRIPTION:British Machine Vision Conference
URL:http://www.wikicfp.com/cfp/servlet/event.showcfp?eventid=5652&copyown
 erid=11079
UID:cfp81563-N@wikicfp.com
END:VEVENT
BEGIN:VEVENT
DTSTAMP:20260424T101312Z
DTSTART;VALUE=DATE:20100713
SUMMARY:BMVC 2010 Final Version Due
DESCRIPTION:British Machine Vision Conference
URL:http://www.wikicfp.com/cfp/servlet/event.showcfp?eventid=5652&copyown
 erid=11079
UID:cfp81563-N@wikicfp.com
END:VEVENT
BEGIN:VEVENT
DTSTAMP:20260424T101312Z
DTSTART;VALUE=DATE:20100728
DTEND;VALUE=DATE:20100731
SUMMARY:ICISVC 2010
DESCRIPTION:International Conference on Image\, Signal and Vision Computi
 ng
URL:http://www.wikicfp.com/cfp/servlet/event.showcfp?eventid=8653&copyown
 erid=11079
UID:cfp81565-E@wikicfp.com
END:VEVENT
BEGIN:VEVENT
DTSTAMP:20260424T101312Z
DTSTART;VALUE=DATE:20100430
SUMMARY:ICISVC 2010 Deadline
DESCRIPTION:International Conference on Image\, Signal and Vision Computi
 ng
URL:http://www.wikicfp.com/cfp/servlet/event.showcfp?eventid=8653&copyown
 erid=11079
UID:cfp81565-D@wikicfp.com
END:VEVENT
BEGIN:VEVENT
DTSTAMP:20260424T101312Z
DTSTART;VALUE=DATE:20100531
SUMMARY:ICISVC 2010 Notification Due
DESCRIPTION:International Conference on Image\, Signal and Vision Computi
 ng
URL:http://www.wikicfp.com/cfp/servlet/event.showcfp?eventid=8653&copyown
 erid=11079
UID:cfp81565-N@wikicfp.com
END:VEVENT
BEGIN:VEVENT
DTSTAMP:20260424T101312Z
DTSTART;VALUE=DATE:20100630
SUMMARY:ICISVC 2010 Final Version Due
DESCRIPTION:International Conference on Image\, Signal and Vision Computi
 ng
URL:http://www.wikicfp.com/cfp/servlet/event.showcfp?eventid=8653&copyown
 erid=11079
UID:cfp81565-N@wikicfp.com
END:VEVENT
BEGIN:VEVENT
DTSTAMP:20260424T101312Z
DTSTART;VALUE=DATE:20101213
DTEND;VALUE=DATE:20101217
SUMMARY:ACIVS 2010
DESCRIPTION:Advanced Concepts for Intelligent Vision Systems
URL:http://www.wikicfp.com/cfp/servlet/event.showcfp?eventid=8835&copyown
 erid=11079
UID:cfp81566-E@wikicfp.com
END:VEVENT
BEGIN:VEVENT
DTSTAMP:20260424T101312Z
DTSTART;VALUE=DATE:20100529
SUMMARY:ACIVS 2010 Deadline
DESCRIPTION:Advanced Concepts for Intelligent Vision Systems
URL:http://www.wikicfp.com/cfp/servlet/event.showcfp?eventid=8835&copyown
 erid=11079
UID:cfp81566-D@wikicfp.com
END:VEVENT
BEGIN:VEVENT
DTSTAMP:20260424T101312Z
DTSTART;VALUE=DATE:20100730
SUMMARY:ACIVS 2010 Notification Due
DESCRIPTION:Advanced Concepts for Intelligent Vision Systems
URL:http://www.wikicfp.com/cfp/servlet/event.showcfp?eventid=8835&copyown
 erid=11079
UID:cfp81566-N@wikicfp.com
END:VEVENT
BEGIN:VEVENT
DTSTAMP:20260424T101312Z
DTSTART;VALUE=DATE:20110501
DTEND;VALUE=DATE:20110502
SUMMARY:UnconstBiometrics 2010
DESCRIPTION:Signal\, Image and Video Processing Journal Special Issue on 
 Unconstrained Biometrics: Advances and Trends
URL:http://www.wikicfp.com/cfp/servlet/event.showcfp?eventid=7266&copyown
 erid=11079
UID:cfp81564-E@wikicfp.com
END:VEVENT
BEGIN:VEVENT
DTSTAMP:20260424T101312Z
DTSTART;VALUE=DATE:20100730
SUMMARY:UnconstBiometrics 2010 Deadline
DESCRIPTION:Signal\, Image and Video Processing Journal Special Issue on 
 Unconstrained Biometrics: Advances and Trends
URL:http://www.wikicfp.com/cfp/servlet/event.showcfp?eventid=7266&copyown
 erid=11079
UID:cfp81564-D@wikicfp.com
END:VEVENT
BEGIN:VEVENT
DTSTAMP:20260424T101312Z
DTSTART;VALUE=DATE:20101115
SUMMARY:UnconstBiometrics 2010 Notification Due
DESCRIPTION:Signal\, Image and Video Processing Journal Special Issue on 
 Unconstrained Biometrics: Advances and Trends
URL:http://www.wikicfp.com/cfp/servlet/event.showcfp?eventid=7266&copyown
 erid=11079
UID:cfp81564-N@wikicfp.com
END:VEVENT
BEGIN:VEVENT
DTSTAMP:20260424T101312Z
DTSTART;VALUE=DATE:20100415
SUMMARY:UnconstBiometrics 2010 Final Version Due
DESCRIPTION:Signal\, Image and Video Processing Journal Special Issue on 
 Unconstrained Biometrics: Advances and Trends
URL:http://www.wikicfp.com/cfp/servlet/event.showcfp?eventid=7266&copyown
 erid=11079
UID:cfp81564-N@wikicfp.com
END:VEVENT
END:VCALENDAR
