BEGIN:VCALENDAR
PRODID:-//WikiCFP//EdtechLab 1.0//EN
VERSION:2.0
CALSCALE:GREGORIAN
BEGIN:VEVENT
DTSTAMP:20260423T080652Z
DTSTART;VALUE=DATE:20180526
DTEND;VALUE=DATE:20180529
SUMMARY:ICDEL--ACM\, Ei Compendex 2018
DESCRIPTION:2018 International Conference on Distance Education and Learn
 ing (ICDEL 2018)--ACM\, Ei Compendex
URL:http://www.wikicfp.com/cfp/servlet/event.showcfp?eventid=68565&copyow
 nerid=109731
UID:cfp714187-E@wikicfp.com
END:VEVENT
BEGIN:VEVENT
DTSTAMP:20260423T080652Z
DTSTART;VALUE=DATE:20180405
SUMMARY:ICDEL--ACM\, Ei Compendex 2018 Deadline
DESCRIPTION:2018 International Conference on Distance Education and Learn
 ing (ICDEL 2018)--ACM\, Ei Compendex
URL:http://www.wikicfp.com/cfp/servlet/event.showcfp?eventid=68565&copyow
 nerid=109731
UID:cfp714187-D@wikicfp.com
END:VEVENT
BEGIN:VEVENT
DTSTAMP:20260423T080652Z
DTSTART;VALUE=DATE:20180411
DTEND;VALUE=DATE:20180413
SUMMARY:4th ICTEL 2018
DESCRIPTION:2018 â 4th International Conference on Teaching\, Education
  & Learning (ICTEL)
URL:http://www.wikicfp.com/cfp/servlet/event.showcfp?eventid=64706&copyow
 nerid=109731
UID:cfp714194-E@wikicfp.com
END:VEVENT
BEGIN:VEVENT
DTSTAMP:20260423T080652Z
DTSTART;VALUE=DATE:20180409
SUMMARY:4th ICTEL 2018 Deadline
DESCRIPTION:2018 â 4th International Conference on Teaching\, Education
  & Learning (ICTEL)
URL:http://www.wikicfp.com/cfp/servlet/event.showcfp?eventid=64706&copyow
 nerid=109731
UID:cfp714194-D@wikicfp.com
END:VEVENT
BEGIN:VEVENT
DTSTAMP:20260423T080652Z
DTSTART;VALUE=DATE:20180409
SUMMARY:4th ICTEL 2018 Notification Due
DESCRIPTION:2018 â 4th International Conference on Teaching\, Education
  & Learning (ICTEL)
URL:http://www.wikicfp.com/cfp/servlet/event.showcfp?eventid=64706&copyow
 nerid=109731
UID:cfp714194-N@wikicfp.com
END:VEVENT
BEGIN:VEVENT
DTSTAMP:20260423T080652Z
DTSTART;VALUE=DATE:20180409
SUMMARY:4th ICTEL 2018 Final Version Due
DESCRIPTION:2018 â 4th International Conference on Teaching\, Education
  & Learning (ICTEL)
URL:http://www.wikicfp.com/cfp/servlet/event.showcfp?eventid=64706&copyow
 nerid=109731
UID:cfp714194-N@wikicfp.com
END:VEVENT
BEGIN:VEVENT
DTSTAMP:20260423T080652Z
DTSTART;VALUE=DATE:20181101
DTEND;VALUE=DATE:20181103
SUMMARY:ECEL  2018
DESCRIPTION:17th European Conference on eLearning 1-2 November 2018 Athen
 s\, Greece
URL:http://www.wikicfp.com/cfp/servlet/event.showcfp?eventid=72955&copyow
 nerid=109731
UID:cfp714198-E@wikicfp.com
END:VEVENT
BEGIN:VEVENT
DTSTAMP:20260423T080652Z
DTSTART;VALUE=DATE:20180412
SUMMARY:ECEL  2018 Deadline
DESCRIPTION:17th European Conference on eLearning 1-2 November 2018 Athen
 s\, Greece
URL:http://www.wikicfp.com/cfp/servlet/event.showcfp?eventid=72955&copyow
 nerid=109731
UID:cfp714198-D@wikicfp.com
END:VEVENT
BEGIN:VEVENT
DTSTAMP:20260423T080652Z
DTSTART;VALUE=DATE:20180809
SUMMARY:ECEL  2018 Notification Due
DESCRIPTION:17th European Conference on eLearning 1-2 November 2018 Athen
 s\, Greece
URL:http://www.wikicfp.com/cfp/servlet/event.showcfp?eventid=72955&copyow
 nerid=109731
UID:cfp714198-N@wikicfp.com
END:VEVENT
BEGIN:VEVENT
DTSTAMP:20260423T080652Z
DTSTART;VALUE=DATE:20180906
SUMMARY:ECEL  2018 Final Version Due
DESCRIPTION:17th European Conference on eLearning 1-2 November 2018 Athen
 s\, Greece
URL:http://www.wikicfp.com/cfp/servlet/event.showcfp?eventid=72955&copyow
 nerid=109731
UID:cfp714198-N@wikicfp.com
END:VEVENT
BEGIN:VEVENT
DTSTAMP:20260423T080652Z
DTSTART;VALUE=DATE:20180630
DTEND;VALUE=DATE:20180703
SUMMARY:EI--ICIEI--SCOPUS 2018
DESCRIPTION:2018 The 3rd International Conference on Information and Educ
 ation Innovations (ICIEI 2018)--EI & SCOPUS
URL:http://www.wikicfp.com/cfp/servlet/event.showcfp?eventid=69890&copyow
 nerid=109731
UID:cfp714189-E@wikicfp.com
END:VEVENT
BEGIN:VEVENT
DTSTAMP:20260423T080652Z
DTSTART;VALUE=DATE:20180425
SUMMARY:EI--ICIEI--SCOPUS 2018 Deadline
DESCRIPTION:2018 The 3rd International Conference on Information and Educ
 ation Innovations (ICIEI 2018)--EI & SCOPUS
URL:http://www.wikicfp.com/cfp/servlet/event.showcfp?eventid=69890&copyow
 nerid=109731
UID:cfp714189-D@wikicfp.com
END:VEVENT
BEGIN:VEVENT
DTSTAMP:20260423T080652Z
DTSTART;VALUE=DATE:20180717
DTEND;VALUE=DATE:20180720
SUMMARY:ICEDL--EI Compendex\, Scopus 2018
DESCRIPTION:2018 2nd International Conference on Education and Distance L
 earning (ICEDL 2018)--EI Compendex\, Scopus
URL:http://www.wikicfp.com/cfp/servlet/event.showcfp?eventid=69521&copyow
 nerid=109731
UID:cfp714192-E@wikicfp.com
END:VEVENT
BEGIN:VEVENT
DTSTAMP:20260423T080652Z
DTSTART;VALUE=DATE:20180430
SUMMARY:ICEDL--EI Compendex\, Scopus 2018 Deadline
DESCRIPTION:2018 2nd International Conference on Education and Distance L
 earning (ICEDL 2018)--EI Compendex\, Scopus
URL:http://www.wikicfp.com/cfp/servlet/event.showcfp?eventid=69521&copyow
 nerid=109731
UID:cfp714192-D@wikicfp.com
END:VEVENT
BEGIN:VEVENT
DTSTAMP:20260423T080652Z
DTSTART;VALUE=DATE:20180702
DTEND;VALUE=DATE:20180705
SUMMARY:ACM--ICEMT--Ei and Scopus 2018
DESCRIPTION:ACM--2018 2nd International Conference on Education and Multi
 media Technology (ICEMT 2018)--Ei Compendex and Scopus
URL:http://www.wikicfp.com/cfp/servlet/event.showcfp?eventid=69882&copyow
 nerid=109731
UID:cfp714188-E@wikicfp.com
END:VEVENT
BEGIN:VEVENT
DTSTAMP:20260423T080652Z
DTSTART;VALUE=DATE:20180505
SUMMARY:ACM--ICEMT--Ei and Scopus 2018 Deadline
DESCRIPTION:ACM--2018 2nd International Conference on Education and Multi
 media Technology (ICEMT 2018)--Ei Compendex and Scopus
URL:http://www.wikicfp.com/cfp/servlet/event.showcfp?eventid=69882&copyow
 nerid=109731
UID:cfp714188-D@wikicfp.com
END:VEVENT
BEGIN:VEVENT
DTSTAMP:20260423T080652Z
DTSTART;VALUE=DATE:20180523
DTEND;VALUE=DATE:20180525
SUMMARY:5th ICTEL 2018
DESCRIPTION:2018 â 5th International Conference on Teaching\, Education
  & Learning (ICTEL)
URL:http://www.wikicfp.com/cfp/servlet/event.showcfp?eventid=65985&copyow
 nerid=109731
UID:cfp714195-E@wikicfp.com
END:VEVENT
BEGIN:VEVENT
DTSTAMP:20260423T080652Z
DTSTART;VALUE=DATE:20180521
SUMMARY:5th ICTEL 2018 Deadline
DESCRIPTION:2018 â 5th International Conference on Teaching\, Education
  & Learning (ICTEL)
URL:http://www.wikicfp.com/cfp/servlet/event.showcfp?eventid=65985&copyow
 nerid=109731
UID:cfp714195-D@wikicfp.com
END:VEVENT
BEGIN:VEVENT
DTSTAMP:20260423T080652Z
DTSTART;VALUE=DATE:20180521
SUMMARY:5th ICTEL 2018 Notification Due
DESCRIPTION:2018 â 5th International Conference on Teaching\, Education
  & Learning (ICTEL)
URL:http://www.wikicfp.com/cfp/servlet/event.showcfp?eventid=65985&copyow
 nerid=109731
UID:cfp714195-N@wikicfp.com
END:VEVENT
BEGIN:VEVENT
DTSTAMP:20260423T080652Z
DTSTART;VALUE=DATE:20180521
SUMMARY:5th ICTEL 2018 Final Version Due
DESCRIPTION:2018 â 5th International Conference on Teaching\, Education
  & Learning (ICTEL)
URL:http://www.wikicfp.com/cfp/servlet/event.showcfp?eventid=65985&copyow
 nerid=109731
UID:cfp714195-N@wikicfp.com
END:VEVENT
BEGIN:VEVENT
DTSTAMP:20260423T080652Z
DTSTART;VALUE=DATE:20180813
DTEND;VALUE=DATE:20180816
SUMMARY:ICELT 2018
DESCRIPTION:2018 4th International Conference on Education\, Learning and
  Training (ICELT 2018)
URL:http://www.wikicfp.com/cfp/servlet/event.showcfp?eventid=70666&copyow
 nerid=109731
UID:cfp714190-E@wikicfp.com
END:VEVENT
BEGIN:VEVENT
DTSTAMP:20260423T080652Z
DTSTART;VALUE=DATE:20180625
SUMMARY:ICELT 2018 Deadline
DESCRIPTION:2018 4th International Conference on Education\, Learning and
  Training (ICELT 2018)
URL:http://www.wikicfp.com/cfp/servlet/event.showcfp?eventid=70666&copyow
 nerid=109731
UID:cfp714190-D@wikicfp.com
END:VEVENT
BEGIN:VEVENT
DTSTAMP:20260423T080652Z
DTSTART;VALUE=DATE:20180822
DTEND;VALUE=DATE:20180825
SUMMARY:ICKET 2018
DESCRIPTION:2018 the 7th International Conference on Knowledge and Educat
 ion Technology (ICKET 2018)
URL:http://www.wikicfp.com/cfp/servlet/event.showcfp?eventid=71642&copyow
 nerid=109731
UID:cfp714196-E@wikicfp.com
END:VEVENT
BEGIN:VEVENT
DTSTAMP:20260423T080652Z
DTSTART;VALUE=DATE:20180625
SUMMARY:ICKET 2018 Deadline
DESCRIPTION:2018 the 7th International Conference on Knowledge and Educat
 ion Technology (ICKET 2018)
URL:http://www.wikicfp.com/cfp/servlet/event.showcfp?eventid=71642&copyow
 nerid=109731
UID:cfp714196-D@wikicfp.com
END:VEVENT
BEGIN:VEVENT
DTSTAMP:20260423T080652Z
DTSTART;VALUE=DATE:20180717
DTEND;VALUE=DATE:20180719
SUMMARY:ICRTEL 2018
DESCRIPTION:ICRTEL 2018 â International Conference on Research in Teach
 ing\, Education & Learning\, 17-18 July\, Athens
URL:http://www.wikicfp.com/cfp/servlet/event.showcfp?eventid=72494&copyow
 nerid=109731
UID:cfp714199-E@wikicfp.com
END:VEVENT
BEGIN:VEVENT
DTSTAMP:20260423T080652Z
DTSTART;VALUE=DATE:20180716
SUMMARY:ICRTEL 2018 Deadline
DESCRIPTION:ICRTEL 2018 â International Conference on Research in Teach
 ing\, Education & Learning\, 17-18 July\, Athens
URL:http://www.wikicfp.com/cfp/servlet/event.showcfp?eventid=72494&copyow
 nerid=109731
UID:cfp714199-D@wikicfp.com
END:VEVENT
BEGIN:VEVENT
DTSTAMP:20260423T080652Z
DTSTART;VALUE=DATE:20180716
SUMMARY:ICRTEL 2018 Notification Due
DESCRIPTION:ICRTEL 2018 â International Conference on Research in Teach
 ing\, Education & Learning\, 17-18 July\, Athens
URL:http://www.wikicfp.com/cfp/servlet/event.showcfp?eventid=72494&copyow
 nerid=109731
UID:cfp714199-N@wikicfp.com
END:VEVENT
BEGIN:VEVENT
DTSTAMP:20260423T080652Z
DTSTART;VALUE=DATE:20180716
SUMMARY:ICRTEL 2018 Final Version Due
DESCRIPTION:ICRTEL 2018 â International Conference on Research in Teach
 ing\, Education & Learning\, 17-18 July\, Athens
URL:http://www.wikicfp.com/cfp/servlet/event.showcfp?eventid=72494&copyow
 nerid=109731
UID:cfp714199-N@wikicfp.com
END:VEVENT
BEGIN:VEVENT
DTSTAMP:20260423T080652Z
DTSTART;VALUE=DATE:20181026
DTEND;VALUE=DATE:20181029
SUMMARY:ICDLE 2018
DESCRIPTION:2018 9th International Conference on Distance Learning and Ed
 ucation (ICDLE 2018)
URL:http://www.wikicfp.com/cfp/servlet/event.showcfp?eventid=73301&copyow
 nerid=109731
UID:cfp714191-E@wikicfp.com
END:VEVENT
BEGIN:VEVENT
DTSTAMP:20260423T080652Z
DTSTART;VALUE=DATE:20180825
SUMMARY:ICDLE 2018 Deadline
DESCRIPTION:2018 9th International Conference on Distance Learning and Ed
 ucation (ICDLE 2018)
URL:http://www.wikicfp.com/cfp/servlet/event.showcfp?eventid=73301&copyow
 nerid=109731
UID:cfp714191-D@wikicfp.com
END:VEVENT
BEGIN:VEVENT
DTSTAMP:20260423T080652Z
DTSTART;VALUE=DATE:20180905
DTEND;VALUE=DATE:20180907
SUMMARY:5th ICTEL 2018
DESCRIPTION:2018 - 15th International Conference on Teaching\, Education 
 & Learning (ICTEL)
URL:http://www.wikicfp.com/cfp/servlet/event.showcfp?eventid=68689&copyow
 nerid=109731
UID:cfp714197-E@wikicfp.com
END:VEVENT
BEGIN:VEVENT
DTSTAMP:20260423T080652Z
DTSTART;VALUE=DATE:20180903
SUMMARY:5th ICTEL 2018 Deadline
DESCRIPTION:2018 - 15th International Conference on Teaching\, Education 
 & Learning (ICTEL)
URL:http://www.wikicfp.com/cfp/servlet/event.showcfp?eventid=68689&copyow
 nerid=109731
UID:cfp714197-D@wikicfp.com
END:VEVENT
BEGIN:VEVENT
DTSTAMP:20260423T080652Z
DTSTART;VALUE=DATE:20180903
SUMMARY:5th ICTEL 2018 Notification Due
DESCRIPTION:2018 - 15th International Conference on Teaching\, Education 
 & Learning (ICTEL)
URL:http://www.wikicfp.com/cfp/servlet/event.showcfp?eventid=68689&copyow
 nerid=109731
UID:cfp714197-N@wikicfp.com
END:VEVENT
BEGIN:VEVENT
DTSTAMP:20260423T080652Z
DTSTART;VALUE=DATE:20180903
SUMMARY:5th ICTEL 2018 Final Version Due
DESCRIPTION:2018 - 15th International Conference on Teaching\, Education 
 & Learning (ICTEL)
URL:http://www.wikicfp.com/cfp/servlet/event.showcfp?eventid=68689&copyow
 nerid=109731
UID:cfp714197-N@wikicfp.com
END:VEVENT
END:VCALENDAR
