BEGIN:VCALENDAR
PRODID:-//WikiCFP//gigalove 1.0//EN
VERSION:2.0
CALSCALE:GREGORIAN
BEGIN:VEVENT
DTSTAMP:20260423T194628Z
DTSTART;VALUE=DATE:20100906
DTEND;VALUE=DATE:20100909
SUMMARY:SISPAD 2010
DESCRIPTION:International Conference on Simulation of Semiconductor Proce
 sses and Devices
URL:http://www.wikicfp.com/cfp/servlet/event.showcfp?eventid=7815&copyown
 erid=10877
UID:cfp80341-E@wikicfp.com
END:VEVENT
BEGIN:VEVENT
DTSTAMP:20260423T194628Z
DTSTART;VALUE=DATE:20100403
SUMMARY:SISPAD 2010 Deadline
DESCRIPTION:International Conference on Simulation of Semiconductor Proce
 sses and Devices
URL:http://www.wikicfp.com/cfp/servlet/event.showcfp?eventid=7815&copyown
 erid=10877
UID:cfp80341-D@wikicfp.com
END:VEVENT
BEGIN:VEVENT
DTSTAMP:20260423T194628Z
DTSTART;VALUE=DATE:20100517
SUMMARY:SISPAD 2010 Notification Due
DESCRIPTION:International Conference on Simulation of Semiconductor Proce
 sses and Devices
URL:http://www.wikicfp.com/cfp/servlet/event.showcfp?eventid=7815&copyown
 erid=10877
UID:cfp80341-N@wikicfp.com
END:VEVENT
BEGIN:VEVENT
DTSTAMP:20260423T194628Z
DTSTART;VALUE=DATE:20100620
SUMMARY:SISPAD 2010 Final Version Due
DESCRIPTION:International Conference on Simulation of Semiconductor Proce
 sses and Devices
URL:http://www.wikicfp.com/cfp/servlet/event.showcfp?eventid=7815&copyown
 erid=10877
UID:cfp80341-N@wikicfp.com
END:VEVENT
BEGIN:VEVENT
DTSTAMP:20260423T194628Z
DTSTART;VALUE=DATE:20100906
DTEND;VALUE=DATE:20100910
SUMMARY:NUSOD 2010
DESCRIPTION:10th International Conference on Numerical Simulation of Opto
 electronic Devices
URL:http://www.wikicfp.com/cfp/servlet/event.showcfp?eventid=7994&copyown
 erid=10877
UID:cfp80340-E@wikicfp.com
END:VEVENT
BEGIN:VEVENT
DTSTAMP:20260423T194628Z
DTSTART;VALUE=DATE:20100416
SUMMARY:NUSOD 2010 Deadline
DESCRIPTION:10th International Conference on Numerical Simulation of Opto
 electronic Devices
URL:http://www.wikicfp.com/cfp/servlet/event.showcfp?eventid=7994&copyown
 erid=10877
UID:cfp80340-D@wikicfp.com
END:VEVENT
BEGIN:VEVENT
DTSTAMP:20260423T194628Z
DTSTART;VALUE=DATE:20100503
SUMMARY:NUSOD 2010 Notification Due
DESCRIPTION:10th International Conference on Numerical Simulation of Opto
 electronic Devices
URL:http://www.wikicfp.com/cfp/servlet/event.showcfp?eventid=7994&copyown
 erid=10877
UID:cfp80340-N@wikicfp.com
END:VEVENT
BEGIN:VEVENT
DTSTAMP:20260423T194628Z
DTSTART;VALUE=DATE:20100907
DTEND;VALUE=DATE:20100911
SUMMARY:ICSES 2010
DESCRIPTION:International Conference on Signals and Electronic Systems
URL:http://www.wikicfp.com/cfp/servlet/event.showcfp?eventid=6421&copyown
 erid=10877
UID:cfp80333-E@wikicfp.com
END:VEVENT
BEGIN:VEVENT
DTSTAMP:20260423T194628Z
DTSTART;VALUE=DATE:20100507
SUMMARY:ICSES 2010 Deadline
DESCRIPTION:International Conference on Signals and Electronic Systems
URL:http://www.wikicfp.com/cfp/servlet/event.showcfp?eventid=6421&copyown
 erid=10877
UID:cfp80333-D@wikicfp.com
END:VEVENT
BEGIN:VEVENT
DTSTAMP:20260423T194628Z
DTSTART;VALUE=DATE:20100630
SUMMARY:ICSES 2010 Notification Due
DESCRIPTION:International Conference on Signals and Electronic Systems
URL:http://www.wikicfp.com/cfp/servlet/event.showcfp?eventid=6421&copyown
 erid=10877
UID:cfp80333-N@wikicfp.com
END:VEVENT
BEGIN:VEVENT
DTSTAMP:20260423T194628Z
DTSTART;VALUE=DATE:20100723
SUMMARY:ICSES 2010 Final Version Due
DESCRIPTION:International Conference on Signals and Electronic Systems
URL:http://www.wikicfp.com/cfp/servlet/event.showcfp?eventid=6421&copyown
 erid=10877
UID:cfp80333-N@wikicfp.com
END:VEVENT
BEGIN:VEVENT
DTSTAMP:20260423T194628Z
DTSTART;VALUE=DATE:20101025
DTEND;VALUE=DATE:20101028
SUMMARY:ASDAM 2010
DESCRIPTION:8th International Conference on Advanced Semiconductor Device
 s & Microsystems
URL:http://www.wikicfp.com/cfp/servlet/event.showcfp?eventid=8840&copyown
 erid=10877
UID:cfp80339-E@wikicfp.com
END:VEVENT
BEGIN:VEVENT
DTSTAMP:20260423T194628Z
DTSTART;VALUE=DATE:20100515
SUMMARY:ASDAM 2010 Deadline
DESCRIPTION:8th International Conference on Advanced Semiconductor Device
 s & Microsystems
URL:http://www.wikicfp.com/cfp/servlet/event.showcfp?eventid=8840&copyown
 erid=10877
UID:cfp80339-D@wikicfp.com
END:VEVENT
BEGIN:VEVENT
DTSTAMP:20260423T194628Z
DTSTART;VALUE=DATE:20100630
SUMMARY:ASDAM 2010 Notification Due
DESCRIPTION:8th International Conference on Advanced Semiconductor Device
 s & Microsystems
URL:http://www.wikicfp.com/cfp/servlet/event.showcfp?eventid=8840&copyown
 erid=10877
UID:cfp80339-N@wikicfp.com
END:VEVENT
BEGIN:VEVENT
DTSTAMP:20260423T194628Z
DTSTART;VALUE=DATE:20100915
SUMMARY:ASDAM 2010 Final Version Due
DESCRIPTION:8th International Conference on Advanced Semiconductor Device
 s & Microsystems
URL:http://www.wikicfp.com/cfp/servlet/event.showcfp?eventid=8840&copyown
 erid=10877
UID:cfp80339-N@wikicfp.com
END:VEVENT
BEGIN:VEVENT
DTSTAMP:20260423T194628Z
DTSTART;VALUE=DATE:20100908
DTEND;VALUE=DATE:20100911
SUMMARY:CCE 2010
DESCRIPTION:7th International Conference on Electrical Engineering\, Comp
 uting Science and Automatic Control (CCE 2010) (Formerly known as ICEEE)
 
URL:http://www.wikicfp.com/cfp/servlet/event.showcfp?eventid=9081&copyown
 erid=10877
UID:cfp80336-E@wikicfp.com
END:VEVENT
BEGIN:VEVENT
DTSTAMP:20260423T194628Z
DTSTART;VALUE=DATE:20100524
SUMMARY:CCE 2010 Deadline
DESCRIPTION:7th International Conference on Electrical Engineering\, Comp
 uting Science and Automatic Control (CCE 2010) (Formerly known as ICEEE)
 
URL:http://www.wikicfp.com/cfp/servlet/event.showcfp?eventid=9081&copyown
 erid=10877
UID:cfp80336-D@wikicfp.com
END:VEVENT
BEGIN:VEVENT
DTSTAMP:20260423T194628Z
DTSTART;VALUE=DATE:20100628
SUMMARY:CCE 2010 Notification Due
DESCRIPTION:7th International Conference on Electrical Engineering\, Comp
 uting Science and Automatic Control (CCE 2010) (Formerly known as ICEEE)
 
URL:http://www.wikicfp.com/cfp/servlet/event.showcfp?eventid=9081&copyown
 erid=10877
UID:cfp80336-N@wikicfp.com
END:VEVENT
BEGIN:VEVENT
DTSTAMP:20260423T194628Z
DTSTART;VALUE=DATE:20100726
SUMMARY:CCE 2010 Final Version Due
DESCRIPTION:7th International Conference on Electrical Engineering\, Comp
 uting Science and Automatic Control (CCE 2010) (Formerly known as ICEEE)
 
URL:http://www.wikicfp.com/cfp/servlet/event.showcfp?eventid=9081&copyown
 erid=10877
UID:cfp80336-N@wikicfp.com
END:VEVENT
BEGIN:VEVENT
DTSTAMP:20260423T194628Z
DTSTART;VALUE=DATE:20101018
DTEND;VALUE=DATE:20101021
SUMMARY:ISSM 2010
DESCRIPTION:International Symposium on Semiconductor Manufacturing
URL:http://www.wikicfp.com/cfp/servlet/event.showcfp?eventid=9288&copyown
 erid=10877
UID:cfp80338-E@wikicfp.com
END:VEVENT
BEGIN:VEVENT
DTSTAMP:20260423T194628Z
DTSTART;VALUE=DATE:20100531
SUMMARY:ISSM 2010 Deadline
DESCRIPTION:International Symposium on Semiconductor Manufacturing
URL:http://www.wikicfp.com/cfp/servlet/event.showcfp?eventid=9288&copyown
 erid=10877
UID:cfp80338-D@wikicfp.com
END:VEVENT
BEGIN:VEVENT
DTSTAMP:20260423T194628Z
DTSTART;VALUE=DATE:20100716
SUMMARY:ISSM 2010 Notification Due
DESCRIPTION:International Symposium on Semiconductor Manufacturing
URL:http://www.wikicfp.com/cfp/servlet/event.showcfp?eventid=9288&copyown
 erid=10877
UID:cfp80338-N@wikicfp.com
END:VEVENT
BEGIN:VEVENT
DTSTAMP:20260423T194628Z
DTSTART;VALUE=DATE:20100831
SUMMARY:ISSM 2010 Final Version Due
DESCRIPTION:International Symposium on Semiconductor Manufacturing
URL:http://www.wikicfp.com/cfp/servlet/event.showcfp?eventid=9288&copyown
 erid=10877
UID:cfp80338-N@wikicfp.com
END:VEVENT
BEGIN:VEVENT
DTSTAMP:20260423T194628Z
DTSTART;VALUE=DATE:20101011
DTEND;VALUE=DATE:20101014
SUMMARY:CAS 2010
DESCRIPTION:International Semiconductor Conference
URL:http://www.wikicfp.com/cfp/servlet/event.showcfp?eventid=7764&copyown
 erid=10877
UID:cfp80337-E@wikicfp.com
END:VEVENT
BEGIN:VEVENT
DTSTAMP:20260423T194628Z
DTSTART;VALUE=DATE:20100601
SUMMARY:CAS 2010 Deadline
DESCRIPTION:International Semiconductor Conference
URL:http://www.wikicfp.com/cfp/servlet/event.showcfp?eventid=7764&copyown
 erid=10877
UID:cfp80337-D@wikicfp.com
END:VEVENT
BEGIN:VEVENT
DTSTAMP:20260423T194628Z
DTSTART;VALUE=DATE:20100715
SUMMARY:CAS 2010 Notification Due
DESCRIPTION:International Semiconductor Conference
URL:http://www.wikicfp.com/cfp/servlet/event.showcfp?eventid=7764&copyown
 erid=10877
UID:cfp80337-N@wikicfp.com
END:VEVENT
BEGIN:VEVENT
DTSTAMP:20260423T194628Z
DTSTART;VALUE=DATE:20100726
SUMMARY:CAS 2010 Final Version Due
DESCRIPTION:International Semiconductor Conference
URL:http://www.wikicfp.com/cfp/servlet/event.showcfp?eventid=7764&copyown
 erid=10877
UID:cfp80337-N@wikicfp.com
END:VEVENT
BEGIN:VEVENT
DTSTAMP:20260423T194628Z
DTSTART;VALUE=DATE:20101108
DTEND;VALUE=DATE:20101111
SUMMARY:A-SSCC 2010
DESCRIPTION:IEEE Asian Solid-State Circuits Conference
URL:http://www.wikicfp.com/cfp/servlet/event.showcfp?eventid=7803&copyown
 erid=10877
UID:cfp80332-E@wikicfp.com
END:VEVENT
BEGIN:VEVENT
DTSTAMP:20260423T194628Z
DTSTART;VALUE=DATE:20100607
SUMMARY:A-SSCC 2010 Deadline
DESCRIPTION:IEEE Asian Solid-State Circuits Conference
URL:http://www.wikicfp.com/cfp/servlet/event.showcfp?eventid=7803&copyown
 erid=10877
UID:cfp80332-D@wikicfp.com
END:VEVENT
BEGIN:VEVENT
DTSTAMP:20260423T194628Z
DTSTART;VALUE=DATE:20100726
SUMMARY:A-SSCC 2010 Notification Due
DESCRIPTION:IEEE Asian Solid-State Circuits Conference
URL:http://www.wikicfp.com/cfp/servlet/event.showcfp?eventid=7803&copyown
 erid=10877
UID:cfp80332-N@wikicfp.com
END:VEVENT
BEGIN:VEVENT
DTSTAMP:20260423T194628Z
DTSTART;VALUE=DATE:20100913
SUMMARY:A-SSCC 2010 Final Version Due
DESCRIPTION:IEEE Asian Solid-State Circuits Conference
URL:http://www.wikicfp.com/cfp/servlet/event.showcfp?eventid=7803&copyown
 erid=10877
UID:cfp80332-N@wikicfp.com
END:VEVENT
BEGIN:VEVENT
DTSTAMP:20260423T194628Z
DTSTART;VALUE=DATE:20101219
DTEND;VALUE=DATE:20101223
SUMMARY:ICM 2010
DESCRIPTION:International Conference on Microelectronics
URL:http://www.wikicfp.com/cfp/servlet/event.showcfp?eventid=7622&copyown
 erid=10877
UID:cfp80331-E@wikicfp.com
END:VEVENT
BEGIN:VEVENT
DTSTAMP:20260423T194628Z
DTSTART;VALUE=DATE:20100614
SUMMARY:ICM 2010 Deadline
DESCRIPTION:International Conference on Microelectronics
URL:http://www.wikicfp.com/cfp/servlet/event.showcfp?eventid=7622&copyown
 erid=10877
UID:cfp80331-D@wikicfp.com
END:VEVENT
BEGIN:VEVENT
DTSTAMP:20260423T194628Z
DTSTART;VALUE=DATE:20100920
SUMMARY:ICM 2010 Final Version Due
DESCRIPTION:International Conference on Microelectronics
URL:http://www.wikicfp.com/cfp/servlet/event.showcfp?eventid=7622&copyown
 erid=10877
UID:cfp80331-N@wikicfp.com
END:VEVENT
BEGIN:VEVENT
DTSTAMP:20260423T194628Z
DTSTART;VALUE=DATE:20101101
DTEND;VALUE=DATE:20101105
SUMMARY:ICSICT 2010
DESCRIPTION:10th IEEE International Conference on Solid-State and Integra
 ted Circuit Technology
URL:http://www.wikicfp.com/cfp/servlet/event.showcfp?eventid=6964&copyown
 erid=10877
UID:cfp80329-E@wikicfp.com
END:VEVENT
BEGIN:VEVENT
DTSTAMP:20260423T194628Z
DTSTART;VALUE=DATE:20100715
SUMMARY:ICSICT 2010 Deadline
DESCRIPTION:10th IEEE International Conference on Solid-State and Integra
 ted Circuit Technology
URL:http://www.wikicfp.com/cfp/servlet/event.showcfp?eventid=6964&copyown
 erid=10877
UID:cfp80329-D@wikicfp.com
END:VEVENT
BEGIN:VEVENT
DTSTAMP:20260423T194628Z
DTSTART;VALUE=DATE:20100815
SUMMARY:ICSICT 2010 Notification Due
DESCRIPTION:10th IEEE International Conference on Solid-State and Integra
 ted Circuit Technology
URL:http://www.wikicfp.com/cfp/servlet/event.showcfp?eventid=6964&copyown
 erid=10877
UID:cfp80329-N@wikicfp.com
END:VEVENT
BEGIN:VEVENT
DTSTAMP:20260423T194628Z
DTSTART;VALUE=DATE:20101212
DTEND;VALUE=DATE:20101216
SUMMARY:ICECS 2010
DESCRIPTION:17th IEEE International Conference on Electronics\, Circuits\
 , and Systems
URL:http://www.wikicfp.com/cfp/servlet/event.showcfp?eventid=7680&copyown
 erid=10877
UID:cfp80335-E@wikicfp.com
END:VEVENT
BEGIN:VEVENT
DTSTAMP:20260423T194628Z
DTSTART;VALUE=DATE:20101010
SUMMARY:ICECS 2010 Abstract Due
DESCRIPTION:17th IEEE International Conference on Electronics\, Circuits\
 , and Systems
URL:http://www.wikicfp.com/cfp/servlet/event.showcfp?eventid=7680&copyown
 erid=10877
UID:cfp80335-A@wikicfp.com
END:VEVENT
BEGIN:VEVENT
DTSTAMP:20260423T194628Z
DTSTART;VALUE=DATE:20100715
SUMMARY:ICECS 2010 Deadline
DESCRIPTION:17th IEEE International Conference on Electronics\, Circuits\
 , and Systems
URL:http://www.wikicfp.com/cfp/servlet/event.showcfp?eventid=7680&copyown
 erid=10877
UID:cfp80335-D@wikicfp.com
END:VEVENT
BEGIN:VEVENT
DTSTAMP:20260423T194628Z
DTSTART;VALUE=DATE:20100925
SUMMARY:ICECS 2010 Notification Due
DESCRIPTION:17th IEEE International Conference on Electronics\, Circuits\
 , and Systems
URL:http://www.wikicfp.com/cfp/servlet/event.showcfp?eventid=7680&copyown
 erid=10877
UID:cfp80335-N@wikicfp.com
END:VEVENT
BEGIN:VEVENT
DTSTAMP:20260423T194628Z
DTSTART;VALUE=DATE:20101010
SUMMARY:ICECS 2010 Final Version Due
DESCRIPTION:17th IEEE International Conference on Electronics\, Circuits\
 , and Systems
URL:http://www.wikicfp.com/cfp/servlet/event.showcfp?eventid=7680&copyown
 erid=10877
UID:cfp80335-N@wikicfp.com
END:VEVENT
BEGIN:VEVENT
DTSTAMP:20260423T194628Z
DTSTART;VALUE=DATE:20101111
DTEND;VALUE=DATE:20101115
SUMMARY:ICCT 2010
DESCRIPTION:12th IEEE International Conference on Communication Technolog
 y
URL:http://www.wikicfp.com/cfp/servlet/event.showcfp?eventid=8198&copyown
 erid=10877
UID:cfp80326-E@wikicfp.com
END:VEVENT
BEGIN:VEVENT
DTSTAMP:20260423T194628Z
DTSTART;VALUE=DATE:20100730
SUMMARY:ICCT 2010 Deadline
DESCRIPTION:12th IEEE International Conference on Communication Technolog
 y
URL:http://www.wikicfp.com/cfp/servlet/event.showcfp?eventid=8198&copyown
 erid=10877
UID:cfp80326-D@wikicfp.com
END:VEVENT
BEGIN:VEVENT
DTSTAMP:20260423T194628Z
DTSTART;VALUE=DATE:20100830
SUMMARY:ICCT 2010 Notification Due
DESCRIPTION:12th IEEE International Conference on Communication Technolog
 y
URL:http://www.wikicfp.com/cfp/servlet/event.showcfp?eventid=8198&copyown
 erid=10877
UID:cfp80326-N@wikicfp.com
END:VEVENT
BEGIN:VEVENT
DTSTAMP:20260423T194628Z
DTSTART;VALUE=DATE:20100915
SUMMARY:ICCT 2010 Final Version Due
DESCRIPTION:12th IEEE International Conference on Communication Technolog
 y
URL:http://www.wikicfp.com/cfp/servlet/event.showcfp?eventid=8198&copyown
 erid=10877
UID:cfp80326-N@wikicfp.com
END:VEVENT
BEGIN:VEVENT
DTSTAMP:20260423T194628Z
DTSTART;VALUE=DATE:20101118
DTEND;VALUE=DATE:20101120
SUMMARY:IEDMS 2010
DESCRIPTION:International Electron Devices and Materials Symposium
URL:http://www.wikicfp.com/cfp/servlet/event.showcfp?eventid=8897&copyown
 erid=10877
UID:cfp80330-E@wikicfp.com
END:VEVENT
BEGIN:VEVENT
DTSTAMP:20260423T194628Z
DTSTART;VALUE=DATE:20100731
SUMMARY:IEDMS 2010 Deadline
DESCRIPTION:International Electron Devices and Materials Symposium
URL:http://www.wikicfp.com/cfp/servlet/event.showcfp?eventid=8897&copyown
 erid=10877
UID:cfp80330-D@wikicfp.com
END:VEVENT
BEGIN:VEVENT
DTSTAMP:20260423T194628Z
DTSTART;VALUE=DATE:20100831
SUMMARY:IEDMS 2010 Notification Due
DESCRIPTION:International Electron Devices and Materials Symposium
URL:http://www.wikicfp.com/cfp/servlet/event.showcfp?eventid=8897&copyown
 erid=10877
UID:cfp80330-N@wikicfp.com
END:VEVENT
BEGIN:VEVENT
DTSTAMP:20260423T194628Z
DTSTART;VALUE=DATE:20100930
SUMMARY:IEDMS 2010 Final Version Due
DESCRIPTION:International Electron Devices and Materials Symposium
URL:http://www.wikicfp.com/cfp/servlet/event.showcfp?eventid=8897&copyown
 erid=10877
UID:cfp80330-N@wikicfp.com
END:VEVENT
BEGIN:VEVENT
DTSTAMP:20260423T194628Z
DTSTART;VALUE=DATE:20101215
DTEND;VALUE=DATE:20101218
SUMMARY:EDSSC 2010
DESCRIPTION:IEEE International Conference of Electron Devices and Solid- 
 State Circuits
URL:http://www.wikicfp.com/cfp/servlet/event.showcfp?eventid=9286&copyown
 erid=10877
UID:cfp80328-E@wikicfp.com
END:VEVENT
BEGIN:VEVENT
DTSTAMP:20260423T194628Z
DTSTART;VALUE=DATE:20100816
SUMMARY:EDSSC 2010 Deadline
DESCRIPTION:IEEE International Conference of Electron Devices and Solid- 
 State Circuits
URL:http://www.wikicfp.com/cfp/servlet/event.showcfp?eventid=9286&copyown
 erid=10877
UID:cfp80328-D@wikicfp.com
END:VEVENT
BEGIN:VEVENT
DTSTAMP:20260423T194628Z
DTSTART;VALUE=DATE:20101202
DTEND;VALUE=DATE:20101206
SUMMARY:ELECO 2010
DESCRIPTION:International Conference on Electrical\, Electronics and Comp
 uter Engineering
URL:http://www.wikicfp.com/cfp/servlet/event.showcfp?eventid=9082&copyown
 erid=10877
UID:cfp80334-E@wikicfp.com
END:VEVENT
BEGIN:VEVENT
DTSTAMP:20260423T194628Z
DTSTART;VALUE=DATE:20100903
SUMMARY:ELECO 2010 Deadline
DESCRIPTION:International Conference on Electrical\, Electronics and Comp
 uter Engineering
URL:http://www.wikicfp.com/cfp/servlet/event.showcfp?eventid=9082&copyown
 erid=10877
UID:cfp80334-D@wikicfp.com
END:VEVENT
BEGIN:VEVENT
DTSTAMP:20260423T194628Z
DTSTART;VALUE=DATE:20101015
SUMMARY:ELECO 2010 Notification Due
DESCRIPTION:International Conference on Electrical\, Electronics and Comp
 uter Engineering
URL:http://www.wikicfp.com/cfp/servlet/event.showcfp?eventid=9082&copyown
 erid=10877
UID:cfp80334-N@wikicfp.com
END:VEVENT
BEGIN:VEVENT
DTSTAMP:20260423T194628Z
DTSTART;VALUE=DATE:20101112
SUMMARY:ELECO 2010 Final Version Due
DESCRIPTION:International Conference on Electrical\, Electronics and Comp
 uter Engineering
URL:http://www.wikicfp.com/cfp/servlet/event.showcfp?eventid=9082&copyown
 erid=10877
UID:cfp80334-N@wikicfp.com
END:VEVENT
BEGIN:VEVENT
DTSTAMP:20260423T194628Z
DTSTART;VALUE=DATE:20110209
DTEND;VALUE=DATE:20110212
SUMMARY:CDE 2011
DESCRIPTION:8Th Spanish Conference On Electron Devices
URL:http://www.wikicfp.com/cfp/servlet/event.showcfp?eventid=8514&copyown
 erid=10877
UID:cfp80327-E@wikicfp.com
END:VEVENT
BEGIN:VEVENT
DTSTAMP:20260423T194628Z
DTSTART;VALUE=DATE:20101015
SUMMARY:CDE 2011 Deadline
DESCRIPTION:8Th Spanish Conference On Electron Devices
URL:http://www.wikicfp.com/cfp/servlet/event.showcfp?eventid=8514&copyown
 erid=10877
UID:cfp80327-D@wikicfp.com
END:VEVENT
BEGIN:VEVENT
DTSTAMP:20260423T194628Z
DTSTART;VALUE=DATE:20101201
SUMMARY:CDE 2011 Notification Due
DESCRIPTION:8Th Spanish Conference On Electron Devices
URL:http://www.wikicfp.com/cfp/servlet/event.showcfp?eventid=8514&copyown
 erid=10877
UID:cfp80327-N@wikicfp.com
END:VEVENT
BEGIN:VEVENT
DTSTAMP:20260423T194628Z
DTSTART;VALUE=DATE:20110114
SUMMARY:CDE 2011 Final Version Due
DESCRIPTION:8Th Spanish Conference On Electron Devices
URL:http://www.wikicfp.com/cfp/servlet/event.showcfp?eventid=8514&copyown
 erid=10877
UID:cfp80327-N@wikicfp.com
END:VEVENT
BEGIN:VEVENT
DTSTAMP:20260423T194628Z
DTSTART;VALUE=DATE:20110630
DTEND;VALUE=DATE:20110702
SUMMARY:ISSCS 2011
DESCRIPTION:10th International Symposium on Signals\, Circuits and System
 s
URL:http://www.wikicfp.com/cfp/servlet/event.showcfp?eventid=10380&copyow
 nerid=10877
UID:cfp139532-E@wikicfp.com
END:VEVENT
BEGIN:VEVENT
DTSTAMP:20260423T194628Z
DTSTART;VALUE=DATE:20110207
SUMMARY:ISSCS 2011 Deadline
DESCRIPTION:10th International Symposium on Signals\, Circuits and System
 s
URL:http://www.wikicfp.com/cfp/servlet/event.showcfp?eventid=10380&copyow
 nerid=10877
UID:cfp139532-D@wikicfp.com
END:VEVENT
BEGIN:VEVENT
DTSTAMP:20260423T194628Z
DTSTART;VALUE=DATE:20110404
SUMMARY:ISSCS 2011 Notification Due
DESCRIPTION:10th International Symposium on Signals\, Circuits and System
 s
URL:http://www.wikicfp.com/cfp/servlet/event.showcfp?eventid=10380&copyow
 nerid=10877
UID:cfp139532-N@wikicfp.com
END:VEVENT
BEGIN:VEVENT
DTSTAMP:20260423T194628Z
DTSTART;VALUE=DATE:20110502
SUMMARY:ISSCS 2011 Final Version Due
DESCRIPTION:10th International Symposium on Signals\, Circuits and System
 s
URL:http://www.wikicfp.com/cfp/servlet/event.showcfp?eventid=10380&copyow
 nerid=10877
UID:cfp139532-N@wikicfp.com
END:VEVENT
BEGIN:VEVENT
DTSTAMP:20260423T194628Z
DTSTART;VALUE=DATE:20110807
DTEND;VALUE=DATE:20110811
SUMMARY:MWSCAS 2011
DESCRIPTION:IEEE 54th International Midwest Symposium on Circuits and Sys
 tems
URL:http://www.wikicfp.com/cfp/servlet/event.showcfp?eventid=10125&copyow
 nerid=10877
UID:cfp139531-E@wikicfp.com
END:VEVENT
BEGIN:VEVENT
DTSTAMP:20260423T194628Z
DTSTART;VALUE=DATE:20110304
SUMMARY:MWSCAS 2011 Deadline
DESCRIPTION:IEEE 54th International Midwest Symposium on Circuits and Sys
 tems
URL:http://www.wikicfp.com/cfp/servlet/event.showcfp?eventid=10125&copyow
 nerid=10877
UID:cfp139531-D@wikicfp.com
END:VEVENT
BEGIN:VEVENT
DTSTAMP:20260423T194628Z
DTSTART;VALUE=DATE:20110506
SUMMARY:MWSCAS 2011 Notification Due
DESCRIPTION:IEEE 54th International Midwest Symposium on Circuits and Sys
 tems
URL:http://www.wikicfp.com/cfp/servlet/event.showcfp?eventid=10125&copyow
 nerid=10877
UID:cfp139531-N@wikicfp.com
END:VEVENT
BEGIN:VEVENT
DTSTAMP:20260423T194628Z
DTSTART;VALUE=DATE:20110610
SUMMARY:MWSCAS 2011 Final Version Due
DESCRIPTION:IEEE 54th International Midwest Symposium on Circuits and Sys
 tems
URL:http://www.wikicfp.com/cfp/servlet/event.showcfp?eventid=10125&copyow
 nerid=10877
UID:cfp139531-N@wikicfp.com
END:VEVENT
BEGIN:VEVENT
DTSTAMP:20260423T194628Z
DTSTART;VALUE=DATE:20110528
DTEND;VALUE=DATE:20110530
SUMMARY:ICCSS  2011
DESCRIPTION:2011 International Conference on Circuits\, System and Simula
 tion 
URL:http://www.wikicfp.com/cfp/servlet/event.showcfp?eventid=10579&copyow
 nerid=10877
UID:cfp139533-E@wikicfp.com
END:VEVENT
BEGIN:VEVENT
DTSTAMP:20260423T194628Z
DTSTART;VALUE=DATE:20110310
SUMMARY:ICCSS  2011 Deadline
DESCRIPTION:2011 International Conference on Circuits\, System and Simula
 tion 
URL:http://www.wikicfp.com/cfp/servlet/event.showcfp?eventid=10579&copyow
 nerid=10877
UID:cfp139533-D@wikicfp.com
END:VEVENT
BEGIN:VEVENT
DTSTAMP:20260423T194628Z
DTSTART;VALUE=DATE:20110301
SUMMARY:ICCSS  2011 Notification Due
DESCRIPTION:2011 International Conference on Circuits\, System and Simula
 tion 
URL:http://www.wikicfp.com/cfp/servlet/event.showcfp?eventid=10579&copyow
 nerid=10877
UID:cfp139533-N@wikicfp.com
END:VEVENT
BEGIN:VEVENT
DTSTAMP:20260423T194628Z
DTSTART;VALUE=DATE:20110315
SUMMARY:ICCSS  2011 Final Version Due
DESCRIPTION:2011 International Conference on Circuits\, System and Simula
 tion 
URL:http://www.wikicfp.com/cfp/servlet/event.showcfp?eventid=10579&copyow
 nerid=10877
UID:cfp139533-N@wikicfp.com
END:VEVENT
BEGIN:VEVENT
DTSTAMP:20260423T194628Z
DTSTART;VALUE=DATE:20110727
DTEND;VALUE=DATE:20110730
SUMMARY:ICECS 2011
DESCRIPTION:International Conference on Electronics\, Circuits and System
 s
URL:http://www.wikicfp.com/cfp/servlet/event.showcfp?eventid=11516&copyow
 nerid=10877
UID:cfp139530-E@wikicfp.com
END:VEVENT
BEGIN:VEVENT
DTSTAMP:20260423T194628Z
DTSTART;VALUE=DATE:20110331
SUMMARY:ICECS 2011 Deadline
DESCRIPTION:International Conference on Electronics\, Circuits and System
 s
URL:http://www.wikicfp.com/cfp/servlet/event.showcfp?eventid=11516&copyow
 nerid=10877
UID:cfp139530-D@wikicfp.com
END:VEVENT
BEGIN:VEVENT
DTSTAMP:20260423T194628Z
DTSTART;VALUE=DATE:20110430
SUMMARY:ICECS 2011 Notification Due
DESCRIPTION:International Conference on Electronics\, Circuits and System
 s
URL:http://www.wikicfp.com/cfp/servlet/event.showcfp?eventid=11516&copyow
 nerid=10877
UID:cfp139530-N@wikicfp.com
END:VEVENT
BEGIN:VEVENT
DTSTAMP:20260423T194628Z
DTSTART;VALUE=DATE:20110531
SUMMARY:ICECS 2011 Final Version Due
DESCRIPTION:International Conference on Electronics\, Circuits and System
 s
URL:http://www.wikicfp.com/cfp/servlet/event.showcfp?eventid=11516&copyow
 nerid=10877
UID:cfp139530-N@wikicfp.com
END:VEVENT
BEGIN:VEVENT
DTSTAMP:20260423T194628Z
DTSTART;VALUE=DATE:20110829
DTEND;VALUE=DATE:20110901
SUMMARY:ECCTD 2011
DESCRIPTION:The 20th European Conference on Circuit Theory and Design
URL:http://www.wikicfp.com/cfp/servlet/event.showcfp?eventid=10124&copyow
 nerid=10877
UID:cfp139529-E@wikicfp.com
END:VEVENT
BEGIN:VEVENT
DTSTAMP:20260423T194628Z
DTSTART;VALUE=DATE:20110408
SUMMARY:ECCTD 2011 Deadline
DESCRIPTION:The 20th European Conference on Circuit Theory and Design
URL:http://www.wikicfp.com/cfp/servlet/event.showcfp?eventid=10124&copyow
 nerid=10877
UID:cfp139529-D@wikicfp.com
END:VEVENT
BEGIN:VEVENT
DTSTAMP:20260423T194628Z
DTSTART;VALUE=DATE:20110615
SUMMARY:ECCTD 2011 Notification Due
DESCRIPTION:The 20th European Conference on Circuit Theory and Design
URL:http://www.wikicfp.com/cfp/servlet/event.showcfp?eventid=10124&copyow
 nerid=10877
UID:cfp139529-N@wikicfp.com
END:VEVENT
BEGIN:VEVENT
DTSTAMP:20260423T194628Z
DTSTART;VALUE=DATE:20110707
SUMMARY:ECCTD 2011 Final Version Due
DESCRIPTION:The 20th European Conference on Circuit Theory and Design
URL:http://www.wikicfp.com/cfp/servlet/event.showcfp?eventid=10124&copyow
 nerid=10877
UID:cfp139529-N@wikicfp.com
END:VEVENT
END:VCALENDAR
