BEGIN:VCALENDAR
PRODID:-//WikiCFP//robbwu 1.0//EN
VERSION:2.0
CALSCALE:GREGORIAN
BEGIN:VEVENT
DTSTAMP:20260423T210558Z
DTSTART;VALUE=DATE:20180624
DTEND;VALUE=DATE:20180629
SUMMARY:ISC HPC 2018
DESCRIPTION:ISC High Performance 2018
URL:http://www.wikicfp.com/cfp/servlet/event.showcfp?eventid=66386&copyow
 nerid=107737
UID:cfp710232-E@wikicfp.com
END:VEVENT
BEGIN:VEVENT
DTSTAMP:20260423T210558Z
DTSTART;VALUE=DATE:20171230
SUMMARY:ISC HPC 2018 Deadline
DESCRIPTION:ISC High Performance 2018
URL:http://www.wikicfp.com/cfp/servlet/event.showcfp?eventid=66386&copyow
 nerid=107737
UID:cfp710232-D@wikicfp.com
END:VEVENT
BEGIN:VEVENT
DTSTAMP:20260423T210558Z
DTSTART;VALUE=DATE:20180305
SUMMARY:ISC HPC 2018 Notification Due
DESCRIPTION:ISC High Performance 2018
URL:http://www.wikicfp.com/cfp/servlet/event.showcfp?eventid=66386&copyow
 nerid=107737
UID:cfp710232-N@wikicfp.com
END:VEVENT
BEGIN:VEVENT
DTSTAMP:20260423T210558Z
DTSTART;VALUE=DATE:20180402
SUMMARY:ISC HPC 2018 Final Version Due
DESCRIPTION:ISC High Performance 2018
URL:http://www.wikicfp.com/cfp/servlet/event.showcfp?eventid=66386&copyow
 nerid=107737
UID:cfp710232-N@wikicfp.com
END:VEVENT
BEGIN:VEVENT
DTSTAMP:20260423T210558Z
DTSTART;VALUE=DATE:20180702
DTEND;VALUE=DATE:20180705
SUMMARY:PASC 2018
DESCRIPTION:Platform for Advanced Scientific Computing 
URL:http://www.wikicfp.com/cfp/servlet/event.showcfp?eventid=69968&copyow
 nerid=107737
UID:cfp754676-E@wikicfp.com
END:VEVENT
BEGIN:VEVENT
DTSTAMP:20260423T210558Z
DTSTART;VALUE=DATE:20180119
SUMMARY:PASC 2018 Deadline
DESCRIPTION:Platform for Advanced Scientific Computing 
URL:http://www.wikicfp.com/cfp/servlet/event.showcfp?eventid=69968&copyow
 nerid=107737
UID:cfp754676-D@wikicfp.com
END:VEVENT
BEGIN:VEVENT
DTSTAMP:20260423T210558Z
DTSTART;VALUE=DATE:20180412
SUMMARY:PASC 2018 Notification Due
DESCRIPTION:Platform for Advanced Scientific Computing 
URL:http://www.wikicfp.com/cfp/servlet/event.showcfp?eventid=69968&copyow
 nerid=107737
UID:cfp754676-N@wikicfp.com
END:VEVENT
BEGIN:VEVENT
DTSTAMP:20260423T210558Z
DTSTART;VALUE=DATE:20180512
SUMMARY:PASC 2018 Final Version Due
DESCRIPTION:Platform for Advanced Scientific Computing 
URL:http://www.wikicfp.com/cfp/servlet/event.showcfp?eventid=69968&copyow
 nerid=107737
UID:cfp754676-N@wikicfp.com
END:VEVENT
BEGIN:VEVENT
DTSTAMP:20260423T210558Z
DTSTART;VALUE=DATE:20180611
DTEND;VALUE=DATE:20180616
SUMMARY:HPDC 2018
DESCRIPTION:The 27th International ACM Symposium on High-Performance Para
 llel and Distributed Computing (HPDC'18)
URL:http://www.wikicfp.com/cfp/servlet/event.showcfp?eventid=68336&copyow
 nerid=107737
UID:cfp710231-E@wikicfp.com
END:VEVENT
BEGIN:VEVENT
DTSTAMP:20260423T210558Z
DTSTART;VALUE=DATE:20180117
SUMMARY:HPDC 2018 Abstract Due
DESCRIPTION:The 27th International ACM Symposium on High-Performance Para
 llel and Distributed Computing (HPDC'18)
URL:http://www.wikicfp.com/cfp/servlet/event.showcfp?eventid=68336&copyow
 nerid=107737
UID:cfp710231-A@wikicfp.com
END:VEVENT
BEGIN:VEVENT
DTSTAMP:20260423T210558Z
DTSTART;VALUE=DATE:20180124
SUMMARY:HPDC 2018 Deadline
DESCRIPTION:The 27th International ACM Symposium on High-Performance Para
 llel and Distributed Computing (HPDC'18)
URL:http://www.wikicfp.com/cfp/servlet/event.showcfp?eventid=68336&copyow
 nerid=107737
UID:cfp710231-D@wikicfp.com
END:VEVENT
BEGIN:VEVENT
DTSTAMP:20260423T210558Z
DTSTART;VALUE=DATE:20180329
SUMMARY:HPDC 2018 Notification Due
DESCRIPTION:The 27th International ACM Symposium on High-Performance Para
 llel and Distributed Computing (HPDC'18)
URL:http://www.wikicfp.com/cfp/servlet/event.showcfp?eventid=68336&copyow
 nerid=107737
UID:cfp710231-N@wikicfp.com
END:VEVENT
BEGIN:VEVENT
DTSTAMP:20260423T210558Z
DTSTART;VALUE=DATE:20180412
SUMMARY:HPDC 2018 Final Version Due
DESCRIPTION:The 27th International ACM Symposium on High-Performance Para
 llel and Distributed Computing (HPDC'18)
URL:http://www.wikicfp.com/cfp/servlet/event.showcfp?eventid=68336&copyow
 nerid=107737
UID:cfp710231-N@wikicfp.com
END:VEVENT
BEGIN:VEVENT
DTSTAMP:20260423T210558Z
DTSTART;VALUE=DATE:20180613
DTEND;VALUE=DATE:20180616
SUMMARY:ICS 2018
DESCRIPTION:the 32nd ACM International Conference on Supercomputing
URL:http://www.wikicfp.com/cfp/servlet/event.showcfp?eventid=67395&copyow
 nerid=107737
UID:cfp710230-E@wikicfp.com
END:VEVENT
BEGIN:VEVENT
DTSTAMP:20260423T210558Z
DTSTART;VALUE=DATE:20180129
SUMMARY:ICS 2018 Deadline
DESCRIPTION:the 32nd ACM International Conference on Supercomputing
URL:http://www.wikicfp.com/cfp/servlet/event.showcfp?eventid=67395&copyow
 nerid=107737
UID:cfp710230-D@wikicfp.com
END:VEVENT
BEGIN:VEVENT
DTSTAMP:20260423T210558Z
DTSTART;VALUE=DATE:20180325
SUMMARY:ICS 2018 Notification Due
DESCRIPTION:the 32nd ACM International Conference on Supercomputing
URL:http://www.wikicfp.com/cfp/servlet/event.showcfp?eventid=67395&copyow
 nerid=107737
UID:cfp710230-N@wikicfp.com
END:VEVENT
BEGIN:VEVENT
DTSTAMP:20260423T210558Z
DTSTART;VALUE=DATE:20180525
DTEND;VALUE=DATE:20180526
SUMMARY:JSSPP 2018
DESCRIPTION:Job Scheduling Strategies for Parallel Processing
URL:http://www.wikicfp.com/cfp/servlet/event.showcfp?eventid=69450&copyow
 nerid=107737
UID:cfp710236-E@wikicfp.com
END:VEVENT
BEGIN:VEVENT
DTSTAMP:20260423T210558Z
DTSTART;VALUE=DATE:20180211
SUMMARY:JSSPP 2018 Deadline
DESCRIPTION:Job Scheduling Strategies for Parallel Processing
URL:http://www.wikicfp.com/cfp/servlet/event.showcfp?eventid=69450&copyow
 nerid=107737
UID:cfp710236-D@wikicfp.com
END:VEVENT
BEGIN:VEVENT
DTSTAMP:20260423T210558Z
DTSTART;VALUE=DATE:20180311
SUMMARY:JSSPP 2018 Notification Due
DESCRIPTION:Job Scheduling Strategies for Parallel Processing
URL:http://www.wikicfp.com/cfp/servlet/event.showcfp?eventid=69450&copyow
 nerid=107737
UID:cfp710236-N@wikicfp.com
END:VEVENT
BEGIN:VEVENT
DTSTAMP:20260423T210558Z
DTSTART;VALUE=DATE:20180501
SUMMARY:JSSPP 2018 Final Version Due
DESCRIPTION:Job Scheduling Strategies for Parallel Processing
URL:http://www.wikicfp.com/cfp/servlet/event.showcfp?eventid=69450&copyow
 nerid=107737
UID:cfp710236-N@wikicfp.com
END:VEVENT
BEGIN:VEVENT
DTSTAMP:20260423T210558Z
DTSTART;VALUE=DATE:20180827
DTEND;VALUE=DATE:20180901
SUMMARY:Euro-Par 2018
DESCRIPTION:European Conference on Parallel Processing
URL:http://www.wikicfp.com/cfp/servlet/event.showcfp?eventid=69237&copyow
 nerid=107737
UID:cfp710235-E@wikicfp.com
END:VEVENT
BEGIN:VEVENT
DTSTAMP:20260423T210558Z
DTSTART;VALUE=DATE:20180209
SUMMARY:Euro-Par 2018 Abstract Due
DESCRIPTION:European Conference on Parallel Processing
URL:http://www.wikicfp.com/cfp/servlet/event.showcfp?eventid=69237&copyow
 nerid=107737
UID:cfp710235-A@wikicfp.com
END:VEVENT
BEGIN:VEVENT
DTSTAMP:20260423T210558Z
DTSTART;VALUE=DATE:20180216
SUMMARY:Euro-Par 2018 Deadline
DESCRIPTION:European Conference on Parallel Processing
URL:http://www.wikicfp.com/cfp/servlet/event.showcfp?eventid=69237&copyow
 nerid=107737
UID:cfp710235-D@wikicfp.com
END:VEVENT
BEGIN:VEVENT
DTSTAMP:20260423T210558Z
DTSTART;VALUE=DATE:20180427
SUMMARY:Euro-Par 2018 Notification Due
DESCRIPTION:European Conference on Parallel Processing
URL:http://www.wikicfp.com/cfp/servlet/event.showcfp?eventid=69237&copyow
 nerid=107737
UID:cfp710235-N@wikicfp.com
END:VEVENT
BEGIN:VEVENT
DTSTAMP:20260423T210558Z
DTSTART;VALUE=DATE:20180601
SUMMARY:Euro-Par 2018 Final Version Due
DESCRIPTION:European Conference on Parallel Processing
URL:http://www.wikicfp.com/cfp/servlet/event.showcfp?eventid=69237&copyow
 nerid=107737
UID:cfp710235-N@wikicfp.com
END:VEVENT
BEGIN:VEVENT
DTSTAMP:20260423T210558Z
DTSTART;VALUE=DATE:20181111
DTEND;VALUE=DATE:20181117
SUMMARY:SC 2018
DESCRIPTION:The International Conference for High Performance Computing\,
  Networking\, Storage\, and Analysis
URL:http://www.wikicfp.com/cfp/servlet/event.showcfp?eventid=72105&copyow
 nerid=107737
UID:cfp754682-E@wikicfp.com
END:VEVENT
BEGIN:VEVENT
DTSTAMP:20260423T210558Z
DTSTART;VALUE=DATE:20180319
SUMMARY:SC 2018 Abstract Due
DESCRIPTION:The International Conference for High Performance Computing\,
  Networking\, Storage\, and Analysis
URL:http://www.wikicfp.com/cfp/servlet/event.showcfp?eventid=72105&copyow
 nerid=107737
UID:cfp754682-A@wikicfp.com
END:VEVENT
BEGIN:VEVENT
DTSTAMP:20260423T210558Z
DTSTART;VALUE=DATE:20180326
SUMMARY:SC 2018 Deadline
DESCRIPTION:The International Conference for High Performance Computing\,
  Networking\, Storage\, and Analysis
URL:http://www.wikicfp.com/cfp/servlet/event.showcfp?eventid=72105&copyow
 nerid=107737
UID:cfp754682-D@wikicfp.com
END:VEVENT
BEGIN:VEVENT
DTSTAMP:20260423T210558Z
DTSTART;VALUE=DATE:20180615
SUMMARY:SC 2018 Notification Due
DESCRIPTION:The International Conference for High Performance Computing\,
  Networking\, Storage\, and Analysis
URL:http://www.wikicfp.com/cfp/servlet/event.showcfp?eventid=72105&copyow
 nerid=107737
UID:cfp754682-N@wikicfp.com
END:VEVENT
BEGIN:VEVENT
DTSTAMP:20260423T210558Z
DTSTART;VALUE=DATE:20180828
SUMMARY:SC 2018 Final Version Due
DESCRIPTION:The International Conference for High Performance Computing\,
  Networking\, Storage\, and Analysis
URL:http://www.wikicfp.com/cfp/servlet/event.showcfp?eventid=72105&copyow
 nerid=107737
UID:cfp754682-N@wikicfp.com
END:VEVENT
BEGIN:VEVENT
DTSTAMP:20260423T210558Z
DTSTART;VALUE=DATE:20180813
DTEND;VALUE=DATE:20180817
SUMMARY:ICPP 2018
DESCRIPTION:International Conference on Parallel Processing
URL:http://www.wikicfp.com/cfp/servlet/event.showcfp?eventid=72802&copyow
 nerid=107737
UID:cfp754672-E@wikicfp.com
END:VEVENT
BEGIN:VEVENT
DTSTAMP:20260423T210558Z
DTSTART;VALUE=DATE:20180409
SUMMARY:ICPP 2018 Deadline
DESCRIPTION:International Conference on Parallel Processing
URL:http://www.wikicfp.com/cfp/servlet/event.showcfp?eventid=72802&copyow
 nerid=107737
UID:cfp754672-D@wikicfp.com
END:VEVENT
BEGIN:VEVENT
DTSTAMP:20260423T210558Z
DTSTART;VALUE=DATE:20180503
SUMMARY:ICPP 2018 Notification Due
DESCRIPTION:International Conference on Parallel Processing
URL:http://www.wikicfp.com/cfp/servlet/event.showcfp?eventid=72802&copyow
 nerid=107737
UID:cfp754672-N@wikicfp.com
END:VEVENT
BEGIN:VEVENT
DTSTAMP:20260423T210558Z
DTSTART;VALUE=DATE:20180531
SUMMARY:ICPP 2018 Final Version Due
DESCRIPTION:International Conference on Parallel Processing
URL:http://www.wikicfp.com/cfp/servlet/event.showcfp?eventid=72802&copyow
 nerid=107737
UID:cfp754672-N@wikicfp.com
END:VEVENT
BEGIN:VEVENT
DTSTAMP:20260423T210558Z
DTSTART;VALUE=DATE:20180925
DTEND;VALUE=DATE:20180928
SUMMARY:HPEC 2018
DESCRIPTION:The 22nd Annual IEEE High Performance Extreme Computing Confe
 rence
URL:http://www.wikicfp.com/cfp/servlet/event.showcfp?eventid=75410&copyow
 nerid=107737
UID:cfp754678-E@wikicfp.com
END:VEVENT
BEGIN:VEVENT
DTSTAMP:20260423T210558Z
DTSTART;VALUE=DATE:20180518
SUMMARY:HPEC 2018 Deadline
DESCRIPTION:The 22nd Annual IEEE High Performance Extreme Computing Confe
 rence
URL:http://www.wikicfp.com/cfp/servlet/event.showcfp?eventid=75410&copyow
 nerid=107737
UID:cfp754678-D@wikicfp.com
END:VEVENT
BEGIN:VEVENT
DTSTAMP:20260423T210558Z
DTSTART;VALUE=DATE:20180701
SUMMARY:HPEC 2018 Notification Due
DESCRIPTION:The 22nd Annual IEEE High Performance Extreme Computing Confe
 rence
URL:http://www.wikicfp.com/cfp/servlet/event.showcfp?eventid=75410&copyow
 nerid=107737
UID:cfp754678-N@wikicfp.com
END:VEVENT
BEGIN:VEVENT
DTSTAMP:20260423T210558Z
DTSTART;VALUE=DATE:20180801
SUMMARY:HPEC 2018 Final Version Due
DESCRIPTION:The 22nd Annual IEEE High Performance Extreme Computing Confe
 rence
URL:http://www.wikicfp.com/cfp/servlet/event.showcfp?eventid=75410&copyow
 nerid=107737
UID:cfp754678-N@wikicfp.com
END:VEVENT
BEGIN:VEVENT
DTSTAMP:20260423T210558Z
DTSTART;VALUE=DATE:20181217
DTEND;VALUE=DATE:20181221
SUMMARY:IEEE HiPC 2018
DESCRIPTION:25th IEEE International Conference on High Performance Comput
 ing\, Data\, and Analytics (HiPC 2018)
URL:http://www.wikicfp.com/cfp/servlet/event.showcfp?eventid=75746&copyow
 nerid=107737
UID:cfp754679-E@wikicfp.com
END:VEVENT
BEGIN:VEVENT
DTSTAMP:20260423T210558Z
DTSTART;VALUE=DATE:20180608
SUMMARY:IEEE HiPC 2018 Abstract Due
DESCRIPTION:25th IEEE International Conference on High Performance Comput
 ing\, Data\, and Analytics (HiPC 2018)
URL:http://www.wikicfp.com/cfp/servlet/event.showcfp?eventid=75746&copyow
 nerid=107737
UID:cfp754679-A@wikicfp.com
END:VEVENT
BEGIN:VEVENT
DTSTAMP:20260423T210558Z
DTSTART;VALUE=DATE:20180615
SUMMARY:IEEE HiPC 2018 Deadline
DESCRIPTION:25th IEEE International Conference on High Performance Comput
 ing\, Data\, and Analytics (HiPC 2018)
URL:http://www.wikicfp.com/cfp/servlet/event.showcfp?eventid=75746&copyow
 nerid=107737
UID:cfp754679-D@wikicfp.com
END:VEVENT
BEGIN:VEVENT
DTSTAMP:20260423T210558Z
DTSTART;VALUE=DATE:20180907
SUMMARY:IEEE HiPC 2018 Notification Due
DESCRIPTION:25th IEEE International Conference on High Performance Comput
 ing\, Data\, and Analytics (HiPC 2018)
URL:http://www.wikicfp.com/cfp/servlet/event.showcfp?eventid=75746&copyow
 nerid=107737
UID:cfp754679-N@wikicfp.com
END:VEVENT
BEGIN:VEVENT
DTSTAMP:20260423T210558Z
DTSTART;VALUE=DATE:20181003
SUMMARY:IEEE HiPC 2018 Final Version Due
DESCRIPTION:25th IEEE International Conference on High Performance Comput
 ing\, Data\, and Analytics (HiPC 2018)
URL:http://www.wikicfp.com/cfp/servlet/event.showcfp?eventid=75746&copyow
 nerid=107737
UID:cfp754679-N@wikicfp.com
END:VEVENT
BEGIN:VEVENT
DTSTAMP:20260423T210558Z
DTSTART;VALUE=DATE:20181116
DTEND;VALUE=DATE:20181117
SUMMARY:FTXS 2018
DESCRIPTION:Fault Tolerance for HPC at eXtreme Scale (FTXS) Workshop
URL:http://www.wikicfp.com/cfp/servlet/event.showcfp?eventid=76331&copyow
 nerid=107737
UID:cfp754675-E@wikicfp.com
END:VEVENT
BEGIN:VEVENT
DTSTAMP:20260423T210558Z
DTSTART;VALUE=DATE:20180830
SUMMARY:FTXS 2018 Deadline
DESCRIPTION:Fault Tolerance for HPC at eXtreme Scale (FTXS) Workshop
URL:http://www.wikicfp.com/cfp/servlet/event.showcfp?eventid=76331&copyow
 nerid=107737
UID:cfp754675-D@wikicfp.com
END:VEVENT
BEGIN:VEVENT
DTSTAMP:20260423T210558Z
DTSTART;VALUE=DATE:20180927
SUMMARY:FTXS 2018 Notification Due
DESCRIPTION:Fault Tolerance for HPC at eXtreme Scale (FTXS) Workshop
URL:http://www.wikicfp.com/cfp/servlet/event.showcfp?eventid=76331&copyow
 nerid=107737
UID:cfp754675-N@wikicfp.com
END:VEVENT
BEGIN:VEVENT
DTSTAMP:20260423T210558Z
DTSTART;VALUE=DATE:20190520
DTEND;VALUE=DATE:20190525
SUMMARY:IPDPS 2019
DESCRIPTION:33rd IEEE International Parallel & Distributed Processing Sym
 posium
URL:http://www.wikicfp.com/cfp/servlet/event.showcfp?eventid=78611&copyow
 nerid=107737
UID:cfp754680-E@wikicfp.com
END:VEVENT
BEGIN:VEVENT
DTSTAMP:20260423T210558Z
DTSTART;VALUE=DATE:20181008
SUMMARY:IPDPS 2019 Abstract Due
DESCRIPTION:33rd IEEE International Parallel & Distributed Processing Sym
 posium
URL:http://www.wikicfp.com/cfp/servlet/event.showcfp?eventid=78611&copyow
 nerid=107737
UID:cfp754680-A@wikicfp.com
END:VEVENT
BEGIN:VEVENT
DTSTAMP:20260423T210558Z
DTSTART;VALUE=DATE:20181015
SUMMARY:IPDPS 2019 Deadline
DESCRIPTION:33rd IEEE International Parallel & Distributed Processing Sym
 posium
URL:http://www.wikicfp.com/cfp/servlet/event.showcfp?eventid=78611&copyow
 nerid=107737
UID:cfp754680-D@wikicfp.com
END:VEVENT
BEGIN:VEVENT
DTSTAMP:20260423T210558Z
DTSTART;VALUE=DATE:20181210
SUMMARY:IPDPS 2019 Notification Due
DESCRIPTION:33rd IEEE International Parallel & Distributed Processing Sym
 posium
URL:http://www.wikicfp.com/cfp/servlet/event.showcfp?eventid=78611&copyow
 nerid=107737
UID:cfp754680-N@wikicfp.com
END:VEVENT
BEGIN:VEVENT
DTSTAMP:20260423T210558Z
DTSTART;VALUE=DATE:20190215
SUMMARY:IPDPS 2019 Final Version Due
DESCRIPTION:33rd IEEE International Parallel & Distributed Processing Sym
 posium
URL:http://www.wikicfp.com/cfp/servlet/event.showcfp?eventid=78611&copyow
 nerid=107737
UID:cfp754680-N@wikicfp.com
END:VEVENT
BEGIN:VEVENT
DTSTAMP:20260423T210558Z
DTSTART;VALUE=DATE:20190616
DTEND;VALUE=DATE:20190621
SUMMARY:ISC HPC 2019
DESCRIPTION:ISC High Performance 2019
URL:http://www.wikicfp.com/cfp/servlet/event.showcfp?eventid=81796&copyow
 nerid=107737
UID:cfp754674-E@wikicfp.com
END:VEVENT
BEGIN:VEVENT
DTSTAMP:20260423T210558Z
DTSTART;VALUE=DATE:20181212
SUMMARY:ISC HPC 2019 Deadline
DESCRIPTION:ISC High Performance 2019
URL:http://www.wikicfp.com/cfp/servlet/event.showcfp?eventid=81796&copyow
 nerid=107737
UID:cfp754674-D@wikicfp.com
END:VEVENT
BEGIN:VEVENT
DTSTAMP:20260423T210558Z
DTSTART;VALUE=DATE:20190227
SUMMARY:ISC HPC 2019 Notification Due
DESCRIPTION:ISC High Performance 2019
URL:http://www.wikicfp.com/cfp/servlet/event.showcfp?eventid=81796&copyow
 nerid=107737
UID:cfp754674-N@wikicfp.com
END:VEVENT
BEGIN:VEVENT
DTSTAMP:20260423T210558Z
DTSTART;VALUE=DATE:20190325
SUMMARY:ISC HPC 2019 Final Version Due
DESCRIPTION:ISC High Performance 2019
URL:http://www.wikicfp.com/cfp/servlet/event.showcfp?eventid=81796&copyow
 nerid=107737
UID:cfp754674-N@wikicfp.com
END:VEVENT
BEGIN:VEVENT
DTSTAMP:20260423T210558Z
DTSTART;VALUE=DATE:20190429
DTEND;VALUE=DATE:20190503
SUMMARY:HPC 2019
DESCRIPTION:High Performance Computing
URL:http://www.wikicfp.com/cfp/servlet/event.showcfp?eventid=79609&copyow
 nerid=107737
UID:cfp754673-E@wikicfp.com
END:VEVENT
BEGIN:VEVENT
DTSTAMP:20260423T210558Z
DTSTART;VALUE=DATE:20181216
SUMMARY:HPC 2019 Deadline
DESCRIPTION:High Performance Computing
URL:http://www.wikicfp.com/cfp/servlet/event.showcfp?eventid=79609&copyow
 nerid=107737
UID:cfp754673-D@wikicfp.com
END:VEVENT
BEGIN:VEVENT
DTSTAMP:20260423T210558Z
DTSTART;VALUE=DATE:20190208
SUMMARY:HPC 2019 Notification Due
DESCRIPTION:High Performance Computing
URL:http://www.wikicfp.com/cfp/servlet/event.showcfp?eventid=79609&copyow
 nerid=107737
UID:cfp754673-N@wikicfp.com
END:VEVENT
BEGIN:VEVENT
DTSTAMP:20260423T210558Z
DTSTART;VALUE=DATE:20190222
SUMMARY:HPC 2019 Final Version Due
DESCRIPTION:High Performance Computing
URL:http://www.wikicfp.com/cfp/servlet/event.showcfp?eventid=79609&copyow
 nerid=107737
UID:cfp754673-N@wikicfp.com
END:VEVENT
BEGIN:VEVENT
DTSTAMP:20260423T210558Z
DTSTART;VALUE=DATE:20190622
DTEND;VALUE=DATE:20190630
SUMMARY:HPDC 2019
DESCRIPTION:The 28th International Symposium on High-Performance Parallel
  and Distributed Computing
URL:http://www.wikicfp.com/cfp/servlet/event.showcfp?eventid=81712&copyow
 nerid=107737
UID:cfp754677-E@wikicfp.com
END:VEVENT
BEGIN:VEVENT
DTSTAMP:20260423T210558Z
DTSTART;VALUE=DATE:20190116
SUMMARY:HPDC 2019 Abstract Due
DESCRIPTION:The 28th International Symposium on High-Performance Parallel
  and Distributed Computing
URL:http://www.wikicfp.com/cfp/servlet/event.showcfp?eventid=81712&copyow
 nerid=107737
UID:cfp754677-A@wikicfp.com
END:VEVENT
BEGIN:VEVENT
DTSTAMP:20260423T210558Z
DTSTART;VALUE=DATE:20190123
SUMMARY:HPDC 2019 Deadline
DESCRIPTION:The 28th International Symposium on High-Performance Parallel
  and Distributed Computing
URL:http://www.wikicfp.com/cfp/servlet/event.showcfp?eventid=81712&copyow
 nerid=107737
UID:cfp754677-D@wikicfp.com
END:VEVENT
BEGIN:VEVENT
DTSTAMP:20260423T210558Z
DTSTART;VALUE=DATE:20190325
SUMMARY:HPDC 2019 Notification Due
DESCRIPTION:The 28th International Symposium on High-Performance Parallel
  and Distributed Computing
URL:http://www.wikicfp.com/cfp/servlet/event.showcfp?eventid=81712&copyow
 nerid=107737
UID:cfp754677-N@wikicfp.com
END:VEVENT
BEGIN:VEVENT
DTSTAMP:20260423T210558Z
DTSTART;VALUE=DATE:20190626
DTEND;VALUE=DATE:20190629
SUMMARY:ICS 2019
DESCRIPTION:International Conference on Supercomputing
URL:http://www.wikicfp.com/cfp/servlet/event.showcfp?eventid=81824&copyow
 nerid=107737
UID:cfp754683-E@wikicfp.com
END:VEVENT
BEGIN:VEVENT
DTSTAMP:20260423T210558Z
DTSTART;VALUE=DATE:20190125
SUMMARY:ICS 2019 Abstract Due
DESCRIPTION:International Conference on Supercomputing
URL:http://www.wikicfp.com/cfp/servlet/event.showcfp?eventid=81824&copyow
 nerid=107737
UID:cfp754683-A@wikicfp.com
END:VEVENT
BEGIN:VEVENT
DTSTAMP:20260423T210558Z
DTSTART;VALUE=DATE:20190201
SUMMARY:ICS 2019 Deadline
DESCRIPTION:International Conference on Supercomputing
URL:http://www.wikicfp.com/cfp/servlet/event.showcfp?eventid=81824&copyow
 nerid=107737
UID:cfp754683-D@wikicfp.com
END:VEVENT
END:VCALENDAR
