BEGIN:VCALENDAR
PRODID:-//WikiCFP//TomBarbette 1.0//EN
VERSION:2.0
CALSCALE:GREGORIAN
BEGIN:VEVENT
DTSTAMP:20260423T151952Z
DTSTART;VALUE=DATE:20170712
DTEND;VALUE=DATE:20170715
SUMMARY:USENIX ATC 2017
DESCRIPTION:2017 USENIX Annual Technical Conference
URL:http://www.wikicfp.com/cfp/servlet/event.showcfp?eventid=58543&copyow
 nerid=107477
UID:cfp709534-E@wikicfp.com
END:VEVENT
BEGIN:VEVENT
DTSTAMP:20260423T151952Z
DTSTART;VALUE=DATE:20170207
SUMMARY:USENIX ATC 2017 Deadline
DESCRIPTION:2017 USENIX Annual Technical Conference
URL:http://www.wikicfp.com/cfp/servlet/event.showcfp?eventid=58543&copyow
 nerid=107477
UID:cfp709534-D@wikicfp.com
END:VEVENT
BEGIN:VEVENT
DTSTAMP:20260423T151952Z
DTSTART;VALUE=DATE:20170424
SUMMARY:USENIX ATC 2017 Notification Due
DESCRIPTION:2017 USENIX Annual Technical Conference
URL:http://www.wikicfp.com/cfp/servlet/event.showcfp?eventid=58543&copyow
 nerid=107477
UID:cfp709534-N@wikicfp.com
END:VEVENT
BEGIN:VEVENT
DTSTAMP:20260423T151952Z
DTSTART;VALUE=DATE:20170531
SUMMARY:USENIX ATC 2017 Final Version Due
DESCRIPTION:2017 USENIX Annual Technical Conference
URL:http://www.wikicfp.com/cfp/servlet/event.showcfp?eventid=58543&copyow
 nerid=107477
UID:cfp709534-N@wikicfp.com
END:VEVENT
BEGIN:VEVENT
DTSTAMP:20260423T151952Z
DTSTART;VALUE=DATE:20170703
DTEND;VALUE=DATE:20170708
SUMMARY:SNS 2017
DESCRIPTION:Second IEEE International Workshop on Security in NFV-SDN
URL:http://www.wikicfp.com/cfp/servlet/event.showcfp?eventid=61577&copyow
 nerid=107477
UID:cfp709536-E@wikicfp.com
END:VEVENT
BEGIN:VEVENT
DTSTAMP:20260423T151952Z
DTSTART;VALUE=DATE:20170320
SUMMARY:SNS 2017 Abstract Due
DESCRIPTION:Second IEEE International Workshop on Security in NFV-SDN
URL:http://www.wikicfp.com/cfp/servlet/event.showcfp?eventid=61577&copyow
 nerid=107477
UID:cfp709536-A@wikicfp.com
END:VEVENT
BEGIN:VEVENT
DTSTAMP:20260423T151952Z
DTSTART;VALUE=DATE:20170327
SUMMARY:SNS 2017 Deadline
DESCRIPTION:Second IEEE International Workshop on Security in NFV-SDN
URL:http://www.wikicfp.com/cfp/servlet/event.showcfp?eventid=61577&copyow
 nerid=107477
UID:cfp709536-D@wikicfp.com
END:VEVENT
BEGIN:VEVENT
DTSTAMP:20260423T151952Z
DTSTART;VALUE=DATE:20170425
SUMMARY:SNS 2017 Notification Due
DESCRIPTION:Second IEEE International Workshop on Security in NFV-SDN
URL:http://www.wikicfp.com/cfp/servlet/event.showcfp?eventid=61577&copyow
 nerid=107477
UID:cfp709536-N@wikicfp.com
END:VEVENT
BEGIN:VEVENT
DTSTAMP:20260423T151952Z
DTSTART;VALUE=DATE:20170508
SUMMARY:SNS 2017 Final Version Due
DESCRIPTION:Second IEEE International Workshop on Security in NFV-SDN
URL:http://www.wikicfp.com/cfp/servlet/event.showcfp?eventid=61577&copyow
 nerid=107477
UID:cfp709536-N@wikicfp.com
END:VEVENT
BEGIN:VEVENT
DTSTAMP:20260423T151952Z
DTSTART;VALUE=DATE:20180327
DTEND;VALUE=DATE:20180330
SUMMARY:SOSR 2018
DESCRIPTION:Symposium on SDN Research
URL:http://www.wikicfp.com/cfp/servlet/event.showcfp?eventid=67779&copyow
 nerid=107477
UID:cfp709538-E@wikicfp.com
END:VEVENT
BEGIN:VEVENT
DTSTAMP:20260423T151952Z
DTSTART;VALUE=DATE:20171103
SUMMARY:SOSR 2018 Abstract Due
DESCRIPTION:Symposium on SDN Research
URL:http://www.wikicfp.com/cfp/servlet/event.showcfp?eventid=67779&copyow
 nerid=107477
UID:cfp709538-A@wikicfp.com
END:VEVENT
BEGIN:VEVENT
DTSTAMP:20260423T151952Z
DTSTART;VALUE=DATE:20171110
SUMMARY:SOSR 2018 Deadline
DESCRIPTION:Symposium on SDN Research
URL:http://www.wikicfp.com/cfp/servlet/event.showcfp?eventid=67779&copyow
 nerid=107477
UID:cfp709538-D@wikicfp.com
END:VEVENT
BEGIN:VEVENT
DTSTAMP:20260423T151952Z
DTSTART;VALUE=DATE:20180119
SUMMARY:SOSR 2018 Notification Due
DESCRIPTION:Symposium on SDN Research
URL:http://www.wikicfp.com/cfp/servlet/event.showcfp?eventid=67779&copyow
 nerid=107477
UID:cfp709538-N@wikicfp.com
END:VEVENT
BEGIN:VEVENT
DTSTAMP:20260423T151952Z
DTSTART;VALUE=DATE:20180228
SUMMARY:SOSR 2018 Final Version Due
DESCRIPTION:Symposium on SDN Research
URL:http://www.wikicfp.com/cfp/servlet/event.showcfp?eventid=67779&copyow
 nerid=107477
UID:cfp709538-N@wikicfp.com
END:VEVENT
BEGIN:VEVENT
DTSTAMP:20260423T151952Z
DTSTART;VALUE=DATE:20180415
DTEND;VALUE=DATE:20180420
SUMMARY:CNERT '18: 5th 2018
DESCRIPTION:International Workshop on Computer and Networking Experimenta
 l Research Using Testbeds
URL:http://www.wikicfp.com/cfp/servlet/event.showcfp?eventid=69795&copyow
 nerid=107477
UID:cfp709532-E@wikicfp.com
END:VEVENT
BEGIN:VEVENT
DTSTAMP:20260423T151952Z
DTSTART;VALUE=DATE:20180121
SUMMARY:CNERT '18: 5th 2018 Deadline
DESCRIPTION:International Workshop on Computer and Networking Experimenta
 l Research Using Testbeds
URL:http://www.wikicfp.com/cfp/servlet/event.showcfp?eventid=69795&copyow
 nerid=107477
UID:cfp709532-D@wikicfp.com
END:VEVENT
BEGIN:VEVENT
DTSTAMP:20260423T151952Z
DTSTART;VALUE=DATE:20180207
SUMMARY:CNERT '18: 5th 2018 Notification Due
DESCRIPTION:International Workshop on Computer and Networking Experimenta
 l Research Using Testbeds
URL:http://www.wikicfp.com/cfp/servlet/event.showcfp?eventid=69795&copyow
 nerid=107477
UID:cfp709532-N@wikicfp.com
END:VEVENT
BEGIN:VEVENT
DTSTAMP:20260423T151952Z
DTSTART;VALUE=DATE:20180228
SUMMARY:CNERT '18: 5th 2018 Final Version Due
DESCRIPTION:International Workshop on Computer and Networking Experimenta
 l Research Using Testbeds
URL:http://www.wikicfp.com/cfp/servlet/event.showcfp?eventid=69795&copyow
 nerid=107477
UID:cfp709532-N@wikicfp.com
END:VEVENT
BEGIN:VEVENT
DTSTAMP:20260423T151952Z
DTSTART;VALUE=DATE:20180427
DTEND;VALUE=DATE:20180428
SUMMARY:IEEE/IFIP PDP 2018
DESCRIPTION:The First IEEE/IFIP Workshop on Programmable Data Plane (PDP)
 
URL:http://www.wikicfp.com/cfp/servlet/event.showcfp?eventid=70081&copyow
 nerid=107477
UID:cfp709535-E@wikicfp.com
END:VEVENT
BEGIN:VEVENT
DTSTAMP:20260423T151952Z
DTSTART;VALUE=DATE:20180126
SUMMARY:IEEE/IFIP PDP 2018 Deadline
DESCRIPTION:The First IEEE/IFIP Workshop on Programmable Data Plane (PDP)
 
URL:http://www.wikicfp.com/cfp/servlet/event.showcfp?eventid=70081&copyow
 nerid=107477
UID:cfp709535-D@wikicfp.com
END:VEVENT
BEGIN:VEVENT
DTSTAMP:20260423T151952Z
DTSTART;VALUE=DATE:20180228
SUMMARY:IEEE/IFIP PDP 2018 Notification Due
DESCRIPTION:The First IEEE/IFIP Workshop on Programmable Data Plane (PDP)
 
URL:http://www.wikicfp.com/cfp/servlet/event.showcfp?eventid=70081&copyow
 nerid=107477
UID:cfp709535-N@wikicfp.com
END:VEVENT
BEGIN:VEVENT
DTSTAMP:20260423T151952Z
DTSTART;VALUE=DATE:20180316
SUMMARY:IEEE/IFIP PDP 2018 Final Version Due
DESCRIPTION:The First IEEE/IFIP Workshop on Programmable Data Plane (PDP)
 
URL:http://www.wikicfp.com/cfp/servlet/event.showcfp?eventid=70081&copyow
 nerid=107477
UID:cfp709535-N@wikicfp.com
END:VEVENT
BEGIN:VEVENT
DTSTAMP:20260423T151952Z
DTSTART;VALUE=DATE:20180423
DTEND;VALUE=DATE:20180427
SUMMARY:SDN-NFV 2018
DESCRIPTION:The Second IEEE  International workshop on Software Defined N
 etworks and Network Function Virtualization 
URL:http://www.wikicfp.com/cfp/servlet/event.showcfp?eventid=69840&copyow
 nerid=107477
UID:cfp709539-E@wikicfp.com
END:VEVENT
BEGIN:VEVENT
DTSTAMP:20260423T151952Z
DTSTART;VALUE=DATE:20180131
SUMMARY:SDN-NFV 2018 Deadline
DESCRIPTION:The Second IEEE  International workshop on Software Defined N
 etworks and Network Function Virtualization 
URL:http://www.wikicfp.com/cfp/servlet/event.showcfp?eventid=69840&copyow
 nerid=107477
UID:cfp709539-D@wikicfp.com
END:VEVENT
BEGIN:VEVENT
DTSTAMP:20260423T151952Z
DTSTART;VALUE=DATE:20180220
SUMMARY:SDN-NFV 2018 Notification Due
DESCRIPTION:The Second IEEE  International workshop on Software Defined N
 etworks and Network Function Virtualization 
URL:http://www.wikicfp.com/cfp/servlet/event.showcfp?eventid=69840&copyow
 nerid=107477
UID:cfp709539-N@wikicfp.com
END:VEVENT
BEGIN:VEVENT
DTSTAMP:20260423T151952Z
DTSTART;VALUE=DATE:20180305
SUMMARY:SDN-NFV 2018 Final Version Due
DESCRIPTION:The Second IEEE  International workshop on Software Defined N
 etworks and Network Function Virtualization 
URL:http://www.wikicfp.com/cfp/servlet/event.showcfp?eventid=69840&copyow
 nerid=107477
UID:cfp709539-N@wikicfp.com
END:VEVENT
BEGIN:VEVENT
DTSTAMP:20260423T151952Z
DTSTART;VALUE=DATE:20180326
DTEND;VALUE=DATE:20180329
SUMMARY:SOSR Demos/Poster 2018
DESCRIPTION:ACM Symposium on SDN Research Poster and Demo Session
URL:http://www.wikicfp.com/cfp/servlet/event.showcfp?eventid=70404&copyow
 nerid=107477
UID:cfp709537-E@wikicfp.com
END:VEVENT
BEGIN:VEVENT
DTSTAMP:20260423T151952Z
DTSTART;VALUE=DATE:20180205
SUMMARY:SOSR Demos/Poster 2018 Deadline
DESCRIPTION:ACM Symposium on SDN Research Poster and Demo Session
URL:http://www.wikicfp.com/cfp/servlet/event.showcfp?eventid=70404&copyow
 nerid=107477
UID:cfp709537-D@wikicfp.com
END:VEVENT
BEGIN:VEVENT
DTSTAMP:20260423T151952Z
DTSTART;VALUE=DATE:20180215
SUMMARY:SOSR Demos/Poster 2018 Notification Due
DESCRIPTION:ACM Symposium on SDN Research Poster and Demo Session
URL:http://www.wikicfp.com/cfp/servlet/event.showcfp?eventid=70404&copyow
 nerid=107477
UID:cfp709537-N@wikicfp.com
END:VEVENT
BEGIN:VEVENT
DTSTAMP:20260423T151952Z
DTSTART;VALUE=DATE:20180228
SUMMARY:SOSR Demos/Poster 2018 Final Version Due
DESCRIPTION:ACM Symposium on SDN Research Poster and Demo Session
URL:http://www.wikicfp.com/cfp/servlet/event.showcfp?eventid=70404&copyow
 nerid=107477
UID:cfp709537-N@wikicfp.com
END:VEVENT
BEGIN:VEVENT
DTSTAMP:20260423T151952Z
DTSTART;VALUE=DATE:20180723
DTEND;VALUE=DATE:20180725
SUMMARY:ANCS 2018
DESCRIPTION:Symposium on Architectures for Networking and Communications 
 Systems
URL:http://www.wikicfp.com/cfp/servlet/event.showcfp?eventid=72681&copyow
 nerid=107477
UID:cfp709540-E@wikicfp.com
END:VEVENT
BEGIN:VEVENT
DTSTAMP:20260423T151952Z
DTSTART;VALUE=DATE:20180402
SUMMARY:ANCS 2018 Abstract Due
DESCRIPTION:Symposium on Architectures for Networking and Communications 
 Systems
URL:http://www.wikicfp.com/cfp/servlet/event.showcfp?eventid=72681&copyow
 nerid=107477
UID:cfp709540-A@wikicfp.com
END:VEVENT
BEGIN:VEVENT
DTSTAMP:20260423T151952Z
DTSTART;VALUE=DATE:20180409
SUMMARY:ANCS 2018 Deadline
DESCRIPTION:Symposium on Architectures for Networking and Communications 
 Systems
URL:http://www.wikicfp.com/cfp/servlet/event.showcfp?eventid=72681&copyow
 nerid=107477
UID:cfp709540-D@wikicfp.com
END:VEVENT
BEGIN:VEVENT
DTSTAMP:20260423T151952Z
DTSTART;VALUE=DATE:20180517
SUMMARY:ANCS 2018 Notification Due
DESCRIPTION:Symposium on Architectures for Networking and Communications 
 Systems
URL:http://www.wikicfp.com/cfp/servlet/event.showcfp?eventid=72681&copyow
 nerid=107477
UID:cfp709540-N@wikicfp.com
END:VEVENT
BEGIN:VEVENT
DTSTAMP:20260423T151952Z
DTSTART;VALUE=DATE:20200316
DTEND;VALUE=DATE:20200321
SUMMARY:ASPLOS 2020
DESCRIPTION:Architectural Support for Programming Languages and Operating
  Systems
URL:http://www.wikicfp.com/cfp/servlet/event.showcfp?eventid=90056&copyow
 nerid=107477
UID:cfp832743-E@wikicfp.com
END:VEVENT
BEGIN:VEVENT
DTSTAMP:20260423T151952Z
DTSTART;VALUE=DATE:20190809
SUMMARY:ASPLOS 2020 Abstract Due
DESCRIPTION:Architectural Support for Programming Languages and Operating
  Systems
URL:http://www.wikicfp.com/cfp/servlet/event.showcfp?eventid=90056&copyow
 nerid=107477
UID:cfp832743-A@wikicfp.com
END:VEVENT
BEGIN:VEVENT
DTSTAMP:20260423T151952Z
DTSTART;VALUE=DATE:20190816
SUMMARY:ASPLOS 2020 Deadline
DESCRIPTION:Architectural Support for Programming Languages and Operating
  Systems
URL:http://www.wikicfp.com/cfp/servlet/event.showcfp?eventid=90056&copyow
 nerid=107477
UID:cfp832743-D@wikicfp.com
END:VEVENT
BEGIN:VEVENT
DTSTAMP:20260423T151952Z
DTSTART;VALUE=DATE:20191120
SUMMARY:ASPLOS 2020 Notification Due
DESCRIPTION:Architectural Support for Programming Languages and Operating
  Systems
URL:http://www.wikicfp.com/cfp/servlet/event.showcfp?eventid=90056&copyow
 nerid=107477
UID:cfp832743-N@wikicfp.com
END:VEVENT
BEGIN:VEVENT
DTSTAMP:20260423T151952Z
DTSTART;VALUE=DATE:20200120
SUMMARY:ASPLOS 2020 Final Version Due
DESCRIPTION:Architectural Support for Programming Languages and Operating
  Systems
URL:http://www.wikicfp.com/cfp/servlet/event.showcfp?eventid=90056&copyow
 nerid=107477
UID:cfp832743-N@wikicfp.com
END:VEVENT
BEGIN:VEVENT
DTSTAMP:20260423T151952Z
DTSTART;VALUE=DATE:20200225
DTEND;VALUE=DATE:20200228
SUMMARY:NSDI 2020
DESCRIPTION:The 17th USENIX Symposium on Networked Systems Design and Imp
 lementation
URL:http://www.wikicfp.com/cfp/servlet/event.showcfp?eventid=86502&copyow
 nerid=107477
UID:cfp832738-E@wikicfp.com
END:VEVENT
BEGIN:VEVENT
DTSTAMP:20260423T151952Z
DTSTART;VALUE=DATE:20190912
SUMMARY:NSDI 2020 Abstract Due
DESCRIPTION:The 17th USENIX Symposium on Networked Systems Design and Imp
 lementation
URL:http://www.wikicfp.com/cfp/servlet/event.showcfp?eventid=86502&copyow
 nerid=107477
UID:cfp832738-A@wikicfp.com
END:VEVENT
BEGIN:VEVENT
DTSTAMP:20260423T151952Z
DTSTART;VALUE=DATE:20190919
SUMMARY:NSDI 2020 Deadline
DESCRIPTION:The 17th USENIX Symposium on Networked Systems Design and Imp
 lementation
URL:http://www.wikicfp.com/cfp/servlet/event.showcfp?eventid=86502&copyow
 nerid=107477
UID:cfp832738-D@wikicfp.com
END:VEVENT
BEGIN:VEVENT
DTSTAMP:20260423T151952Z
DTSTART;VALUE=DATE:20191213
SUMMARY:NSDI 2020 Notification Due
DESCRIPTION:The 17th USENIX Symposium on Networked Systems Design and Imp
 lementation
URL:http://www.wikicfp.com/cfp/servlet/event.showcfp?eventid=86502&copyow
 nerid=107477
UID:cfp832738-N@wikicfp.com
END:VEVENT
BEGIN:VEVENT
DTSTAMP:20260423T151952Z
DTSTART;VALUE=DATE:20200212
SUMMARY:NSDI 2020 Final Version Due
DESCRIPTION:The 17th USENIX Symposium on Networked Systems Design and Imp
 lementation
URL:http://www.wikicfp.com/cfp/servlet/event.showcfp?eventid=86502&copyow
 nerid=107477
UID:cfp832738-N@wikicfp.com
END:VEVENT
BEGIN:VEVENT
DTSTAMP:20260423T151952Z
DTSTART;VALUE=DATE:20200810
DTEND;VALUE=DATE:20200815
SUMMARY:SIGCOMM 2020
DESCRIPTION:Conference on Applications\, Technologies\, Architectures\, a
 nd Protocols for Computer Communication
URL:http://www.wikicfp.com/cfp/servlet/event.showcfp?eventid=97428&copyow
 nerid=107477
UID:cfp832742-E@wikicfp.com
END:VEVENT
BEGIN:VEVENT
DTSTAMP:20260423T151952Z
DTSTART;VALUE=DATE:20200207
SUMMARY:SIGCOMM 2020 Deadline
DESCRIPTION:Conference on Applications\, Technologies\, Architectures\, a
 nd Protocols for Computer Communication
URL:http://www.wikicfp.com/cfp/servlet/event.showcfp?eventid=97428&copyow
 nerid=107477
UID:cfp832742-D@wikicfp.com
END:VEVENT
BEGIN:VEVENT
DTSTAMP:20260423T151952Z
DTSTART;VALUE=DATE:20200515
SUMMARY:SIGCOMM 2020 Notification Due
DESCRIPTION:Conference on Applications\, Technologies\, Architectures\, a
 nd Protocols for Computer Communication
URL:http://www.wikicfp.com/cfp/servlet/event.showcfp?eventid=97428&copyow
 nerid=107477
UID:cfp832742-N@wikicfp.com
END:VEVENT
BEGIN:VEVENT
DTSTAMP:20260423T151952Z
DTSTART;VALUE=DATE:20200928
DTEND;VALUE=DATE:20201001
SUMMARY:ICN 2020
DESCRIPTION:7th ACM conference on Information Centric Networking
URL:http://www.wikicfp.com/cfp/servlet/event.showcfp?eventid=101984&copyo
 wnerid=107477
UID:cfp832741-E@wikicfp.com
END:VEVENT
BEGIN:VEVENT
DTSTAMP:20260423T151952Z
DTSTART;VALUE=DATE:20200515
SUMMARY:ICN 2020 Abstract Due
DESCRIPTION:7th ACM conference on Information Centric Networking
URL:http://www.wikicfp.com/cfp/servlet/event.showcfp?eventid=101984&copyo
 wnerid=107477
UID:cfp832741-A@wikicfp.com
END:VEVENT
BEGIN:VEVENT
DTSTAMP:20260423T151952Z
DTSTART;VALUE=DATE:20200522
SUMMARY:ICN 2020 Deadline
DESCRIPTION:7th ACM conference on Information Centric Networking
URL:http://www.wikicfp.com/cfp/servlet/event.showcfp?eventid=101984&copyo
 wnerid=107477
UID:cfp832741-D@wikicfp.com
END:VEVENT
BEGIN:VEVENT
DTSTAMP:20260423T151952Z
DTSTART;VALUE=DATE:20200801
SUMMARY:ICN 2020 Notification Due
DESCRIPTION:7th ACM conference on Information Centric Networking
URL:http://www.wikicfp.com/cfp/servlet/event.showcfp?eventid=101984&copyo
 wnerid=107477
UID:cfp832741-N@wikicfp.com
END:VEVENT
BEGIN:VEVENT
DTSTAMP:20260423T151952Z
DTSTART;VALUE=DATE:20200901
SUMMARY:ICN 2020 Final Version Due
DESCRIPTION:7th ACM conference on Information Centric Networking
URL:http://www.wikicfp.com/cfp/servlet/event.showcfp?eventid=101984&copyo
 wnerid=107477
UID:cfp832741-N@wikicfp.com
END:VEVENT
BEGIN:VEVENT
DTSTAMP:20260423T151952Z
DTSTART;VALUE=DATE:20201201
DTEND;VALUE=DATE:20201205
SUMMARY:CoNEXT 2020
DESCRIPTION:The 16th International Conference on emerging Networking EXpe
 riments and Technologies
URL:http://www.wikicfp.com/cfp/servlet/event.showcfp?eventid=101841&copyo
 wnerid=107477
UID:cfp832739-E@wikicfp.com
END:VEVENT
BEGIN:VEVENT
DTSTAMP:20260423T151952Z
DTSTART;VALUE=DATE:20200617
SUMMARY:CoNEXT 2020 Abstract Due
DESCRIPTION:The 16th International Conference on emerging Networking EXpe
 riments and Technologies
URL:http://www.wikicfp.com/cfp/servlet/event.showcfp?eventid=101841&copyo
 wnerid=107477
UID:cfp832739-A@wikicfp.com
END:VEVENT
BEGIN:VEVENT
DTSTAMP:20260423T151952Z
DTSTART;VALUE=DATE:20200624
SUMMARY:CoNEXT 2020 Deadline
DESCRIPTION:The 16th International Conference on emerging Networking EXpe
 riments and Technologies
URL:http://www.wikicfp.com/cfp/servlet/event.showcfp?eventid=101841&copyo
 wnerid=107477
UID:cfp832739-D@wikicfp.com
END:VEVENT
BEGIN:VEVENT
DTSTAMP:20260423T151952Z
DTSTART;VALUE=DATE:20200914
SUMMARY:CoNEXT 2020 Notification Due
DESCRIPTION:The 16th International Conference on emerging Networking EXpe
 riments and Technologies
URL:http://www.wikicfp.com/cfp/servlet/event.showcfp?eventid=101841&copyo
 wnerid=107477
UID:cfp832739-N@wikicfp.com
END:VEVENT
BEGIN:VEVENT
DTSTAMP:20260423T151952Z
DTSTART;VALUE=DATE:20201026
SUMMARY:CoNEXT 2020 Final Version Due
DESCRIPTION:The 16th International Conference on emerging Networking EXpe
 riments and Technologies
URL:http://www.wikicfp.com/cfp/servlet/event.showcfp?eventid=101841&copyo
 wnerid=107477
UID:cfp832739-N@wikicfp.com
END:VEVENT
BEGIN:VEVENT
DTSTAMP:20260423T151952Z
DTSTART;VALUE=DATE:20201110
DTEND;VALUE=DATE:20201113
SUMMARY:IEEE NFV-SDN 2020
DESCRIPTION:IEEE Conference on Network Function Virtualization and Softwa
 re Defined Networks
URL:http://www.wikicfp.com/cfp/servlet/event.showcfp?eventid=101477&copyo
 wnerid=107477
UID:cfp832740-E@wikicfp.com
END:VEVENT
BEGIN:VEVENT
DTSTAMP:20260423T151952Z
DTSTART;VALUE=DATE:20200713
SUMMARY:IEEE NFV-SDN 2020 Deadline
DESCRIPTION:IEEE Conference on Network Function Virtualization and Softwa
 re Defined Networks
URL:http://www.wikicfp.com/cfp/servlet/event.showcfp?eventid=101477&copyo
 wnerid=107477
UID:cfp832740-D@wikicfp.com
END:VEVENT
BEGIN:VEVENT
DTSTAMP:20260423T151952Z
DTSTART;VALUE=DATE:20200914
SUMMARY:IEEE NFV-SDN 2020 Notification Due
DESCRIPTION:IEEE Conference on Network Function Virtualization and Softwa
 re Defined Networks
URL:http://www.wikicfp.com/cfp/servlet/event.showcfp?eventid=101477&copyo
 wnerid=107477
UID:cfp832740-N@wikicfp.com
END:VEVENT
BEGIN:VEVENT
DTSTAMP:20260423T151952Z
DTSTART;VALUE=DATE:20201012
SUMMARY:IEEE NFV-SDN 2020 Final Version Due
DESCRIPTION:IEEE Conference on Network Function Virtualization and Softwa
 re Defined Networks
URL:http://www.wikicfp.com/cfp/servlet/event.showcfp?eventid=101477&copyo
 wnerid=107477
UID:cfp832740-N@wikicfp.com
END:VEVENT
BEGIN:VEVENT
DTSTAMP:20260423T151952Z
DTSTART;VALUE=DATE:20210510
DTEND;VALUE=DATE:20210511
SUMMARY:CNERT 2021
DESCRIPTION:Workshop on Computer and Networking Experimental Research usi
 ng Testbeds in conjunction with IEEE INFOCOM 2021
URL:http://www.wikicfp.com/cfp/servlet/event.showcfp?eventid=116330&copyo
 wnerid=107477
UID:cfp1013148-E@wikicfp.com
END:VEVENT
BEGIN:VEVENT
DTSTAMP:20260423T151952Z
DTSTART;VALUE=DATE:20210111
SUMMARY:CNERT 2021 Deadline
DESCRIPTION:Workshop on Computer and Networking Experimental Research usi
 ng Testbeds in conjunction with IEEE INFOCOM 2021
URL:http://www.wikicfp.com/cfp/servlet/event.showcfp?eventid=116330&copyo
 wnerid=107477
UID:cfp1013148-D@wikicfp.com
END:VEVENT
BEGIN:VEVENT
DTSTAMP:20260423T151952Z
DTSTART;VALUE=DATE:20210201
SUMMARY:CNERT 2021 Notification Due
DESCRIPTION:Workshop on Computer and Networking Experimental Research usi
 ng Testbeds in conjunction with IEEE INFOCOM 2021
URL:http://www.wikicfp.com/cfp/servlet/event.showcfp?eventid=116330&copyo
 wnerid=107477
UID:cfp1013148-N@wikicfp.com
END:VEVENT
BEGIN:VEVENT
DTSTAMP:20260423T151952Z
DTSTART;VALUE=DATE:20210215
SUMMARY:CNERT 2021 Final Version Due
DESCRIPTION:Workshop on Computer and Networking Experimental Research usi
 ng Testbeds in conjunction with IEEE INFOCOM 2021
URL:http://www.wikicfp.com/cfp/servlet/event.showcfp?eventid=116330&copyo
 wnerid=107477
UID:cfp1013148-N@wikicfp.com
END:VEVENT
BEGIN:VEVENT
DTSTAMP:20260423T151952Z
DTSTART;VALUE=DATE:20220404
DTEND;VALUE=DATE:20220407
SUMMARY:NSDI 2022
DESCRIPTION:19th USENIX Symposium on Networked Systems Design and Impleme
 ntation
URL:http://www.wikicfp.com/cfp/servlet/event.showcfp?eventid=125223&copyo
 wnerid=107477
UID:cfp938619-E@wikicfp.com
END:VEVENT
BEGIN:VEVENT
DTSTAMP:20260423T151952Z
DTSTART;VALUE=DATE:20210304
SUMMARY:NSDI 2022 Abstract Due
DESCRIPTION:19th USENIX Symposium on Networked Systems Design and Impleme
 ntation
URL:http://www.wikicfp.com/cfp/servlet/event.showcfp?eventid=125223&copyo
 wnerid=107477
UID:cfp938619-A@wikicfp.com
END:VEVENT
BEGIN:VEVENT
DTSTAMP:20260423T151952Z
DTSTART;VALUE=DATE:20210310
SUMMARY:NSDI 2022 Deadline
DESCRIPTION:19th USENIX Symposium on Networked Systems Design and Impleme
 ntation
URL:http://www.wikicfp.com/cfp/servlet/event.showcfp?eventid=125223&copyo
 wnerid=107477
UID:cfp938619-D@wikicfp.com
END:VEVENT
BEGIN:VEVENT
DTSTAMP:20260423T151952Z
DTSTART;VALUE=DATE:20210611
SUMMARY:NSDI 2022 Notification Due
DESCRIPTION:19th USENIX Symposium on Networked Systems Design and Impleme
 ntation
URL:http://www.wikicfp.com/cfp/servlet/event.showcfp?eventid=125223&copyo
 wnerid=107477
UID:cfp938619-N@wikicfp.com
END:VEVENT
BEGIN:VEVENT
DTSTAMP:20260423T151952Z
DTSTART;VALUE=DATE:20210825
SUMMARY:NSDI 2022 Final Version Due
DESCRIPTION:19th USENIX Symposium on Networked Systems Design and Impleme
 ntation
URL:http://www.wikicfp.com/cfp/servlet/event.showcfp?eventid=125223&copyo
 wnerid=107477
UID:cfp938619-N@wikicfp.com
END:VEVENT
END:VCALENDAR
