BEGIN:VCALENDAR
PRODID:-//WikiCFP//mixsummit 1.0//EN
VERSION:2.0
CALSCALE:GREGORIAN
BEGIN:VEVENT
DTSTAMP:20260419T215111Z
DTSTART;VALUE=DATE:20180724
DTEND;VALUE=DATE:20180727
SUMMARY:MIX-AI 2018
DESCRIPTION:MIX Summit and Conference on Artificial Intelligence and Mach
 ine Learning
URL:http://www.wikicfp.com/cfp/servlet/event.showcfp?eventid=72491&copyow
 nerid=107344
UID:cfp708936-E@wikicfp.com
END:VEVENT
BEGIN:VEVENT
DTSTAMP:20260419T215111Z
DTSTART;VALUE=DATE:20180316
SUMMARY:MIX-AI 2018 Deadline
DESCRIPTION:MIX Summit and Conference on Artificial Intelligence and Mach
 ine Learning
URL:http://www.wikicfp.com/cfp/servlet/event.showcfp?eventid=72491&copyow
 nerid=107344
UID:cfp708936-D@wikicfp.com
END:VEVENT
BEGIN:VEVENT
DTSTAMP:20260419T215111Z
DTSTART;VALUE=DATE:20180420
SUMMARY:MIX-AI 2018 Notification Due
DESCRIPTION:MIX Summit and Conference on Artificial Intelligence and Mach
 ine Learning
URL:http://www.wikicfp.com/cfp/servlet/event.showcfp?eventid=72491&copyow
 nerid=107344
UID:cfp708936-N@wikicfp.com
END:VEVENT
BEGIN:VEVENT
DTSTAMP:20260419T215111Z
DTSTART;VALUE=DATE:20180511
SUMMARY:MIX-AI 2018 Final Version Due
DESCRIPTION:MIX Summit and Conference on Artificial Intelligence and Mach
 ine Learning
URL:http://www.wikicfp.com/cfp/servlet/event.showcfp?eventid=72491&copyow
 nerid=107344
UID:cfp708936-N@wikicfp.com
END:VEVENT
BEGIN:VEVENT
DTSTAMP:20260419T215111Z
DTSTART;VALUE=DATE:20190329
DTEND;VALUE=DATE:20190330
SUMMARY:CERC 2019
DESCRIPTION:Collaborative European Research Conference
URL:http://www.wikicfp.com/cfp/servlet/event.showcfp?eventid=78539&copyow
 nerid=107344
UID:cfp734547-E@wikicfp.com
END:VEVENT
BEGIN:VEVENT
DTSTAMP:20260419T215111Z
DTSTART;VALUE=DATE:20181101
SUMMARY:CERC 2019 Deadline
DESCRIPTION:Collaborative European Research Conference
URL:http://www.wikicfp.com/cfp/servlet/event.showcfp?eventid=78539&copyow
 nerid=107344
UID:cfp734547-D@wikicfp.com
END:VEVENT
BEGIN:VEVENT
DTSTAMP:20260419T215111Z
DTSTART;VALUE=DATE:20190107
SUMMARY:CERC 2019 Notification Due
DESCRIPTION:Collaborative European Research Conference
URL:http://www.wikicfp.com/cfp/servlet/event.showcfp?eventid=78539&copyow
 nerid=107344
UID:cfp734547-N@wikicfp.com
END:VEVENT
BEGIN:VEVENT
DTSTAMP:20260419T215111Z
DTSTART;VALUE=DATE:20190131
SUMMARY:CERC 2019 Final Version Due
DESCRIPTION:Collaborative European Research Conference
URL:http://www.wikicfp.com/cfp/servlet/event.showcfp?eventid=78539&copyow
 nerid=107344
UID:cfp734547-N@wikicfp.com
END:VEVENT
END:VCALENDAR
