BEGIN:VCALENDAR
PRODID:-//WikiCFP//Uriwan 1.0//EN
VERSION:2.0
CALSCALE:GREGORIAN
BEGIN:VEVENT
DTSTAMP:20260421T020424Z
DTSTART;VALUE=DATE:20181021
DTEND;VALUE=DATE:20181025
SUMMARY:SCIS 2018
DESCRIPTION:3rd IEEE Conference on Smart Cities and Innovative Systems
URL:http://www.wikicfp.com/cfp/servlet/event.showcfp?eventid=72686&copyow
 nerid=107312
UID:cfp711912-E@wikicfp.com
END:VEVENT
BEGIN:VEVENT
DTSTAMP:20260421T020424Z
DTSTART;VALUE=DATE:20180316
SUMMARY:SCIS 2018 Deadline
DESCRIPTION:3rd IEEE Conference on Smart Cities and Innovative Systems
URL:http://www.wikicfp.com/cfp/servlet/event.showcfp?eventid=72686&copyow
 nerid=107312
UID:cfp711912-D@wikicfp.com
END:VEVENT
BEGIN:VEVENT
DTSTAMP:20260421T020424Z
DTSTART;VALUE=DATE:20180519
SUMMARY:SCIS 2018 Notification Due
DESCRIPTION:3rd IEEE Conference on Smart Cities and Innovative Systems
URL:http://www.wikicfp.com/cfp/servlet/event.showcfp?eventid=72686&copyow
 nerid=107312
UID:cfp711912-N@wikicfp.com
END:VEVENT
BEGIN:VEVENT
DTSTAMP:20260421T020424Z
DTSTART;VALUE=DATE:20180615
SUMMARY:SCIS 2018 Final Version Due
DESCRIPTION:3rd IEEE Conference on Smart Cities and Innovative Systems
URL:http://www.wikicfp.com/cfp/servlet/event.showcfp?eventid=72686&copyow
 nerid=107312
UID:cfp711912-N@wikicfp.com
END:VEVENT
BEGIN:VEVENT
DTSTAMP:20260421T020424Z
DTSTART;VALUE=DATE:20180621
DTEND;VALUE=DATE:20180624
SUMMARY:BGC Geomatics 2018
DESCRIPTION:2018 Baltic Geodetic Congress (Geomatics) - UWM Olsztyn\, GUT
  & C16 IEEE Gdansk
URL:http://www.wikicfp.com/cfp/servlet/event.showcfp?eventid=71438&copyow
 nerid=107312
UID:cfp711910-E@wikicfp.com
END:VEVENT
BEGIN:VEVENT
DTSTAMP:20260421T020424Z
DTSTART;VALUE=DATE:20180210
SUMMARY:BGC Geomatics 2018 Abstract Due
DESCRIPTION:2018 Baltic Geodetic Congress (Geomatics) - UWM Olsztyn\, GUT
  & C16 IEEE Gdansk
URL:http://www.wikicfp.com/cfp/servlet/event.showcfp?eventid=71438&copyow
 nerid=107312
UID:cfp711910-A@wikicfp.com
END:VEVENT
BEGIN:VEVENT
DTSTAMP:20260421T020424Z
DTSTART;VALUE=DATE:20180320
SUMMARY:BGC Geomatics 2018 Deadline
DESCRIPTION:2018 Baltic Geodetic Congress (Geomatics) - UWM Olsztyn\, GUT
  & C16 IEEE Gdansk
URL:http://www.wikicfp.com/cfp/servlet/event.showcfp?eventid=71438&copyow
 nerid=107312
UID:cfp711910-D@wikicfp.com
END:VEVENT
BEGIN:VEVENT
DTSTAMP:20260421T020424Z
DTSTART;VALUE=DATE:20180415
SUMMARY:BGC Geomatics 2018 Notification Due
DESCRIPTION:2018 Baltic Geodetic Congress (Geomatics) - UWM Olsztyn\, GUT
  & C16 IEEE Gdansk
URL:http://www.wikicfp.com/cfp/servlet/event.showcfp?eventid=71438&copyow
 nerid=107312
UID:cfp711910-N@wikicfp.com
END:VEVENT
BEGIN:VEVENT
DTSTAMP:20260421T020424Z
DTSTART;VALUE=DATE:20180505
SUMMARY:BGC Geomatics 2018 Final Version Due
DESCRIPTION:2018 Baltic Geodetic Congress (Geomatics) - UWM Olsztyn\, GUT
  & C16 IEEE Gdansk
URL:http://www.wikicfp.com/cfp/servlet/event.showcfp?eventid=71438&copyow
 nerid=107312
UID:cfp711910-N@wikicfp.com
END:VEVENT
BEGIN:VEVENT
DTSTAMP:20260421T020424Z
DTSTART;VALUE=DATE:20180722
DTEND;VALUE=DATE:20180727
SUMMARY:SMART 2018
DESCRIPTION:The Seventh International Conference on Smart Cities\, System
 s\, Devices and Technologies
URL:http://www.wikicfp.com/cfp/servlet/event.showcfp?eventid=71369&copyow
 nerid=107312
UID:cfp711909-E@wikicfp.com
END:VEVENT
BEGIN:VEVENT
DTSTAMP:20260421T020424Z
DTSTART;VALUE=DATE:20180407
SUMMARY:SMART 2018 Deadline
DESCRIPTION:The Seventh International Conference on Smart Cities\, System
 s\, Devices and Technologies
URL:http://www.wikicfp.com/cfp/servlet/event.showcfp?eventid=71369&copyow
 nerid=107312
UID:cfp711909-D@wikicfp.com
END:VEVENT
BEGIN:VEVENT
DTSTAMP:20260421T020424Z
DTSTART;VALUE=DATE:20180507
SUMMARY:SMART 2018 Notification Due
DESCRIPTION:The Seventh International Conference on Smart Cities\, System
 s\, Devices and Technologies
URL:http://www.wikicfp.com/cfp/servlet/event.showcfp?eventid=71369&copyow
 nerid=107312
UID:cfp711909-N@wikicfp.com
END:VEVENT
BEGIN:VEVENT
DTSTAMP:20260421T020424Z
DTSTART;VALUE=DATE:20180608
SUMMARY:SMART 2018 Final Version Due
DESCRIPTION:The Seventh International Conference on Smart Cities\, System
 s\, Devices and Technologies
URL:http://www.wikicfp.com/cfp/servlet/event.showcfp?eventid=71369&copyow
 nerid=107312
UID:cfp711909-N@wikicfp.com
END:VEVENT
BEGIN:VEVENT
DTSTAMP:20260421T020424Z
DTSTART;VALUE=DATE:20180803
DTEND;VALUE=DATE:20180806
SUMMARY:ICTLE--Ei Compendex and Scopus 2018
DESCRIPTION:2018 6th International Conference on Traffic and Logistic Eng
 ineering (ICTLE 2018)--Ei Compendex and Scopus
URL:http://www.wikicfp.com/cfp/servlet/event.showcfp?eventid=72876&copyow
 nerid=107312
UID:cfp711930-E@wikicfp.com
END:VEVENT
BEGIN:VEVENT
DTSTAMP:20260421T020424Z
DTSTART;VALUE=DATE:20180605
SUMMARY:ICTLE--Ei Compendex and Scopus 2018 Deadline
DESCRIPTION:2018 6th International Conference on Traffic and Logistic Eng
 ineering (ICTLE 2018)--Ei Compendex and Scopus
URL:http://www.wikicfp.com/cfp/servlet/event.showcfp?eventid=72876&copyow
 nerid=107312
UID:cfp711930-D@wikicfp.com
END:VEVENT
BEGIN:VEVENT
DTSTAMP:20260421T020424Z
DTSTART;VALUE=DATE:20180812
DTEND;VALUE=DATE:20180815
SUMMARY:IEEE--ICSGSC--EI Compendex and Scopus 2018
DESCRIPTION:2018 2nd International Conference on Smart Grid and Smart Cit
 ies (ICSGSC 2018)--IEEE\, EI Compendex and Scopus
URL:http://www.wikicfp.com/cfp/servlet/event.showcfp?eventid=70420&copyow
 nerid=107312
UID:cfp711911-E@wikicfp.com
END:VEVENT
BEGIN:VEVENT
DTSTAMP:20260421T020424Z
DTSTART;VALUE=DATE:20180620
SUMMARY:IEEE--ICSGSC--EI Compendex and Scopus 2018 Deadline
DESCRIPTION:2018 2nd International Conference on Smart Grid and Smart Cit
 ies (ICSGSC 2018)--IEEE\, EI Compendex and Scopus
URL:http://www.wikicfp.com/cfp/servlet/event.showcfp?eventid=70420&copyow
 nerid=107312
UID:cfp711911-D@wikicfp.com
END:VEVENT
BEGIN:VEVENT
DTSTAMP:20260421T020424Z
DTSTART;VALUE=DATE:20180922
DTEND;VALUE=DATE:20180925
SUMMARY:ICITT--EI Compendex\, Scopus 2018
DESCRIPTION:2018 2nd International Conference on Intelligent Traffic and 
 Transportation (ICITT 2018)--EI Compendex\, Scopus
URL:http://www.wikicfp.com/cfp/servlet/event.showcfp?eventid=72646&copyow
 nerid=107312
UID:cfp711931-E@wikicfp.com
END:VEVENT
BEGIN:VEVENT
DTSTAMP:20260421T020424Z
DTSTART;VALUE=DATE:20180730
SUMMARY:ICITT--EI Compendex\, Scopus 2018 Deadline
DESCRIPTION:2018 2nd International Conference on Intelligent Traffic and 
 Transportation (ICITT 2018)--EI Compendex\, Scopus
URL:http://www.wikicfp.com/cfp/servlet/event.showcfp?eventid=72646&copyow
 nerid=107312
UID:cfp711931-D@wikicfp.com
END:VEVENT
END:VCALENDAR
