BEGIN:VCALENDAR
PRODID:-//WikiCFP//HG 1.0//EN
VERSION:2.0
CALSCALE:GREGORIAN
BEGIN:VEVENT
DTSTAMP:20260424T111949Z
DTSTART;VALUE=DATE:20180525
DTEND;VALUE=DATE:20180527
SUMMARY:SSSCC 2018
DESCRIPTION:Smart\, Sustainable and Safe Cities Conference
URL:http://www.wikicfp.com/cfp/servlet/event.showcfp?eventid=67878&copyow
 nerid=106646
UID:cfp703655-E@wikicfp.com
END:VEVENT
BEGIN:VEVENT
DTSTAMP:20260424T111949Z
DTSTART;VALUE=DATE:20180131
SUMMARY:SSSCC 2018 Deadline
DESCRIPTION:Smart\, Sustainable and Safe Cities Conference
URL:http://www.wikicfp.com/cfp/servlet/event.showcfp?eventid=67878&copyow
 nerid=106646
UID:cfp703655-D@wikicfp.com
END:VEVENT
BEGIN:VEVENT
DTSTAMP:20260424T111949Z
DTSTART;VALUE=DATE:20180218
SUMMARY:SSSCC 2018 Notification Due
DESCRIPTION:Smart\, Sustainable and Safe Cities Conference
URL:http://www.wikicfp.com/cfp/servlet/event.showcfp?eventid=67878&copyow
 nerid=106646
UID:cfp703655-N@wikicfp.com
END:VEVENT
BEGIN:VEVENT
DTSTAMP:20260424T111949Z
DTSTART;VALUE=DATE:20180320
SUMMARY:SSSCC 2018 Final Version Due
DESCRIPTION:Smart\, Sustainable and Safe Cities Conference
URL:http://www.wikicfp.com/cfp/servlet/event.showcfp?eventid=67878&copyow
 nerid=106646
UID:cfp703655-N@wikicfp.com
END:VEVENT
BEGIN:VEVENT
DTSTAMP:20260424T111949Z
DTSTART;VALUE=DATE:20180722
DTEND;VALUE=DATE:20180727
SUMMARY:SMART 2018
DESCRIPTION:The Seventh International Conference on Smart Cities\, System
 s\, Devices and Technologies
URL:http://www.wikicfp.com/cfp/servlet/event.showcfp?eventid=71369&copyow
 nerid=106646
UID:cfp703657-E@wikicfp.com
END:VEVENT
BEGIN:VEVENT
DTSTAMP:20260424T111949Z
DTSTART;VALUE=DATE:20180407
SUMMARY:SMART 2018 Deadline
DESCRIPTION:The Seventh International Conference on Smart Cities\, System
 s\, Devices and Technologies
URL:http://www.wikicfp.com/cfp/servlet/event.showcfp?eventid=71369&copyow
 nerid=106646
UID:cfp703657-D@wikicfp.com
END:VEVENT
BEGIN:VEVENT
DTSTAMP:20260424T111949Z
DTSTART;VALUE=DATE:20180507
SUMMARY:SMART 2018 Notification Due
DESCRIPTION:The Seventh International Conference on Smart Cities\, System
 s\, Devices and Technologies
URL:http://www.wikicfp.com/cfp/servlet/event.showcfp?eventid=71369&copyow
 nerid=106646
UID:cfp703657-N@wikicfp.com
END:VEVENT
BEGIN:VEVENT
DTSTAMP:20260424T111949Z
DTSTART;VALUE=DATE:20180608
SUMMARY:SMART 2018 Final Version Due
DESCRIPTION:The Seventh International Conference on Smart Cities\, System
 s\, Devices and Technologies
URL:http://www.wikicfp.com/cfp/servlet/event.showcfp?eventid=71369&copyow
 nerid=106646
UID:cfp703657-N@wikicfp.com
END:VEVENT
BEGIN:VEVENT
DTSTAMP:20260424T111949Z
DTSTART;VALUE=DATE:20180812
DTEND;VALUE=DATE:20180815
SUMMARY:ICSGSC--IEEE\, EI Compendex and Scopus 2018
DESCRIPTION:2018 2nd International Conference on Smart Grid and Smart Cit
 ies (ICSGSC 2018)--IEEE\, EI Compendex and Scopus
URL:http://www.wikicfp.com/cfp/servlet/event.showcfp?eventid=70419&copyow
 nerid=106646
UID:cfp703656-E@wikicfp.com
END:VEVENT
BEGIN:VEVENT
DTSTAMP:20260424T111949Z
DTSTART;VALUE=DATE:20180620
SUMMARY:ICSGSC--IEEE\, EI Compendex and Scopus 2018 Deadline
DESCRIPTION:2018 2nd International Conference on Smart Grid and Smart Cit
 ies (ICSGSC 2018)--IEEE\, EI Compendex and Scopus
URL:http://www.wikicfp.com/cfp/servlet/event.showcfp?eventid=70419&copyow
 nerid=106646
UID:cfp703656-D@wikicfp.com
END:VEVENT
END:VCALENDAR
