BEGIN:VCALENDAR
PRODID:-//WikiCFP//favstats 1.0//EN
VERSION:2.0
CALSCALE:GREGORIAN
BEGIN:VEVENT
DTSTAMP:20260424T193927Z
DTSTART;VALUE=DATE:20180625
DTEND;VALUE=DATE:20180629
SUMMARY:IVSA 2018
DESCRIPTION:VISUALIZING THE POLITICAL PROCESS - 36th annual IVSA Conferen
 ce
URL:http://www.wikicfp.com/cfp/servlet/event.showcfp?eventid=70815&copyow
 nerid=106521
UID:cfp702969-E@wikicfp.com
END:VEVENT
BEGIN:VEVENT
DTSTAMP:20260424T193927Z
DTSTART;VALUE=DATE:20180201
SUMMARY:IVSA 2018 Deadline
DESCRIPTION:VISUALIZING THE POLITICAL PROCESS - 36th annual IVSA Conferen
 ce
URL:http://www.wikicfp.com/cfp/servlet/event.showcfp?eventid=70815&copyow
 nerid=106521
UID:cfp702969-D@wikicfp.com
END:VEVENT
BEGIN:VEVENT
DTSTAMP:20260424T193927Z
DTSTART;VALUE=DATE:20180713
DTEND;VALUE=DATE:20180716
SUMMARY:GLOBAL 2018
DESCRIPTION:The IAFOR International Conference on Global Studies 2018
URL:http://www.wikicfp.com/cfp/servlet/event.showcfp?eventid=71275&copyow
 nerid=106521
UID:cfp702970-E@wikicfp.com
END:VEVENT
BEGIN:VEVENT
DTSTAMP:20260424T193927Z
DTSTART;VALUE=DATE:20180430
SUMMARY:GLOBAL 2018 Deadline
DESCRIPTION:The IAFOR International Conference on Global Studies 2018
URL:http://www.wikicfp.com/cfp/servlet/event.showcfp?eventid=71275&copyow
 nerid=106521
UID:cfp702970-D@wikicfp.com
END:VEVENT
BEGIN:VEVENT
DTSTAMP:20260424T193927Z
DTSTART;VALUE=DATE:20180605
DTEND;VALUE=DATE:20180607
SUMMARY:2nd ICSSH 2018
DESCRIPTION:2nd Rome International Conference on Social Science & Humanit
 ies (ICSSH)
URL:http://www.wikicfp.com/cfp/servlet/event.showcfp?eventid=68313&copyow
 nerid=106521
UID:cfp702972-E@wikicfp.com
END:VEVENT
BEGIN:VEVENT
DTSTAMP:20260424T193927Z
DTSTART;VALUE=DATE:20180603
SUMMARY:2nd ICSSH 2018 Deadline
DESCRIPTION:2nd Rome International Conference on Social Science & Humanit
 ies (ICSSH)
URL:http://www.wikicfp.com/cfp/servlet/event.showcfp?eventid=68313&copyow
 nerid=106521
UID:cfp702972-D@wikicfp.com
END:VEVENT
BEGIN:VEVENT
DTSTAMP:20260424T193927Z
DTSTART;VALUE=DATE:20180603
SUMMARY:2nd ICSSH 2018 Notification Due
DESCRIPTION:2nd Rome International Conference on Social Science & Humanit
 ies (ICSSH)
URL:http://www.wikicfp.com/cfp/servlet/event.showcfp?eventid=68313&copyow
 nerid=106521
UID:cfp702972-N@wikicfp.com
END:VEVENT
BEGIN:VEVENT
DTSTAMP:20260424T193927Z
DTSTART;VALUE=DATE:20180603
SUMMARY:2nd ICSSH 2018 Final Version Due
DESCRIPTION:2nd Rome International Conference on Social Science & Humanit
 ies (ICSSH)
URL:http://www.wikicfp.com/cfp/servlet/event.showcfp?eventid=68313&copyow
 nerid=106521
UID:cfp702972-N@wikicfp.com
END:VEVENT
BEGIN:VEVENT
DTSTAMP:20260424T193927Z
DTSTART;VALUE=DATE:20180904
DTEND;VALUE=DATE:20180906
SUMMARY:4th ICSSH 2018
DESCRIPTION:4th London International Conference on Social Science & Human
 ities (ICSSH)
URL:http://www.wikicfp.com/cfp/servlet/event.showcfp?eventid=68687&copyow
 nerid=106521
UID:cfp702971-E@wikicfp.com
END:VEVENT
BEGIN:VEVENT
DTSTAMP:20260424T193927Z
DTSTART;VALUE=DATE:20180902
SUMMARY:4th ICSSH 2018 Deadline
DESCRIPTION:4th London International Conference on Social Science & Human
 ities (ICSSH)
URL:http://www.wikicfp.com/cfp/servlet/event.showcfp?eventid=68687&copyow
 nerid=106521
UID:cfp702971-D@wikicfp.com
END:VEVENT
BEGIN:VEVENT
DTSTAMP:20260424T193927Z
DTSTART;VALUE=DATE:20180902
SUMMARY:4th ICSSH 2018 Notification Due
DESCRIPTION:4th London International Conference on Social Science & Human
 ities (ICSSH)
URL:http://www.wikicfp.com/cfp/servlet/event.showcfp?eventid=68687&copyow
 nerid=106521
UID:cfp702971-N@wikicfp.com
END:VEVENT
BEGIN:VEVENT
DTSTAMP:20260424T193927Z
DTSTART;VALUE=DATE:20180902
SUMMARY:4th ICSSH 2018 Final Version Due
DESCRIPTION:4th London International Conference on Social Science & Human
 ities (ICSSH)
URL:http://www.wikicfp.com/cfp/servlet/event.showcfp?eventid=68687&copyow
 nerid=106521
UID:cfp702971-N@wikicfp.com
END:VEVENT
END:VCALENDAR
