BEGIN:VCALENDAR
PRODID:-//WikiCFP//bluesky1234 1.0//EN
VERSION:2.0
CALSCALE:GREGORIAN
BEGIN:VEVENT
DTSTAMP:20260420T021749Z
DTSTART;VALUE=DATE:20180226
DTEND;VALUE=DATE:20180301
SUMMARY:ACM - ICBDM 2018
DESCRIPTION:2018 International Conference on Big Data Management (ICBDM 2
 018)--ACM\, Ei Compendex and Scopus
URL:http://www.wikicfp.com/cfp/servlet/event.showcfp?eventid=65185&copyow
 nerid=106253
UID:cfp701820-E@wikicfp.com
END:VEVENT
BEGIN:VEVENT
DTSTAMP:20260420T021749Z
DTSTART;VALUE=DATE:20171220
SUMMARY:ACM - ICBDM 2018 Deadline
DESCRIPTION:2018 International Conference on Big Data Management (ICBDM 2
 018)--ACM\, Ei Compendex and Scopus
URL:http://www.wikicfp.com/cfp/servlet/event.showcfp?eventid=65185&copyow
 nerid=106253
UID:cfp701820-D@wikicfp.com
END:VEVENT
BEGIN:VEVENT
DTSTAMP:20260420T021749Z
DTSTART;VALUE=DATE:20180502
DTEND;VALUE=DATE:20180506
SUMMARY:MLRec 2018
DESCRIPTION:MLRec 2018: 4th International Workshop on Machine Learning Me
 thods for Recommender Systems (In conjunction with SDM 2018)
URL:http://www.wikicfp.com/cfp/servlet/event.showcfp?eventid=70183&copyow
 nerid=106253
UID:cfp701825-E@wikicfp.com
END:VEVENT
BEGIN:VEVENT
DTSTAMP:20260420T021749Z
DTSTART;VALUE=DATE:20171223
SUMMARY:MLRec 2018 Deadline
DESCRIPTION:MLRec 2018: 4th International Workshop on Machine Learning Me
 thods for Recommender Systems (In conjunction with SDM 2018)
URL:http://www.wikicfp.com/cfp/servlet/event.showcfp?eventid=70183&copyow
 nerid=106253
UID:cfp701825-D@wikicfp.com
END:VEVENT
BEGIN:VEVENT
DTSTAMP:20260420T021749Z
DTSTART;VALUE=DATE:20180123
SUMMARY:MLRec 2018 Notification Due
DESCRIPTION:MLRec 2018: 4th International Workshop on Machine Learning Me
 thods for Recommender Systems (In conjunction with SDM 2018)
URL:http://www.wikicfp.com/cfp/servlet/event.showcfp?eventid=70183&copyow
 nerid=106253
UID:cfp701825-N@wikicfp.com
END:VEVENT
BEGIN:VEVENT
DTSTAMP:20260420T021749Z
DTSTART;VALUE=DATE:20180201
SUMMARY:MLRec 2018 Final Version Due
DESCRIPTION:MLRec 2018: 4th International Workshop on Machine Learning Me
 thods for Recommender Systems (In conjunction with SDM 2018)
URL:http://www.wikicfp.com/cfp/servlet/event.showcfp?eventid=70183&copyow
 nerid=106253
UID:cfp701825-N@wikicfp.com
END:VEVENT
BEGIN:VEVENT
DTSTAMP:20260420T021749Z
DTSTART;VALUE=DATE:20180321
DTEND;VALUE=DATE:20180323
SUMMARY:SDMA 2018
DESCRIPTION:5th Symposium on Data Mining Applications (SDMA2018)
URL:http://www.wikicfp.com/cfp/servlet/event.showcfp?eventid=68057&copyow
 nerid=106253
UID:cfp701824-E@wikicfp.com
END:VEVENT
BEGIN:VEVENT
DTSTAMP:20260420T021749Z
DTSTART;VALUE=DATE:20171224
SUMMARY:SDMA 2018 Deadline
DESCRIPTION:5th Symposium on Data Mining Applications (SDMA2018)
URL:http://www.wikicfp.com/cfp/servlet/event.showcfp?eventid=68057&copyow
 nerid=106253
UID:cfp701824-D@wikicfp.com
END:VEVENT
BEGIN:VEVENT
DTSTAMP:20260420T021749Z
DTSTART;VALUE=DATE:20240323
SUMMARY:IJAIT 2024 Deadline
DESCRIPTION:International Journal of Advanced Information Technology 
URL:http://www.wikicfp.com/cfp/servlet/event.showcfp?eventid=69695&copyow
 nerid=106253
UID:cfp701822-D@wikicfp.com
END:VEVENT
BEGIN:VEVENT
DTSTAMP:20260420T021749Z
DTSTART;VALUE=DATE:20240423
SUMMARY:IJAIT 2024 Notification Due
DESCRIPTION:International Journal of Advanced Information Technology 
URL:http://www.wikicfp.com/cfp/servlet/event.showcfp?eventid=69695&copyow
 nerid=106253
UID:cfp701822-N@wikicfp.com
END:VEVENT
BEGIN:VEVENT
DTSTAMP:20260420T021749Z
DTSTART;VALUE=DATE:20240430
SUMMARY:IJAIT 2024 Final Version Due
DESCRIPTION:International Journal of Advanced Information Technology 
URL:http://www.wikicfp.com/cfp/servlet/event.showcfp?eventid=69695&copyow
 nerid=106253
UID:cfp701822-N@wikicfp.com
END:VEVENT
BEGIN:VEVENT
DTSTAMP:20260420T021749Z
DTSTART;VALUE=DATE:20260420
SUMMARY:IJGCA 2026 Deadline
DESCRIPTION:International Journal of Grid Computing & Applications
URL:http://www.wikicfp.com/cfp/servlet/event.showcfp?eventid=70869&copyow
 nerid=106253
UID:cfp701823-D@wikicfp.com
END:VEVENT
BEGIN:VEVENT
DTSTAMP:20260420T021749Z
DTSTART;VALUE=DATE:20260519
SUMMARY:IJGCA 2026 Notification Due
DESCRIPTION:International Journal of Grid Computing & Applications
URL:http://www.wikicfp.com/cfp/servlet/event.showcfp?eventid=70869&copyow
 nerid=106253
UID:cfp701823-N@wikicfp.com
END:VEVENT
BEGIN:VEVENT
DTSTAMP:20260420T021749Z
DTSTART;VALUE=DATE:20260526
SUMMARY:IJGCA 2026 Final Version Due
DESCRIPTION:International Journal of Grid Computing & Applications
URL:http://www.wikicfp.com/cfp/servlet/event.showcfp?eventid=70869&copyow
 nerid=106253
UID:cfp701823-N@wikicfp.com
END:VEVENT
BEGIN:VEVENT
DTSTAMP:20260420T021749Z
DTSTART;VALUE=DATE:20260425
SUMMARY:IJAB 2026 Deadline
DESCRIPTION:International Journal of Advances in Biology
URL:http://www.wikicfp.com/cfp/servlet/event.showcfp?eventid=68622&copyow
 nerid=106253
UID:cfp701821-D@wikicfp.com
END:VEVENT
BEGIN:VEVENT
DTSTAMP:20260420T021749Z
DTSTART;VALUE=DATE:20260520
SUMMARY:IJAB 2026 Notification Due
DESCRIPTION:International Journal of Advances in Biology
URL:http://www.wikicfp.com/cfp/servlet/event.showcfp?eventid=68622&copyow
 nerid=106253
UID:cfp701821-N@wikicfp.com
END:VEVENT
BEGIN:VEVENT
DTSTAMP:20260420T021749Z
DTSTART;VALUE=DATE:20260526
SUMMARY:IJAB 2026 Final Version Due
DESCRIPTION:International Journal of Advances in Biology
URL:http://www.wikicfp.com/cfp/servlet/event.showcfp?eventid=68622&copyow
 nerid=106253
UID:cfp701821-N@wikicfp.com
END:VEVENT
END:VCALENDAR
