BEGIN:VCALENDAR
PRODID:-//WikiCFP//andremvb 1.0//EN
VERSION:2.0
CALSCALE:GREGORIAN
BEGIN:VEVENT
DTSTAMP:20260421T064519Z
DTSTART;VALUE=DATE:20180202
DTEND;VALUE=DATE:20180205
SUMMARY:ICMLSC - ACM - Ei 2018
DESCRIPTION:ACM--2018 the 2nd International Conference on Machine Learnin
 g and Soft Computing (ICMLSC 2018)--Ei Compendex & Scopus
URL:http://www.wikicfp.com/cfp/servlet/event.showcfp?eventid=65248&copyow
 nerid=106024
UID:cfp700095-E@wikicfp.com
END:VEVENT
BEGIN:VEVENT
DTSTAMP:20260421T064519Z
DTSTART;VALUE=DATE:20171215
SUMMARY:ICMLSC - ACM - Ei 2018 Deadline
DESCRIPTION:ACM--2018 the 2nd International Conference on Machine Learnin
 g and Soft Computing (ICMLSC 2018)--Ei Compendex & Scopus
URL:http://www.wikicfp.com/cfp/servlet/event.showcfp?eventid=65248&copyow
 nerid=106024
UID:cfp700095-D@wikicfp.com
END:VEVENT
BEGIN:VEVENT
DTSTAMP:20260421T064519Z
DTSTART;VALUE=DATE:20250907
SUMMARY:EEIEJ 2025 Deadline
DESCRIPTION:Emerging Trends in Electrical\, Electronics & Instrumentation
  Engineering: An international Journal
URL:http://www.wikicfp.com/cfp/servlet/event.showcfp?eventid=66241&copyow
 nerid=106024
UID:cfp699859-D@wikicfp.com
END:VEVENT
BEGIN:VEVENT
DTSTAMP:20260421T064519Z
DTSTART;VALUE=DATE:20251007
SUMMARY:EEIEJ 2025 Notification Due
DESCRIPTION:Emerging Trends in Electrical\, Electronics & Instrumentation
  Engineering: An international Journal
URL:http://www.wikicfp.com/cfp/servlet/event.showcfp?eventid=66241&copyow
 nerid=106024
UID:cfp699859-N@wikicfp.com
END:VEVENT
BEGIN:VEVENT
DTSTAMP:20260421T064519Z
DTSTART;VALUE=DATE:20251013
SUMMARY:EEIEJ 2025 Final Version Due
DESCRIPTION:Emerging Trends in Electrical\, Electronics & Instrumentation
  Engineering: An international Journal
URL:http://www.wikicfp.com/cfp/servlet/event.showcfp?eventid=66241&copyow
 nerid=106024
UID:cfp699859-N@wikicfp.com
END:VEVENT
END:VCALENDAR
