BEGIN:VCALENDAR
PRODID:-//WikiCFP//falsayoud 1.0//EN
VERSION:2.0
CALSCALE:GREGORIAN
BEGIN:VEVENT
DTSTAMP:20260425T115627Z
DTSTART;VALUE=DATE:20200504
DTEND;VALUE=DATE:20200506
SUMMARY:i-ETC 2020
DESCRIPTION:Intermountain Engineering\, Technology\, and Computing Confer
 ence
URL:http://www.wikicfp.com/cfp/servlet/event.showcfp?eventid=95550&copyow
 nerid=105384
UID:cfp820915-E@wikicfp.com
END:VEVENT
BEGIN:VEVENT
DTSTAMP:20260425T115627Z
DTSTART;VALUE=DATE:20200115
SUMMARY:i-ETC 2020 Deadline
DESCRIPTION:Intermountain Engineering\, Technology\, and Computing Confer
 ence
URL:http://www.wikicfp.com/cfp/servlet/event.showcfp?eventid=95550&copyow
 nerid=105384
UID:cfp820915-D@wikicfp.com
END:VEVENT
BEGIN:VEVENT
DTSTAMP:20260425T115627Z
DTSTART;VALUE=DATE:20200229
SUMMARY:i-ETC 2020 Notification Due
DESCRIPTION:Intermountain Engineering\, Technology\, and Computing Confer
 ence
URL:http://www.wikicfp.com/cfp/servlet/event.showcfp?eventid=95550&copyow
 nerid=105384
UID:cfp820915-N@wikicfp.com
END:VEVENT
BEGIN:VEVENT
DTSTAMP:20260425T115627Z
DTSTART;VALUE=DATE:20200316
SUMMARY:i-ETC 2020 Final Version Due
DESCRIPTION:Intermountain Engineering\, Technology\, and Computing Confer
 ence
URL:http://www.wikicfp.com/cfp/servlet/event.showcfp?eventid=95550&copyow
 nerid=105384
UID:cfp820915-N@wikicfp.com
END:VEVENT
BEGIN:VEVENT
DTSTAMP:20260425T115627Z
DTSTART;VALUE=DATE:20220813
SUMMARY:MECHATROJ 2022 Deadline
DESCRIPTION:Mechatronics and Applications: An International Journal 
URL:http://www.wikicfp.com/cfp/servlet/event.showcfp?eventid=90339&copyow
 nerid=105384
UID:cfp820912-D@wikicfp.com
END:VEVENT
BEGIN:VEVENT
DTSTAMP:20260425T115627Z
DTSTART;VALUE=DATE:20220913
SUMMARY:MECHATROJ 2022 Notification Due
DESCRIPTION:Mechatronics and Applications: An International Journal 
URL:http://www.wikicfp.com/cfp/servlet/event.showcfp?eventid=90339&copyow
 nerid=105384
UID:cfp820912-N@wikicfp.com
END:VEVENT
BEGIN:VEVENT
DTSTAMP:20260425T115627Z
DTSTART;VALUE=DATE:20220921
SUMMARY:MECHATROJ 2022 Final Version Due
DESCRIPTION:Mechatronics and Applications: An International Journal 
URL:http://www.wikicfp.com/cfp/servlet/event.showcfp?eventid=90339&copyow
 nerid=105384
UID:cfp820912-N@wikicfp.com
END:VEVENT
END:VCALENDAR
