BEGIN:VCALENDAR
PRODID:-//WikiCFP//telsayed 1.0//EN
VERSION:2.0
CALSCALE:GREGORIAN
BEGIN:VEVENT
DTSTAMP:20260422T132457Z
DTSTART;VALUE=DATE:20810326
DTEND;VALUE=DATE:20810327
SUMMARY:BroDyn 2018
DESCRIPTION:1st International Workshop on Analysis of Broad Dynamic Topic
 s over Social Media (Co-located with ECIR 2018)
URL:http://www.wikicfp.com/cfp/servlet/event.showcfp?eventid=69835&copyow
 nerid=105209
UID:cfp695747-E@wikicfp.com
END:VEVENT
BEGIN:VEVENT
DTSTAMP:20260422T132457Z
DTSTART;VALUE=DATE:20180115
SUMMARY:BroDyn 2018 Deadline
DESCRIPTION:1st International Workshop on Analysis of Broad Dynamic Topic
 s over Social Media (Co-located with ECIR 2018)
URL:http://www.wikicfp.com/cfp/servlet/event.showcfp?eventid=69835&copyow
 nerid=105209
UID:cfp695747-D@wikicfp.com
END:VEVENT
BEGIN:VEVENT
DTSTAMP:20260422T132457Z
DTSTART;VALUE=DATE:20180215
SUMMARY:BroDyn 2018 Notification Due
DESCRIPTION:1st International Workshop on Analysis of Broad Dynamic Topic
 s over Social Media (Co-located with ECIR 2018)
URL:http://www.wikicfp.com/cfp/servlet/event.showcfp?eventid=69835&copyow
 nerid=105209
UID:cfp695747-N@wikicfp.com
END:VEVENT
BEGIN:VEVENT
DTSTAMP:20260422T132457Z
DTSTART;VALUE=DATE:20180226
SUMMARY:BroDyn 2018 Final Version Due
DESCRIPTION:1st International Workshop on Analysis of Broad Dynamic Topic
 s over Social Media (Co-located with ECIR 2018)
URL:http://www.wikicfp.com/cfp/servlet/event.showcfp?eventid=69835&copyow
 nerid=105209
UID:cfp695747-N@wikicfp.com
END:VEVENT
END:VCALENDAR
