BEGIN:VCALENDAR
PRODID:-//WikiCFP//adrianoferraz 1.0//EN
VERSION:2.0
CALSCALE:GREGORIAN
BEGIN:VEVENT
DTSTAMP:20260425T151205Z
DTSTART;VALUE=DATE:20200207
DTEND;VALUE=DATE:20200213
SUMMARY:AAAI 2020
DESCRIPTION:The Thirty-Fourth AAAI Conference on Artificial Intelligence
URL:http://www.wikicfp.com/cfp/servlet/event.showcfp?eventid=90881&copyow
 nerid=105074
UID:cfp792212-E@wikicfp.com
END:VEVENT
BEGIN:VEVENT
DTSTAMP:20260425T151205Z
DTSTART;VALUE=DATE:20190830
SUMMARY:AAAI 2020 Abstract Due
DESCRIPTION:The Thirty-Fourth AAAI Conference on Artificial Intelligence
URL:http://www.wikicfp.com/cfp/servlet/event.showcfp?eventid=90881&copyow
 nerid=105074
UID:cfp792212-A@wikicfp.com
END:VEVENT
BEGIN:VEVENT
DTSTAMP:20260425T151205Z
DTSTART;VALUE=DATE:20190905
SUMMARY:AAAI 2020 Deadline
DESCRIPTION:The Thirty-Fourth AAAI Conference on Artificial Intelligence
URL:http://www.wikicfp.com/cfp/servlet/event.showcfp?eventid=90881&copyow
 nerid=105074
UID:cfp792212-D@wikicfp.com
END:VEVENT
BEGIN:VEVENT
DTSTAMP:20260425T151205Z
DTSTART;VALUE=DATE:20191110
SUMMARY:AAAI 2020 Notification Due
DESCRIPTION:The Thirty-Fourth AAAI Conference on Artificial Intelligence
URL:http://www.wikicfp.com/cfp/servlet/event.showcfp?eventid=90881&copyow
 nerid=105074
UID:cfp792212-N@wikicfp.com
END:VEVENT
BEGIN:VEVENT
DTSTAMP:20260425T151205Z
DTSTART;VALUE=DATE:20191121
SUMMARY:AAAI 2020 Final Version Due
DESCRIPTION:The Thirty-Fourth AAAI Conference on Artificial Intelligence
URL:http://www.wikicfp.com/cfp/servlet/event.showcfp?eventid=90881&copyow
 nerid=105074
UID:cfp792212-N@wikicfp.com
END:VEVENT
BEGIN:VEVENT
DTSTAMP:20260425T151205Z
DTSTART;VALUE=DATE:20200222
DTEND;VALUE=DATE:20200227
SUMMARY:CGO 2020
DESCRIPTION:Symposium on Code Generation and Optimization
URL:http://www.wikicfp.com/cfp/servlet/event.showcfp?eventid=90348&copyow
 nerid=105074
UID:cfp791717-E@wikicfp.com
END:VEVENT
BEGIN:VEVENT
DTSTAMP:20260425T151205Z
DTSTART;VALUE=DATE:20190830
SUMMARY:CGO 2020 Abstract Due
DESCRIPTION:Symposium on Code Generation and Optimization
URL:http://www.wikicfp.com/cfp/servlet/event.showcfp?eventid=90348&copyow
 nerid=105074
UID:cfp791717-A@wikicfp.com
END:VEVENT
BEGIN:VEVENT
DTSTAMP:20260425T151205Z
DTSTART;VALUE=DATE:20190906
SUMMARY:CGO 2020 Deadline
DESCRIPTION:Symposium on Code Generation and Optimization
URL:http://www.wikicfp.com/cfp/servlet/event.showcfp?eventid=90348&copyow
 nerid=105074
UID:cfp791717-D@wikicfp.com
END:VEVENT
BEGIN:VEVENT
DTSTAMP:20260425T151205Z
DTSTART;VALUE=DATE:20191022
SUMMARY:CGO 2020 Notification Due
DESCRIPTION:Symposium on Code Generation and Optimization
URL:http://www.wikicfp.com/cfp/servlet/event.showcfp?eventid=90348&copyow
 nerid=105074
UID:cfp791717-N@wikicfp.com
END:VEVENT
BEGIN:VEVENT
DTSTAMP:20260425T151205Z
DTSTART;VALUE=DATE:20190330
DTEND;VALUE=DATE:20190404
SUMMARY:SAC 2020
DESCRIPTION:The 35th ACM/SIGAPP Symposium On Applied Computing
URL:http://www.wikicfp.com/cfp/servlet/event.showcfp?eventid=90511&copyow
 nerid=105074
UID:cfp799903-E@wikicfp.com
END:VEVENT
BEGIN:VEVENT
DTSTAMP:20260425T151205Z
DTSTART;VALUE=DATE:20190915
SUMMARY:SAC 2020 Deadline
DESCRIPTION:The 35th ACM/SIGAPP Symposium On Applied Computing
URL:http://www.wikicfp.com/cfp/servlet/event.showcfp?eventid=90511&copyow
 nerid=105074
UID:cfp799903-D@wikicfp.com
END:VEVENT
BEGIN:VEVENT
DTSTAMP:20260425T151205Z
DTSTART;VALUE=DATE:20191110
SUMMARY:SAC 2020 Notification Due
DESCRIPTION:The 35th ACM/SIGAPP Symposium On Applied Computing
URL:http://www.wikicfp.com/cfp/servlet/event.showcfp?eventid=90511&copyow
 nerid=105074
UID:cfp799903-N@wikicfp.com
END:VEVENT
BEGIN:VEVENT
DTSTAMP:20260425T151205Z
DTSTART;VALUE=DATE:20191125
SUMMARY:SAC 2020 Final Version Due
DESCRIPTION:The 35th ACM/SIGAPP Symposium On Applied Computing
URL:http://www.wikicfp.com/cfp/servlet/event.showcfp?eventid=90511&copyow
 nerid=105074
UID:cfp799903-N@wikicfp.com
END:VEVENT
BEGIN:VEVENT
DTSTAMP:20260425T151205Z
DTSTART;VALUE=DATE:20200203
DTEND;VALUE=DATE:20200206
SUMMARY:ICSC 2020
DESCRIPTION:14th IEEE International Conference on âSemantic Computing
URL:http://www.wikicfp.com/cfp/servlet/event.showcfp?eventid=87236&copyow
 nerid=105074
UID:cfp777142-E@wikicfp.com
END:VEVENT
BEGIN:VEVENT
DTSTAMP:20260425T151205Z
DTSTART;VALUE=DATE:20190928
SUMMARY:ICSC 2020 Abstract Due
DESCRIPTION:14th IEEE International Conference on âSemantic Computing
URL:http://www.wikicfp.com/cfp/servlet/event.showcfp?eventid=87236&copyow
 nerid=105074
UID:cfp777142-A@wikicfp.com
END:VEVENT
BEGIN:VEVENT
DTSTAMP:20260425T151205Z
DTSTART;VALUE=DATE:20191005
SUMMARY:ICSC 2020 Deadline
DESCRIPTION:14th IEEE International Conference on âSemantic Computing
URL:http://www.wikicfp.com/cfp/servlet/event.showcfp?eventid=87236&copyow
 nerid=105074
UID:cfp777142-D@wikicfp.com
END:VEVENT
BEGIN:VEVENT
DTSTAMP:20260425T151205Z
DTSTART;VALUE=DATE:20191115
SUMMARY:ICSC 2020 Notification Due
DESCRIPTION:14th IEEE International Conference on âSemantic Computing
URL:http://www.wikicfp.com/cfp/servlet/event.showcfp?eventid=87236&copyow
 nerid=105074
UID:cfp777142-N@wikicfp.com
END:VEVENT
BEGIN:VEVENT
DTSTAMP:20260425T151205Z
DTSTART;VALUE=DATE:20191221
SUMMARY:ICSC 2020 Final Version Due
DESCRIPTION:14th IEEE International Conference on âSemantic Computing
URL:http://www.wikicfp.com/cfp/servlet/event.showcfp?eventid=87236&copyow
 nerid=105074
UID:cfp777142-N@wikicfp.com
END:VEVENT
BEGIN:VEVENT
DTSTAMP:20260425T151205Z
DTSTART;VALUE=DATE:20200420
DTEND;VALUE=DATE:20200426
SUMMARY:WWW 2020
DESCRIPTION:The Web Conference
URL:http://www.wikicfp.com/cfp/servlet/event.showcfp?eventid=90054&copyow
 nerid=105074
UID:cfp788429-E@wikicfp.com
END:VEVENT
BEGIN:VEVENT
DTSTAMP:20260425T151205Z
DTSTART;VALUE=DATE:20191007
SUMMARY:WWW 2020 Abstract Due
DESCRIPTION:The Web Conference
URL:http://www.wikicfp.com/cfp/servlet/event.showcfp?eventid=90054&copyow
 nerid=105074
UID:cfp788429-A@wikicfp.com
END:VEVENT
BEGIN:VEVENT
DTSTAMP:20260425T151205Z
DTSTART;VALUE=DATE:20191014
SUMMARY:WWW 2020 Deadline
DESCRIPTION:The Web Conference
URL:http://www.wikicfp.com/cfp/servlet/event.showcfp?eventid=90054&copyow
 nerid=105074
UID:cfp788429-D@wikicfp.com
END:VEVENT
BEGIN:VEVENT
DTSTAMP:20260425T151205Z
DTSTART;VALUE=DATE:20200110
SUMMARY:WWW 2020 Notification Due
DESCRIPTION:The Web Conference
URL:http://www.wikicfp.com/cfp/servlet/event.showcfp?eventid=90054&copyow
 nerid=105074
UID:cfp788429-N@wikicfp.com
END:VEVENT
BEGIN:VEVENT
DTSTAMP:20260425T151205Z
DTSTART;VALUE=DATE:20200608
DTEND;VALUE=DATE:20200613
SUMMARY:ECAI 2020
DESCRIPTION:24th European Conference on Artificial Intelligence
URL:http://www.wikicfp.com/cfp/servlet/event.showcfp?eventid=87927&copyow
 nerid=105074
UID:cfp800490-E@wikicfp.com
END:VEVENT
BEGIN:VEVENT
DTSTAMP:20260425T151205Z
DTSTART;VALUE=DATE:20201115
SUMMARY:ECAI 2020 Abstract Due
DESCRIPTION:24th European Conference on Artificial Intelligence
URL:http://www.wikicfp.com/cfp/servlet/event.showcfp?eventid=87927&copyow
 nerid=105074
UID:cfp800490-A@wikicfp.com
END:VEVENT
BEGIN:VEVENT
DTSTAMP:20260425T151205Z
DTSTART;VALUE=DATE:20191119
SUMMARY:ECAI 2020 Deadline
DESCRIPTION:24th European Conference on Artificial Intelligence
URL:http://www.wikicfp.com/cfp/servlet/event.showcfp?eventid=87927&copyow
 nerid=105074
UID:cfp800490-D@wikicfp.com
END:VEVENT
BEGIN:VEVENT
DTSTAMP:20260425T151205Z
DTSTART;VALUE=DATE:20200115
SUMMARY:ECAI 2020 Notification Due
DESCRIPTION:24th European Conference on Artificial Intelligence
URL:http://www.wikicfp.com/cfp/servlet/event.showcfp?eventid=87927&copyow
 nerid=105074
UID:cfp800490-N@wikicfp.com
END:VEVENT
BEGIN:VEVENT
DTSTAMP:20260425T151205Z
DTSTART;VALUE=DATE:20200227
SUMMARY:ECAI 2020 Final Version Due
DESCRIPTION:24th European Conference on Artificial Intelligence
URL:http://www.wikicfp.com/cfp/servlet/event.showcfp?eventid=87927&copyow
 nerid=105074
UID:cfp800490-N@wikicfp.com
END:VEVENT
BEGIN:VEVENT
DTSTAMP:20260425T151205Z
DTSTART;VALUE=DATE:20200615
DTEND;VALUE=DATE:20200620
SUMMARY:IPMU 2020
DESCRIPTION:18th International Conference on Information Processing and M
 anagement of Uncertainty in Knowledge-Based Systems
URL:http://www.wikicfp.com/cfp/servlet/event.showcfp?eventid=91871&copyow
 nerid=105074
UID:cfp798563-E@wikicfp.com
END:VEVENT
BEGIN:VEVENT
DTSTAMP:20260425T151205Z
DTSTART;VALUE=DATE:20200115
SUMMARY:IPMU 2020 Deadline
DESCRIPTION:18th International Conference on Information Processing and M
 anagement of Uncertainty in Knowledge-Based Systems
URL:http://www.wikicfp.com/cfp/servlet/event.showcfp?eventid=91871&copyow
 nerid=105074
UID:cfp798563-D@wikicfp.com
END:VEVENT
BEGIN:VEVENT
DTSTAMP:20260425T151205Z
DTSTART;VALUE=DATE:20200301
SUMMARY:IPMU 2020 Notification Due
DESCRIPTION:18th International Conference on Information Processing and M
 anagement of Uncertainty in Knowledge-Based Systems
URL:http://www.wikicfp.com/cfp/servlet/event.showcfp?eventid=91871&copyow
 nerid=105074
UID:cfp798563-N@wikicfp.com
END:VEVENT
BEGIN:VEVENT
DTSTAMP:20260425T151205Z
DTSTART;VALUE=DATE:20200331
SUMMARY:IPMU 2020 Final Version Due
DESCRIPTION:18th International Conference on Information Processing and M
 anagement of Uncertainty in Knowledge-Based Systems
URL:http://www.wikicfp.com/cfp/servlet/event.showcfp?eventid=91871&copyow
 nerid=105074
UID:cfp798563-N@wikicfp.com
END:VEVENT
BEGIN:VEVENT
DTSTAMP:20260425T151205Z
DTSTART;VALUE=DATE:20200616
DTEND;VALUE=DATE:20200619
SUMMARY:SWeBT 2020
DESCRIPTION:The Semantic Web Enabled Blockchain Technologies Workshop 
URL:http://www.wikicfp.com/cfp/servlet/event.showcfp?eventid=97669&copyow
 nerid=105074
UID:cfp822020-E@wikicfp.com
END:VEVENT
BEGIN:VEVENT
DTSTAMP:20260425T151205Z
DTSTART;VALUE=DATE:20200210
SUMMARY:SWeBT 2020 Deadline
DESCRIPTION:The Semantic Web Enabled Blockchain Technologies Workshop 
URL:http://www.wikicfp.com/cfp/servlet/event.showcfp?eventid=97669&copyow
 nerid=105074
UID:cfp822020-D@wikicfp.com
END:VEVENT
BEGIN:VEVENT
DTSTAMP:20260425T151205Z
DTSTART;VALUE=DATE:20200329
SUMMARY:SWeBT 2020 Notification Due
DESCRIPTION:The Semantic Web Enabled Blockchain Technologies Workshop 
URL:http://www.wikicfp.com/cfp/servlet/event.showcfp?eventid=97669&copyow
 nerid=105074
UID:cfp822020-N@wikicfp.com
END:VEVENT
BEGIN:VEVENT
DTSTAMP:20260425T151205Z
DTSTART;VALUE=DATE:20200303
SUMMARY:SWeBT 2020 Final Version Due
DESCRIPTION:The Semantic Web Enabled Blockchain Technologies Workshop 
URL:http://www.wikicfp.com/cfp/servlet/event.showcfp?eventid=97669&copyow
 nerid=105074
UID:cfp822020-N@wikicfp.com
END:VEVENT
BEGIN:VEVENT
DTSTAMP:20260425T151205Z
DTSTART;VALUE=DATE:20201102
DTEND;VALUE=DATE:20201107
SUMMARY:ISWC 2020
DESCRIPTION: International Semantic Web Conference
URL:http://www.wikicfp.com/cfp/servlet/event.showcfp?eventid=98188&copyow
 nerid=105074
UID:cfp822019-E@wikicfp.com
END:VEVENT
BEGIN:VEVENT
DTSTAMP:20260425T151205Z
DTSTART;VALUE=DATE:20200327
SUMMARY:ISWC 2020 Abstract Due
DESCRIPTION: International Semantic Web Conference
URL:http://www.wikicfp.com/cfp/servlet/event.showcfp?eventid=98188&copyow
 nerid=105074
UID:cfp822019-A@wikicfp.com
END:VEVENT
BEGIN:VEVENT
DTSTAMP:20260425T151205Z
DTSTART;VALUE=DATE:20200403
SUMMARY:ISWC 2020 Deadline
DESCRIPTION: International Semantic Web Conference
URL:http://www.wikicfp.com/cfp/servlet/event.showcfp?eventid=98188&copyow
 nerid=105074
UID:cfp822019-D@wikicfp.com
END:VEVENT
BEGIN:VEVENT
DTSTAMP:20260425T151205Z
DTSTART;VALUE=DATE:20200619
SUMMARY:ISWC 2020 Notification Due
DESCRIPTION: International Semantic Web Conference
URL:http://www.wikicfp.com/cfp/servlet/event.showcfp?eventid=98188&copyow
 nerid=105074
UID:cfp822019-N@wikicfp.com
END:VEVENT
BEGIN:VEVENT
DTSTAMP:20260425T151205Z
DTSTART;VALUE=DATE:20210614
DTEND;VALUE=DATE:20210619
SUMMARY:AIED 2021
DESCRIPTION:Artificial Intelligence in Education
URL:http://www.wikicfp.com/cfp/servlet/event.showcfp?eventid=115195&copyo
 wnerid=105074
UID:cfp857510-E@wikicfp.com
END:VEVENT
BEGIN:VEVENT
DTSTAMP:20260425T151205Z
DTSTART;VALUE=DATE:20210201
SUMMARY:AIED 2021 Abstract Due
DESCRIPTION:Artificial Intelligence in Education
URL:http://www.wikicfp.com/cfp/servlet/event.showcfp?eventid=115195&copyo
 wnerid=105074
UID:cfp857510-A@wikicfp.com
END:VEVENT
BEGIN:VEVENT
DTSTAMP:20260425T151205Z
DTSTART;VALUE=DATE:20210208
SUMMARY:AIED 2021 Deadline
DESCRIPTION:Artificial Intelligence in Education
URL:http://www.wikicfp.com/cfp/servlet/event.showcfp?eventid=115195&copyo
 wnerid=105074
UID:cfp857510-D@wikicfp.com
END:VEVENT
BEGIN:VEVENT
DTSTAMP:20260425T151205Z
DTSTART;VALUE=DATE:20210405
SUMMARY:AIED 2021 Notification Due
DESCRIPTION:Artificial Intelligence in Education
URL:http://www.wikicfp.com/cfp/servlet/event.showcfp?eventid=115195&copyo
 wnerid=105074
UID:cfp857510-N@wikicfp.com
END:VEVENT
BEGIN:VEVENT
DTSTAMP:20260425T151205Z
DTSTART;VALUE=DATE:20210419
SUMMARY:AIED 2021 Final Version Due
DESCRIPTION:Artificial Intelligence in Education
URL:http://www.wikicfp.com/cfp/servlet/event.showcfp?eventid=115195&copyo
 wnerid=105074
UID:cfp857510-N@wikicfp.com
END:VEVENT
BEGIN:VEVENT
DTSTAMP:20260425T151205Z
DTSTART;VALUE=DATE:20210814
DTEND;VALUE=DATE:20210819
SUMMARY:KDD  2021
DESCRIPTION:27th ACM SIGKDD Conference on Knowledge Discovery and Data Mi
 ning
URL:http://www.wikicfp.com/cfp/servlet/event.showcfp?eventid=117754&copyo
 wnerid=105074
UID:cfp862253-E@wikicfp.com
END:VEVENT
BEGIN:VEVENT
DTSTAMP:20260425T151205Z
DTSTART;VALUE=DATE:20210208
SUMMARY:KDD  2021 Deadline
DESCRIPTION:27th ACM SIGKDD Conference on Knowledge Discovery and Data Mi
 ning
URL:http://www.wikicfp.com/cfp/servlet/event.showcfp?eventid=117754&copyo
 wnerid=105074
UID:cfp862253-D@wikicfp.com
END:VEVENT
BEGIN:VEVENT
DTSTAMP:20260425T151205Z
DTSTART;VALUE=DATE:20210517
SUMMARY:KDD  2021 Notification Due
DESCRIPTION:27th ACM SIGKDD Conference on Knowledge Discovery and Data Mi
 ning
URL:http://www.wikicfp.com/cfp/servlet/event.showcfp?eventid=117754&copyo
 wnerid=105074
UID:cfp862253-N@wikicfp.com
END:VEVENT
BEGIN:VEVENT
DTSTAMP:20260425T151205Z
DTSTART;VALUE=DATE:20210617
SUMMARY:KDD  2021 Final Version Due
DESCRIPTION:27th ACM SIGKDD Conference on Knowledge Discovery and Data Mi
 ning
URL:http://www.wikicfp.com/cfp/servlet/event.showcfp?eventid=117754&copyo
 wnerid=105074
UID:cfp862253-N@wikicfp.com
END:VEVENT
BEGIN:VEVENT
DTSTAMP:20260425T151205Z
DTSTART;VALUE=DATE:20211106
DTEND;VALUE=DATE:20211113
SUMMARY:KR 2021
DESCRIPTION:18th International Conference on Principles of Knowledge Repr
 esentation and Reasoning
URL:http://www.wikicfp.com/cfp/servlet/event.showcfp?eventid=122352&copyo
 wnerid=105074
UID:cfp870551-E@wikicfp.com
END:VEVENT
BEGIN:VEVENT
DTSTAMP:20260425T151205Z
DTSTART;VALUE=DATE:20210324
SUMMARY:KR 2021 Abstract Due
DESCRIPTION:18th International Conference on Principles of Knowledge Repr
 esentation and Reasoning
URL:http://www.wikicfp.com/cfp/servlet/event.showcfp?eventid=122352&copyo
 wnerid=105074
UID:cfp870551-A@wikicfp.com
END:VEVENT
BEGIN:VEVENT
DTSTAMP:20260425T151205Z
DTSTART;VALUE=DATE:20210331
SUMMARY:KR 2021 Deadline
DESCRIPTION:18th International Conference on Principles of Knowledge Repr
 esentation and Reasoning
URL:http://www.wikicfp.com/cfp/servlet/event.showcfp?eventid=122352&copyo
 wnerid=105074
UID:cfp870551-D@wikicfp.com
END:VEVENT
BEGIN:VEVENT
DTSTAMP:20260425T151205Z
DTSTART;VALUE=DATE:20210615
SUMMARY:KR 2021 Notification Due
DESCRIPTION:18th International Conference on Principles of Knowledge Repr
 esentation and Reasoning
URL:http://www.wikicfp.com/cfp/servlet/event.showcfp?eventid=122352&copyo
 wnerid=105074
UID:cfp870551-N@wikicfp.com
END:VEVENT
BEGIN:VEVENT
DTSTAMP:20260425T151205Z
DTSTART;VALUE=DATE:20210714
SUMMARY:KR 2021 Final Version Due
DESCRIPTION:18th International Conference on Principles of Knowledge Repr
 esentation and Reasoning
URL:http://www.wikicfp.com/cfp/servlet/event.showcfp?eventid=122352&copyo
 wnerid=105074
UID:cfp870551-N@wikicfp.com
END:VEVENT
BEGIN:VEVENT
DTSTAMP:20260425T151205Z
DTSTART;VALUE=DATE:20211018
DTEND;VALUE=DATE:20211022
SUMMARY:ER 2021
DESCRIPTION:40th International Conference on Conceptual Modeling
URL:http://www.wikicfp.com/cfp/servlet/event.showcfp?eventid=122947&copyo
 wnerid=105074
UID:cfp870556-E@wikicfp.com
END:VEVENT
BEGIN:VEVENT
DTSTAMP:20260425T151205Z
DTSTART;VALUE=DATE:20210331
SUMMARY:ER 2021 Abstract Due
DESCRIPTION:40th International Conference on Conceptual Modeling
URL:http://www.wikicfp.com/cfp/servlet/event.showcfp?eventid=122947&copyo
 wnerid=105074
UID:cfp870556-A@wikicfp.com
END:VEVENT
BEGIN:VEVENT
DTSTAMP:20260425T151205Z
DTSTART;VALUE=DATE:20210407
SUMMARY:ER 2021 Deadline
DESCRIPTION:40th International Conference on Conceptual Modeling
URL:http://www.wikicfp.com/cfp/servlet/event.showcfp?eventid=122947&copyo
 wnerid=105074
UID:cfp870556-D@wikicfp.com
END:VEVENT
BEGIN:VEVENT
DTSTAMP:20260425T151205Z
DTSTART;VALUE=DATE:20210609
SUMMARY:ER 2021 Notification Due
DESCRIPTION:40th International Conference on Conceptual Modeling
URL:http://www.wikicfp.com/cfp/servlet/event.showcfp?eventid=122947&copyo
 wnerid=105074
UID:cfp870556-N@wikicfp.com
END:VEVENT
BEGIN:VEVENT
DTSTAMP:20260425T151205Z
DTSTART;VALUE=DATE:20210623
SUMMARY:ER 2021 Final Version Due
DESCRIPTION:40th International Conference on Conceptual Modeling
URL:http://www.wikicfp.com/cfp/servlet/event.showcfp?eventid=122947&copyo
 wnerid=105074
UID:cfp870556-N@wikicfp.com
END:VEVENT
END:VCALENDAR
