BEGIN:VCALENDAR
PRODID:-//WikiCFP//DawoodSheniar 1.0//EN
VERSION:2.0
CALSCALE:GREGORIAN
BEGIN:VEVENT
DTSTAMP:20260421T003708Z
DTSTART;VALUE=DATE:20180326
DTEND;VALUE=DATE:20180329
SUMMARY:ISMICT 2018
DESCRIPTION:12th International Symposium on Medical Information and Commu
 nication Technology
URL:http://www.wikicfp.com/cfp/servlet/event.showcfp?eventid=68172&copyow
 nerid=104946
UID:cfp696004-E@wikicfp.com
END:VEVENT
BEGIN:VEVENT
DTSTAMP:20260421T003708Z
DTSTART;VALUE=DATE:20171127
SUMMARY:ISMICT 2018 Deadline
DESCRIPTION:12th International Symposium on Medical Information and Commu
 nication Technology
URL:http://www.wikicfp.com/cfp/servlet/event.showcfp?eventid=68172&copyow
 nerid=104946
UID:cfp696004-D@wikicfp.com
END:VEVENT
BEGIN:VEVENT
DTSTAMP:20260421T003708Z
DTSTART;VALUE=DATE:20180129
SUMMARY:ISMICT 2018 Notification Due
DESCRIPTION:12th International Symposium on Medical Information and Commu
 nication Technology
URL:http://www.wikicfp.com/cfp/servlet/event.showcfp?eventid=68172&copyow
 nerid=104946
UID:cfp696004-N@wikicfp.com
END:VEVENT
BEGIN:VEVENT
DTSTAMP:20260421T003708Z
DTSTART;VALUE=DATE:20180219
SUMMARY:ISMICT 2018 Final Version Due
DESCRIPTION:12th International Symposium on Medical Information and Commu
 nication Technology
URL:http://www.wikicfp.com/cfp/servlet/event.showcfp?eventid=68172&copyow
 nerid=104946
UID:cfp696004-N@wikicfp.com
END:VEVENT
BEGIN:VEVENT
DTSTAMP:20260421T003708Z
DTSTART;VALUE=DATE:20180224
DTEND;VALUE=DATE:20180227
SUMMARY:Ei - ICCAE 2018
DESCRIPTION:2018 10th International Conference on Computer and Automation
  Engineering (ICCAE 2018)--Ei Compendex and Scopus
URL:http://www.wikicfp.com/cfp/servlet/event.showcfp?eventid=64694&copyow
 nerid=104946
UID:cfp696006-E@wikicfp.com
END:VEVENT
BEGIN:VEVENT
DTSTAMP:20260421T003708Z
DTSTART;VALUE=DATE:20171220
SUMMARY:Ei - ICCAE 2018 Deadline
DESCRIPTION:2018 10th International Conference on Computer and Automation
  Engineering (ICCAE 2018)--Ei Compendex and Scopus
URL:http://www.wikicfp.com/cfp/servlet/event.showcfp?eventid=64694&copyow
 nerid=104946
UID:cfp696006-D@wikicfp.com
END:VEVENT
BEGIN:VEVENT
DTSTAMP:20260421T003708Z
DTSTART;VALUE=DATE:20180224
DTEND;VALUE=DATE:20180227
SUMMARY:ICNCT 2018
DESCRIPTION:2018 the 6th International Conference on Network and Computin
 g Technologies (ICNCT 2018)
URL:http://www.wikicfp.com/cfp/servlet/event.showcfp?eventid=65236&copyow
 nerid=104946
UID:cfp695999-E@wikicfp.com
END:VEVENT
BEGIN:VEVENT
DTSTAMP:20260421T003708Z
DTSTART;VALUE=DATE:20180105
SUMMARY:ICNCT 2018 Deadline
DESCRIPTION:2018 the 6th International Conference on Network and Computin
 g Technologies (ICNCT 2018)
URL:http://www.wikicfp.com/cfp/servlet/event.showcfp?eventid=65236&copyow
 nerid=104946
UID:cfp695999-D@wikicfp.com
END:VEVENT
BEGIN:VEVENT
DTSTAMP:20260421T003708Z
DTSTART;VALUE=DATE:20180626
DTEND;VALUE=DATE:20180629
SUMMARY:ICT 2018
DESCRIPTION:International Conference on Telecommunications
URL:http://www.wikicfp.com/cfp/servlet/event.showcfp?eventid=66595&copyow
 nerid=104946
UID:cfp696003-E@wikicfp.com
END:VEVENT
BEGIN:VEVENT
DTSTAMP:20260421T003708Z
DTSTART;VALUE=DATE:20180122
SUMMARY:ICT 2018 Deadline
DESCRIPTION:International Conference on Telecommunications
URL:http://www.wikicfp.com/cfp/servlet/event.showcfp?eventid=66595&copyow
 nerid=104946
UID:cfp696003-D@wikicfp.com
END:VEVENT
BEGIN:VEVENT
DTSTAMP:20260421T003708Z
DTSTART;VALUE=DATE:20180323
SUMMARY:ICT 2018 Notification Due
DESCRIPTION:International Conference on Telecommunications
URL:http://www.wikicfp.com/cfp/servlet/event.showcfp?eventid=66595&copyow
 nerid=104946
UID:cfp696003-N@wikicfp.com
END:VEVENT
BEGIN:VEVENT
DTSTAMP:20260421T003708Z
DTSTART;VALUE=DATE:20180406
SUMMARY:ICT 2018 Final Version Due
DESCRIPTION:International Conference on Telecommunications
URL:http://www.wikicfp.com/cfp/servlet/event.showcfp?eventid=66595&copyow
 nerid=104946
UID:cfp696003-N@wikicfp.com
END:VEVENT
BEGIN:VEVENT
DTSTAMP:20260421T003708Z
DTSTART;VALUE=DATE:20180520
DTEND;VALUE=DATE:20180525
SUMMARY:ICNS 2018
DESCRIPTION:The Fourteenth International Conference on Networking and Ser
 vices
URL:http://www.wikicfp.com/cfp/servlet/event.showcfp?eventid=69287&copyow
 nerid=104946
UID:cfp694450-E@wikicfp.com
END:VEVENT
BEGIN:VEVENT
DTSTAMP:20260421T003708Z
DTSTART;VALUE=DATE:20180128
SUMMARY:ICNS 2018 Deadline
DESCRIPTION:The Fourteenth International Conference on Networking and Ser
 vices
URL:http://www.wikicfp.com/cfp/servlet/event.showcfp?eventid=69287&copyow
 nerid=104946
UID:cfp694450-D@wikicfp.com
END:VEVENT
BEGIN:VEVENT
DTSTAMP:20260421T003708Z
DTSTART;VALUE=DATE:20180307
SUMMARY:ICNS 2018 Notification Due
DESCRIPTION:The Fourteenth International Conference on Networking and Ser
 vices
URL:http://www.wikicfp.com/cfp/servlet/event.showcfp?eventid=69287&copyow
 nerid=104946
UID:cfp694450-N@wikicfp.com
END:VEVENT
BEGIN:VEVENT
DTSTAMP:20260421T003708Z
DTSTART;VALUE=DATE:20180402
SUMMARY:ICNS 2018 Final Version Due
DESCRIPTION:The Fourteenth International Conference on Networking and Ser
 vices
URL:http://www.wikicfp.com/cfp/servlet/event.showcfp?eventid=69287&copyow
 nerid=104946
UID:cfp694450-N@wikicfp.com
END:VEVENT
BEGIN:VEVENT
DTSTAMP:20260421T003708Z
DTSTART;VALUE=DATE:20180801
DTEND;VALUE=DATE:20180804
SUMMARY:TrustCom 2018
DESCRIPTION:The 17th IEEE International Conference On Trust\, Security An
 d Privacy In Computing And Communications
URL:http://www.wikicfp.com/cfp/servlet/event.showcfp?eventid=67428&copyow
 nerid=104946
UID:cfp695988-E@wikicfp.com
END:VEVENT
BEGIN:VEVENT
DTSTAMP:20260421T003708Z
DTSTART;VALUE=DATE:20180215
SUMMARY:TrustCom 2018 Deadline
DESCRIPTION:The 17th IEEE International Conference On Trust\, Security An
 d Privacy In Computing And Communications
URL:http://www.wikicfp.com/cfp/servlet/event.showcfp?eventid=67428&copyow
 nerid=104946
UID:cfp695988-D@wikicfp.com
END:VEVENT
BEGIN:VEVENT
DTSTAMP:20260421T003708Z
DTSTART;VALUE=DATE:20180601
SUMMARY:TrustCom 2018 Notification Due
DESCRIPTION:The 17th IEEE International Conference On Trust\, Security An
 d Privacy In Computing And Communications
URL:http://www.wikicfp.com/cfp/servlet/event.showcfp?eventid=67428&copyow
 nerid=104946
UID:cfp695988-N@wikicfp.com
END:VEVENT
BEGIN:VEVENT
DTSTAMP:20260421T003708Z
DTSTART;VALUE=DATE:20180701
SUMMARY:TrustCom 2018 Final Version Due
DESCRIPTION:The 17th IEEE International Conference On Trust\, Security An
 d Privacy In Computing And Communications
URL:http://www.wikicfp.com/cfp/servlet/event.showcfp?eventid=67428&copyow
 nerid=104946
UID:cfp695988-N@wikicfp.com
END:VEVENT
BEGIN:VEVENT
DTSTAMP:20260421T003708Z
DTSTART;VALUE=DATE:20180701
DTEND;VALUE=DATE:20180705
SUMMARY:ICITA 2018
DESCRIPTION:International Conference on Information Technology and Applic
 ations
URL:http://www.wikicfp.com/cfp/servlet/event.showcfp?eventid=41044&copyow
 nerid=104946
UID:cfp696008-E@wikicfp.com
END:VEVENT
BEGIN:VEVENT
DTSTAMP:20260421T003708Z
DTSTART;VALUE=DATE:20180401
SUMMARY:ICITA 2018 Deadline
DESCRIPTION:International Conference on Information Technology and Applic
 ations
URL:http://www.wikicfp.com/cfp/servlet/event.showcfp?eventid=41044&copyow
 nerid=104946
UID:cfp696008-D@wikicfp.com
END:VEVENT
BEGIN:VEVENT
DTSTAMP:20260421T003708Z
DTSTART;VALUE=DATE:20180415
SUMMARY:ICITA 2018 Notification Due
DESCRIPTION:International Conference on Information Technology and Applic
 ations
URL:http://www.wikicfp.com/cfp/servlet/event.showcfp?eventid=41044&copyow
 nerid=104946
UID:cfp696008-N@wikicfp.com
END:VEVENT
BEGIN:VEVENT
DTSTAMP:20260421T003708Z
DTSTART;VALUE=DATE:20180501
SUMMARY:ICITA 2018 Final Version Due
DESCRIPTION:International Conference on Information Technology and Applic
 ations
URL:http://www.wikicfp.com/cfp/servlet/event.showcfp?eventid=41044&copyow
 nerid=104946
UID:cfp696008-N@wikicfp.com
END:VEVENT
BEGIN:VEVENT
DTSTAMP:20260421T003708Z
DTSTART;VALUE=DATE:20180428
DTEND;VALUE=DATE:20180430
SUMMARY:NETWORKS  2018
DESCRIPTION:2nd International Conference on Networks & Communications
URL:http://www.wikicfp.com/cfp/servlet/event.showcfp?eventid=68019&copyow
 nerid=104946
UID:cfp696005-E@wikicfp.com
END:VEVENT
BEGIN:VEVENT
DTSTAMP:20260421T003708Z
DTSTART;VALUE=DATE:20180402
SUMMARY:NETWORKS  2018 Deadline
DESCRIPTION:2nd International Conference on Networks & Communications
URL:http://www.wikicfp.com/cfp/servlet/event.showcfp?eventid=68019&copyow
 nerid=104946
UID:cfp696005-D@wikicfp.com
END:VEVENT
BEGIN:VEVENT
DTSTAMP:20260421T003708Z
DTSTART;VALUE=DATE:20180410
SUMMARY:NETWORKS  2018 Notification Due
DESCRIPTION:2nd International Conference on Networks & Communications
URL:http://www.wikicfp.com/cfp/servlet/event.showcfp?eventid=68019&copyow
 nerid=104946
UID:cfp696005-N@wikicfp.com
END:VEVENT
BEGIN:VEVENT
DTSTAMP:20260421T003708Z
DTSTART;VALUE=DATE:20180415
SUMMARY:NETWORKS  2018 Final Version Due
DESCRIPTION:2nd International Conference on Networks & Communications
URL:http://www.wikicfp.com/cfp/servlet/event.showcfp?eventid=68019&copyow
 nerid=104946
UID:cfp696005-N@wikicfp.com
END:VEVENT
BEGIN:VEVENT
DTSTAMP:20260421T003708Z
DTSTART;VALUE=DATE:20180524
DTEND;VALUE=DATE:20180527
SUMMARY:ICINT--EI\, Scopus 2018
DESCRIPTION:2018 3rd International Conference on Information and Network 
 Technologies (ICINT 2018)--EI Compendex\, Scopus
URL:http://www.wikicfp.com/cfp/servlet/event.showcfp?eventid=67978&copyow
 nerid=104946
UID:cfp696001-E@wikicfp.com
END:VEVENT
BEGIN:VEVENT
DTSTAMP:20260421T003708Z
DTSTART;VALUE=DATE:20180405
SUMMARY:ICINT--EI\, Scopus 2018 Deadline
DESCRIPTION:2018 3rd International Conference on Information and Network 
 Technologies (ICINT 2018)--EI Compendex\, Scopus
URL:http://www.wikicfp.com/cfp/servlet/event.showcfp?eventid=67978&copyow
 nerid=104946
UID:cfp696001-D@wikicfp.com
END:VEVENT
BEGIN:VEVENT
DTSTAMP:20260421T003708Z
DTSTART;VALUE=DATE:20181006
DTEND;VALUE=DATE:20181009
SUMMARY:ACM--ICMBN--Ei & Scopus 2018
DESCRIPTION:ACM--2018 The 2nd International Conference on Multimedia\, Br
 oadcasting and Network (ICMBN 2018)--Ei & Scopus
URL:http://www.wikicfp.com/cfp/servlet/event.showcfp?eventid=69078&copyow
 nerid=104946
UID:cfp696002-E@wikicfp.com
END:VEVENT
BEGIN:VEVENT
DTSTAMP:20260421T003708Z
DTSTART;VALUE=DATE:20180820
SUMMARY:ACM--ICMBN--Ei & Scopus 2018 Deadline
DESCRIPTION:ACM--2018 The 2nd International Conference on Multimedia\, Br
 oadcasting and Network (ICMBN 2018)--Ei & Scopus
URL:http://www.wikicfp.com/cfp/servlet/event.showcfp?eventid=69078&copyow
 nerid=104946
UID:cfp696002-D@wikicfp.com
END:VEVENT
BEGIN:VEVENT
DTSTAMP:20260421T003708Z
DTSTART;VALUE=DATE:20180619
DTEND;VALUE=DATE:20180622
SUMMARY:IEEE ISNCC  2018
DESCRIPTION:2018 IEEE International Symposium on Networks\, Computers and
  Communications
URL:http://www.wikicfp.com/cfp/servlet/event.showcfp?eventid=68329&copyow
 nerid=104946
UID:cfp694451-E@wikicfp.com
END:VEVENT
BEGIN:VEVENT
DTSTAMP:20260421T003708Z
DTSTART;VALUE=DATE:20181222
SUMMARY:IEEE ISNCC  2018 Deadline
DESCRIPTION:2018 IEEE International Symposium on Networks\, Computers and
  Communications
URL:http://www.wikicfp.com/cfp/servlet/event.showcfp?eventid=68329&copyow
 nerid=104946
UID:cfp694451-D@wikicfp.com
END:VEVENT
BEGIN:VEVENT
DTSTAMP:20260421T003708Z
DTSTART;VALUE=DATE:20180318
SUMMARY:IEEE ISNCC  2018 Notification Due
DESCRIPTION:2018 IEEE International Symposium on Networks\, Computers and
  Communications
URL:http://www.wikicfp.com/cfp/servlet/event.showcfp?eventid=68329&copyow
 nerid=104946
UID:cfp694451-N@wikicfp.com
END:VEVENT
BEGIN:VEVENT
DTSTAMP:20260421T003708Z
DTSTART;VALUE=DATE:20180415
SUMMARY:IEEE ISNCC  2018 Final Version Due
DESCRIPTION:2018 IEEE International Symposium on Networks\, Computers and
  Communications
URL:http://www.wikicfp.com/cfp/servlet/event.showcfp?eventid=68329&copyow
 nerid=104946
UID:cfp694451-N@wikicfp.com
END:VEVENT
BEGIN:VEVENT
DTSTAMP:20260421T003708Z
DTSTART;VALUE=DATE:20250111
SUMMARY:ACII 2025 Deadline
DESCRIPTION:Advanced Computational Intelligence: An International Journal
 
URL:http://www.wikicfp.com/cfp/servlet/event.showcfp?eventid=64388&copyow
 nerid=104946
UID:cfp696007-D@wikicfp.com
END:VEVENT
BEGIN:VEVENT
DTSTAMP:20260421T003708Z
DTSTART;VALUE=DATE:20250121
SUMMARY:ACII 2025 Notification Due
DESCRIPTION:Advanced Computational Intelligence: An International Journal
 
URL:http://www.wikicfp.com/cfp/servlet/event.showcfp?eventid=64388&copyow
 nerid=104946
UID:cfp696007-N@wikicfp.com
END:VEVENT
BEGIN:VEVENT
DTSTAMP:20260421T003708Z
DTSTART;VALUE=DATE:20250125
SUMMARY:ACII 2025 Final Version Due
DESCRIPTION:Advanced Computational Intelligence: An International Journal
 
URL:http://www.wikicfp.com/cfp/servlet/event.showcfp?eventid=64388&copyow
 nerid=104946
UID:cfp696007-N@wikicfp.com
END:VEVENT
END:VCALENDAR
