BEGIN:VCALENDAR
PRODID:-//WikiCFP//joao_csm 1.0//EN
VERSION:2.0
CALSCALE:GREGORIAN
BEGIN:VEVENT
DTSTAMP:20260424T142644Z
DTSTART;VALUE=DATE:20171117
DTEND;VALUE=DATE:20171120
SUMMARY:ICEBM 2017
DESCRIPTION:2017 8th International Conference on Economics\, Business and
  Management (ICEBM 2017)
URL:http://www.wikicfp.com/cfp/servlet/event.showcfp?eventid=63050&copyow
 nerid=104770
UID:cfp692975-E@wikicfp.com
END:VEVENT
BEGIN:VEVENT
DTSTAMP:20260424T142644Z
DTSTART;VALUE=DATE:20170930
SUMMARY:ICEBM 2017 Deadline
DESCRIPTION:2017 8th International Conference on Economics\, Business and
  Management (ICEBM 2017)
URL:http://www.wikicfp.com/cfp/servlet/event.showcfp?eventid=63050&copyow
 nerid=104770
UID:cfp692975-D@wikicfp.com
END:VEVENT
BEGIN:VEVENT
DTSTAMP:20260424T142644Z
DTSTART;VALUE=DATE:20170630
SUMMARY:GEE Call Innovation 2017 Abstract Due
DESCRIPTION:Call for papers on the Portuguese Economy - Innovation
URL:http://www.wikicfp.com/cfp/servlet/event.showcfp?eventid=65571&copyow
 nerid=104770
UID:cfp692977-A@wikicfp.com
END:VEVENT
BEGIN:VEVENT
DTSTAMP:20260424T142644Z
DTSTART;VALUE=DATE:20170930
SUMMARY:GEE Call Innovation 2017 Deadline
DESCRIPTION:Call for papers on the Portuguese Economy - Innovation
URL:http://www.wikicfp.com/cfp/servlet/event.showcfp?eventid=65571&copyow
 nerid=104770
UID:cfp692977-D@wikicfp.com
END:VEVENT
BEGIN:VEVENT
DTSTAMP:20260424T142644Z
DTSTART;VALUE=DATE:20180222
DTEND;VALUE=DATE:20180224
SUMMARY:International conference 2018
DESCRIPTION:Coping with risks in agriculture\; what challenges and prospe
 cts
URL:http://www.wikicfp.com/cfp/servlet/event.showcfp?eventid=66526&copyow
 nerid=104770
UID:cfp692978-E@wikicfp.com
END:VEVENT
BEGIN:VEVENT
DTSTAMP:20260424T142644Z
DTSTART;VALUE=DATE:20171001
SUMMARY:International conference 2018 Deadline
DESCRIPTION:Coping with risks in agriculture\; what challenges and prospe
 cts
URL:http://www.wikicfp.com/cfp/servlet/event.showcfp?eventid=66526&copyow
 nerid=104770
UID:cfp692978-D@wikicfp.com
END:VEVENT
BEGIN:VEVENT
DTSTAMP:20260424T142644Z
DTSTART;VALUE=DATE:20180115
SUMMARY:International conference 2018 Final Version Due
DESCRIPTION:Coping with risks in agriculture\; what challenges and prospe
 cts
URL:http://www.wikicfp.com/cfp/servlet/event.showcfp?eventid=66526&copyow
 nerid=104770
UID:cfp692978-N@wikicfp.com
END:VEVENT
BEGIN:VEVENT
DTSTAMP:20260424T142644Z
DTSTART;VALUE=DATE:20180309
DTEND;VALUE=DATE:20180312
SUMMARY:PSPC 2018
DESCRIPTION:11th Annual Poverty and Social Protection Conference
URL:http://www.wikicfp.com/cfp/servlet/event.showcfp?eventid=63835&copyow
 nerid=104770
UID:cfp692976-E@wikicfp.com
END:VEVENT
BEGIN:VEVENT
DTSTAMP:20260424T142644Z
DTSTART;VALUE=DATE:20180201
SUMMARY:PSPC 2018 Abstract Due
DESCRIPTION:11th Annual Poverty and Social Protection Conference
URL:http://www.wikicfp.com/cfp/servlet/event.showcfp?eventid=63835&copyow
 nerid=104770
UID:cfp692976-A@wikicfp.com
END:VEVENT
BEGIN:VEVENT
DTSTAMP:20260424T142644Z
DTSTART;VALUE=DATE:20180210
SUMMARY:PSPC 2018 Deadline
DESCRIPTION:11th Annual Poverty and Social Protection Conference
URL:http://www.wikicfp.com/cfp/servlet/event.showcfp?eventid=63835&copyow
 nerid=104770
UID:cfp692976-D@wikicfp.com
END:VEVENT
BEGIN:VEVENT
DTSTAMP:20260424T142644Z
DTSTART;VALUE=DATE:20180210
SUMMARY:PSPC 2018 Final Version Due
DESCRIPTION:11th Annual Poverty and Social Protection Conference
URL:http://www.wikicfp.com/cfp/servlet/event.showcfp?eventid=63835&copyow
 nerid=104770
UID:cfp692976-N@wikicfp.com
END:VEVENT
BEGIN:VEVENT
DTSTAMP:20260424T142644Z
DTSTART;VALUE=DATE:20180912
DTEND;VALUE=DATE:20180914
SUMMARY:Sustainable Development Rome\, Italy 2018
DESCRIPTION: 6th International Conference on Sustainable Development\,12 
 - 13 September ICSD 2018 
URL:http://www.wikicfp.com/cfp/servlet/event.showcfp?eventid=57737&copyow
 nerid=104770
UID:cfp692974-E@wikicfp.com
END:VEVENT
BEGIN:VEVENT
DTSTAMP:20260424T142644Z
DTSTART;VALUE=DATE:20180316
SUMMARY:Sustainable Development Rome\, Italy 2018 Deadline
DESCRIPTION: 6th International Conference on Sustainable Development\,12 
 - 13 September ICSD 2018 
URL:http://www.wikicfp.com/cfp/servlet/event.showcfp?eventid=57737&copyow
 nerid=104770
UID:cfp692974-D@wikicfp.com
END:VEVENT
END:VCALENDAR
