BEGIN:VCALENDAR
PRODID:-//WikiCFP//DaniSandler 1.0//EN
VERSION:2.0
CALSCALE:GREGORIAN
BEGIN:VEVENT
DTSTAMP:20260419T143112Z
DTSTART;VALUE=DATE:20180725
DTEND;VALUE=DATE:20180728
SUMMARY:DCFS 2018
DESCRIPTION:20th International Conference on Descriptional Complexity of 
 Formal Systems
URL:http://www.wikicfp.com/cfp/servlet/event.showcfp?eventid=67409&copyow
 nerid=104744
UID:cfp707555-E@wikicfp.com
END:VEVENT
BEGIN:VEVENT
DTSTAMP:20260419T143112Z
DTSTART;VALUE=DATE:20180320
DTEND;VALUE=DATE:20180322
SUMMARY:COMPLEXIS 2018
DESCRIPTION:3rd International Conference on Complexity\, Future Informati
 on Systems and Risk
URL:http://www.wikicfp.com/cfp/servlet/event.showcfp?eventid=65596&copyow
 nerid=104744
UID:cfp692882-E@wikicfp.com
END:VEVENT
BEGIN:VEVENT
DTSTAMP:20260419T143112Z
DTSTART;VALUE=DATE:20171016
SUMMARY:COMPLEXIS 2018 Deadline
DESCRIPTION:3rd International Conference on Complexity\, Future Informati
 on Systems and Risk
URL:http://www.wikicfp.com/cfp/servlet/event.showcfp?eventid=65596&copyow
 nerid=104744
UID:cfp692882-D@wikicfp.com
END:VEVENT
BEGIN:VEVENT
DTSTAMP:20260419T143112Z
DTSTART;VALUE=DATE:20171215
SUMMARY:COMPLEXIS 2018 Notification Due
DESCRIPTION:3rd International Conference on Complexity\, Future Informati
 on Systems and Risk
URL:http://www.wikicfp.com/cfp/servlet/event.showcfp?eventid=65596&copyow
 nerid=104744
UID:cfp692882-N@wikicfp.com
END:VEVENT
BEGIN:VEVENT
DTSTAMP:20260419T143112Z
DTSTART;VALUE=DATE:20180104
SUMMARY:COMPLEXIS 2018 Final Version Due
DESCRIPTION:3rd International Conference on Complexity\, Future Informati
 on Systems and Risk
URL:http://www.wikicfp.com/cfp/servlet/event.showcfp?eventid=65596&copyow
 nerid=104744
UID:cfp692882-N@wikicfp.com
END:VEVENT
BEGIN:VEVENT
DTSTAMP:20260419T143112Z
DTSTART;VALUE=DATE:20180422
DTEND;VALUE=DATE:20180427
SUMMARY:PESARO 2018
DESCRIPTION:The Eighth International Conference on Performance\, Safety a
 nd Robustness in Complex Systems and Applications
URL:http://www.wikicfp.com/cfp/servlet/event.showcfp?eventid=69280&copyow
 nerid=104744
UID:cfp692875-E@wikicfp.com
END:VEVENT
BEGIN:VEVENT
DTSTAMP:20260419T143112Z
DTSTART;VALUE=DATE:20171228
SUMMARY:PESARO 2018 Deadline
DESCRIPTION:The Eighth International Conference on Performance\, Safety a
 nd Robustness in Complex Systems and Applications
URL:http://www.wikicfp.com/cfp/servlet/event.showcfp?eventid=69280&copyow
 nerid=104744
UID:cfp692875-D@wikicfp.com
END:VEVENT
BEGIN:VEVENT
DTSTAMP:20260419T143112Z
DTSTART;VALUE=DATE:20180222
SUMMARY:PESARO 2018 Notification Due
DESCRIPTION:The Eighth International Conference on Performance\, Safety a
 nd Robustness in Complex Systems and Applications
URL:http://www.wikicfp.com/cfp/servlet/event.showcfp?eventid=69280&copyow
 nerid=104744
UID:cfp692875-N@wikicfp.com
END:VEVENT
BEGIN:VEVENT
DTSTAMP:20260419T143112Z
DTSTART;VALUE=DATE:20180315
SUMMARY:PESARO 2018 Final Version Due
DESCRIPTION:The Eighth International Conference on Performance\, Safety a
 nd Robustness in Complex Systems and Applications
URL:http://www.wikicfp.com/cfp/servlet/event.showcfp?eventid=69280&copyow
 nerid=104744
UID:cfp692875-N@wikicfp.com
END:VEVENT
BEGIN:VEVENT
DTSTAMP:20260419T143112Z
DTSTART;VALUE=DATE:20180625
DTEND;VALUE=DATE:20180630
SUMMARY:DACS 2018
DESCRIPTION:Data Analytics for Cyber Security Workshop
URL:http://www.wikicfp.com/cfp/servlet/event.showcfp?eventid=69286&copyow
 nerid=104744
UID:cfp699016-E@wikicfp.com
END:VEVENT
BEGIN:VEVENT
DTSTAMP:20260419T143112Z
DTSTART;VALUE=DATE:20180110
SUMMARY:DACS 2018 Deadline
DESCRIPTION:Data Analytics for Cyber Security Workshop
URL:http://www.wikicfp.com/cfp/servlet/event.showcfp?eventid=69286&copyow
 nerid=104744
UID:cfp699016-D@wikicfp.com
END:VEVENT
BEGIN:VEVENT
DTSTAMP:20260419T143112Z
DTSTART;VALUE=DATE:20180330
SUMMARY:DACS 2018 Notification Due
DESCRIPTION:Data Analytics for Cyber Security Workshop
URL:http://www.wikicfp.com/cfp/servlet/event.showcfp?eventid=69286&copyow
 nerid=104744
UID:cfp699016-N@wikicfp.com
END:VEVENT
BEGIN:VEVENT
DTSTAMP:20260419T143112Z
DTSTART;VALUE=DATE:20180430
SUMMARY:DACS 2018 Final Version Due
DESCRIPTION:Data Analytics for Cyber Security Workshop
URL:http://www.wikicfp.com/cfp/servlet/event.showcfp?eventid=69286&copyow
 nerid=104744
UID:cfp699016-N@wikicfp.com
END:VEVENT
BEGIN:VEVENT
DTSTAMP:20260419T143112Z
DTSTART;VALUE=DATE:20180525
DTEND;VALUE=DATE:20180528
SUMMARY:EAIS 2018
DESCRIPTION:2018 IEEE Conference on Evolving and Adaptive Intelligent Sys
 tems 
URL:http://www.wikicfp.com/cfp/servlet/event.showcfp?eventid=70518&copyow
 nerid=104744
UID:cfp699012-E@wikicfp.com
END:VEVENT
BEGIN:VEVENT
DTSTAMP:20260419T143112Z
DTSTART;VALUE=DATE:20180120
SUMMARY:EAIS 2018 Deadline
DESCRIPTION:2018 IEEE Conference on Evolving and Adaptive Intelligent Sys
 tems 
URL:http://www.wikicfp.com/cfp/servlet/event.showcfp?eventid=70518&copyow
 nerid=104744
UID:cfp699012-D@wikicfp.com
END:VEVENT
BEGIN:VEVENT
DTSTAMP:20260419T143112Z
DTSTART;VALUE=DATE:20180215
SUMMARY:EAIS 2018 Notification Due
DESCRIPTION:2018 IEEE Conference on Evolving and Adaptive Intelligent Sys
 tems 
URL:http://www.wikicfp.com/cfp/servlet/event.showcfp?eventid=70518&copyow
 nerid=104744
UID:cfp699012-N@wikicfp.com
END:VEVENT
BEGIN:VEVENT
DTSTAMP:20260419T143112Z
DTSTART;VALUE=DATE:20180225
SUMMARY:EAIS 2018 Final Version Due
DESCRIPTION:2018 IEEE Conference on Evolving and Adaptive Intelligent Sys
 tems 
URL:http://www.wikicfp.com/cfp/servlet/event.showcfp?eventid=70518&copyow
 nerid=104744
UID:cfp699012-N@wikicfp.com
END:VEVENT
BEGIN:VEVENT
DTSTAMP:20260419T143112Z
DTSTART;VALUE=DATE:20180520
DTEND;VALUE=DATE:20180525
SUMMARY:ICNS 2018
DESCRIPTION:The Fourteenth International Conference on Networking and Ser
 vices
URL:http://www.wikicfp.com/cfp/servlet/event.showcfp?eventid=69287&copyow
 nerid=104744
UID:cfp692877-E@wikicfp.com
END:VEVENT
BEGIN:VEVENT
DTSTAMP:20260419T143112Z
DTSTART;VALUE=DATE:20180128
SUMMARY:ICNS 2018 Deadline
DESCRIPTION:The Fourteenth International Conference on Networking and Ser
 vices
URL:http://www.wikicfp.com/cfp/servlet/event.showcfp?eventid=69287&copyow
 nerid=104744
UID:cfp692877-D@wikicfp.com
END:VEVENT
BEGIN:VEVENT
DTSTAMP:20260419T143112Z
DTSTART;VALUE=DATE:20180307
SUMMARY:ICNS 2018 Notification Due
DESCRIPTION:The Fourteenth International Conference on Networking and Ser
 vices
URL:http://www.wikicfp.com/cfp/servlet/event.showcfp?eventid=69287&copyow
 nerid=104744
UID:cfp692877-N@wikicfp.com
END:VEVENT
BEGIN:VEVENT
DTSTAMP:20260419T143112Z
DTSTART;VALUE=DATE:20180402
SUMMARY:ICNS 2018 Final Version Due
DESCRIPTION:The Fourteenth International Conference on Networking and Ser
 vices
URL:http://www.wikicfp.com/cfp/servlet/event.showcfp?eventid=69287&copyow
 nerid=104744
UID:cfp692877-N@wikicfp.com
END:VEVENT
BEGIN:VEVENT
DTSTAMP:20260419T143112Z
DTSTART;VALUE=DATE:20180626
DTEND;VALUE=DATE:20180702
SUMMARY:SUNBELT 2018
DESCRIPTION:SUNBELT 2018 : Sunbelt Conference of the International Networ
 k for Social Network Analysis
URL:http://www.wikicfp.com/cfp/servlet/event.showcfp?eventid=70239&copyow
 nerid=104744
UID:cfp699011-E@wikicfp.com
END:VEVENT
BEGIN:VEVENT
DTSTAMP:20260419T143112Z
DTSTART;VALUE=DATE:20180201
SUMMARY:SUNBELT 2018 Deadline
DESCRIPTION:SUNBELT 2018 : Sunbelt Conference of the International Networ
 k for Social Network Analysis
URL:http://www.wikicfp.com/cfp/servlet/event.showcfp?eventid=70239&copyow
 nerid=104744
UID:cfp699011-D@wikicfp.com
END:VEVENT
BEGIN:VEVENT
DTSTAMP:20260419T143112Z
DTSTART;VALUE=DATE:20180315
SUMMARY:SUNBELT 2018 Notification Due
DESCRIPTION:SUNBELT 2018 : Sunbelt Conference of the International Networ
 k for Social Network Analysis
URL:http://www.wikicfp.com/cfp/servlet/event.showcfp?eventid=70239&copyow
 nerid=104744
UID:cfp699011-N@wikicfp.com
END:VEVENT
BEGIN:VEVENT
DTSTAMP:20260419T143112Z
DTSTART;VALUE=DATE:20180624
DTEND;VALUE=DATE:20180630
SUMMARY:iLRN 2018
DESCRIPTION:Immersive Learning Research Network Conference (iLRN 2018) - 
 Call for Papers 
URL:http://www.wikicfp.com/cfp/servlet/event.showcfp?eventid=69170&copyow
 nerid=104744
UID:cfp699013-E@wikicfp.com
END:VEVENT
BEGIN:VEVENT
DTSTAMP:20260419T143112Z
DTSTART;VALUE=DATE:20180215
SUMMARY:iLRN 2018 Deadline
DESCRIPTION:Immersive Learning Research Network Conference (iLRN 2018) - 
 Call for Papers 
URL:http://www.wikicfp.com/cfp/servlet/event.showcfp?eventid=69170&copyow
 nerid=104744
UID:cfp699013-D@wikicfp.com
END:VEVENT
BEGIN:VEVENT
DTSTAMP:20260419T143112Z
DTSTART;VALUE=DATE:20180329
SUMMARY:iLRN 2018 Notification Due
DESCRIPTION:Immersive Learning Research Network Conference (iLRN 2018) - 
 Call for Papers 
URL:http://www.wikicfp.com/cfp/servlet/event.showcfp?eventid=69170&copyow
 nerid=104744
UID:cfp699013-N@wikicfp.com
END:VEVENT
BEGIN:VEVENT
DTSTAMP:20260419T143112Z
DTSTART;VALUE=DATE:20180429
SUMMARY:iLRN 2018 Final Version Due
DESCRIPTION:Immersive Learning Research Network Conference (iLRN 2018) - 
 Call for Papers 
URL:http://www.wikicfp.com/cfp/servlet/event.showcfp?eventid=69170&copyow
 nerid=104744
UID:cfp699013-N@wikicfp.com
END:VEVENT
BEGIN:VEVENT
DTSTAMP:20260419T143112Z
DTSTART;VALUE=DATE:20180502
DTEND;VALUE=DATE:20180505
SUMMARY:ICNT--JA\, Scopus 2018
DESCRIPTION:2018 International Conference on Network Technology (ICNT 201
 8)--JA\, Scopus
URL:http://www.wikicfp.com/cfp/servlet/event.showcfp?eventid=69073&copyow
 nerid=104744
UID:cfp692893-E@wikicfp.com
END:VEVENT
BEGIN:VEVENT
DTSTAMP:20260419T143112Z
DTSTART;VALUE=DATE:20180301
SUMMARY:ICNT--JA\, Scopus 2018 Deadline
DESCRIPTION:2018 International Conference on Network Technology (ICNT 201
 8)--JA\, Scopus
URL:http://www.wikicfp.com/cfp/servlet/event.showcfp?eventid=69073&copyow
 nerid=104744
UID:cfp692893-D@wikicfp.com
END:VEVENT
BEGIN:VEVENT
DTSTAMP:20260419T143112Z
DTSTART;VALUE=DATE:20180516
DTEND;VALUE=DATE:20180519
SUMMARY:ICEBI--EI and Scopus 2018
DESCRIPTION:2018 2nd International Conference on E-Business and Internet 
 (ICEBI 2018)--EI Compendex and Scopus
URL:http://www.wikicfp.com/cfp/servlet/event.showcfp?eventid=67311&copyow
 nerid=104744
UID:cfp699017-E@wikicfp.com
END:VEVENT
BEGIN:VEVENT
DTSTAMP:20260419T143112Z
DTSTART;VALUE=DATE:20180305
SUMMARY:ICEBI--EI and Scopus 2018 Deadline
DESCRIPTION:2018 2nd International Conference on E-Business and Internet 
 (ICEBI 2018)--EI Compendex and Scopus
URL:http://www.wikicfp.com/cfp/servlet/event.showcfp?eventid=67311&copyow
 nerid=104744
UID:cfp699017-D@wikicfp.com
END:VEVENT
BEGIN:VEVENT
DTSTAMP:20260419T143112Z
DTSTART;VALUE=DATE:20180726
DTEND;VALUE=DATE:20180729
SUMMARY:DCNET 2018
DESCRIPTION:9th International Conference on Data Communication Networking
 
URL:http://www.wikicfp.com/cfp/servlet/event.showcfp?eventid=70252&copyow
 nerid=104744
UID:cfp699015-E@wikicfp.com
END:VEVENT
BEGIN:VEVENT
DTSTAMP:20260419T143112Z
DTSTART;VALUE=DATE:20180313
SUMMARY:DCNET 2018 Deadline
DESCRIPTION:9th International Conference on Data Communication Networking
 
URL:http://www.wikicfp.com/cfp/servlet/event.showcfp?eventid=70252&copyow
 nerid=104744
UID:cfp699015-D@wikicfp.com
END:VEVENT
BEGIN:VEVENT
DTSTAMP:20260419T143112Z
DTSTART;VALUE=DATE:20180514
SUMMARY:DCNET 2018 Notification Due
DESCRIPTION:9th International Conference on Data Communication Networking
 
URL:http://www.wikicfp.com/cfp/servlet/event.showcfp?eventid=70252&copyow
 nerid=104744
UID:cfp699015-N@wikicfp.com
END:VEVENT
BEGIN:VEVENT
DTSTAMP:20260419T143112Z
DTSTART;VALUE=DATE:20180528
SUMMARY:DCNET 2018 Final Version Due
DESCRIPTION:9th International Conference on Data Communication Networking
 
URL:http://www.wikicfp.com/cfp/servlet/event.showcfp?eventid=70252&copyow
 nerid=104744
UID:cfp699015-N@wikicfp.com
END:VEVENT
BEGIN:VEVENT
DTSTAMP:20260419T143112Z
DTSTART;VALUE=DATE:20180910
DTEND;VALUE=DATE:20180913
SUMMARY:NETWORKS 2018
DESCRIPTION:18th International Telecommunications Networks Strategy and P
 lanning Symposium
URL:http://www.wikicfp.com/cfp/servlet/event.showcfp?eventid=70059&copyow
 nerid=104744
UID:cfp699014-E@wikicfp.com
END:VEVENT
BEGIN:VEVENT
DTSTAMP:20260419T143112Z
DTSTART;VALUE=DATE:20180316
SUMMARY:NETWORKS 2018 Deadline
DESCRIPTION:18th International Telecommunications Networks Strategy and P
 lanning Symposium
URL:http://www.wikicfp.com/cfp/servlet/event.showcfp?eventid=70059&copyow
 nerid=104744
UID:cfp699014-D@wikicfp.com
END:VEVENT
BEGIN:VEVENT
DTSTAMP:20260419T143112Z
DTSTART;VALUE=DATE:20180601
SUMMARY:NETWORKS 2018 Notification Due
DESCRIPTION:18th International Telecommunications Networks Strategy and P
 lanning Symposium
URL:http://www.wikicfp.com/cfp/servlet/event.showcfp?eventid=70059&copyow
 nerid=104744
UID:cfp699014-N@wikicfp.com
END:VEVENT
BEGIN:VEVENT
DTSTAMP:20260419T143112Z
DTSTART;VALUE=DATE:20180615
SUMMARY:NETWORKS 2018 Final Version Due
DESCRIPTION:18th International Telecommunications Networks Strategy and P
 lanning Symposium
URL:http://www.wikicfp.com/cfp/servlet/event.showcfp?eventid=70059&copyow
 nerid=104744
UID:cfp699014-N@wikicfp.com
END:VEVENT
BEGIN:VEVENT
DTSTAMP:20260419T143112Z
DTSTART;VALUE=DATE:20180521
DTEND;VALUE=DATE:20180524
SUMMARY:ICEMC--EI & Scopus 2018
DESCRIPTION:2018 International Conference on E-business and Mobile Commer
 ce (ICEMC 2018)--EI Compendex & Scopus
URL:http://www.wikicfp.com/cfp/servlet/event.showcfp?eventid=67309&copyow
 nerid=104744
UID:cfp699023-E@wikicfp.com
END:VEVENT
BEGIN:VEVENT
DTSTAMP:20260419T143112Z
DTSTART;VALUE=DATE:20180410
SUMMARY:ICEMC--EI & Scopus 2018 Deadline
DESCRIPTION:2018 International Conference on E-business and Mobile Commer
 ce (ICEMC 2018)--EI Compendex & Scopus
URL:http://www.wikicfp.com/cfp/servlet/event.showcfp?eventid=67309&copyow
 nerid=104744
UID:cfp699023-D@wikicfp.com
END:VEVENT
BEGIN:VEVENT
DTSTAMP:20260419T143112Z
DTSTART;VALUE=DATE:20180613
DTEND;VALUE=DATE:20180616
SUMMARY:ICIBM 2018
DESCRIPTION:2018 5th International Conference on Innovations in Business 
 and Management (ICIBM 2018)
URL:http://www.wikicfp.com/cfp/servlet/event.showcfp?eventid=68573&copyow
 nerid=104744
UID:cfp699022-E@wikicfp.com
END:VEVENT
BEGIN:VEVENT
DTSTAMP:20260419T143112Z
DTSTART;VALUE=DATE:20180415
SUMMARY:ICIBM 2018 Deadline
DESCRIPTION:2018 5th International Conference on Innovations in Business 
 and Management (ICIBM 2018)
URL:http://www.wikicfp.com/cfp/servlet/event.showcfp?eventid=68573&copyow
 nerid=104744
UID:cfp699022-D@wikicfp.com
END:VEVENT
BEGIN:VEVENT
DTSTAMP:20260419T143112Z
DTSTART;VALUE=DATE:20180705
DTEND;VALUE=DATE:20180708
SUMMARY:ICOAE 2018
DESCRIPTION:International Conference on Applied Economics
URL:http://www.wikicfp.com/cfp/servlet/event.showcfp?eventid=72310&copyow
 nerid=104744
UID:cfp707554-E@wikicfp.com
END:VEVENT
BEGIN:VEVENT
DTSTAMP:20260419T143112Z
DTSTART;VALUE=DATE:20180418
SUMMARY:ICOAE 2018 Deadline
DESCRIPTION:International Conference on Applied Economics
URL:http://www.wikicfp.com/cfp/servlet/event.showcfp?eventid=72310&copyow
 nerid=104744
UID:cfp707554-D@wikicfp.com
END:VEVENT
BEGIN:VEVENT
DTSTAMP:20260419T143112Z
DTSTART;VALUE=DATE:20180504
SUMMARY:ICOAE 2018 Notification Due
DESCRIPTION:International Conference on Applied Economics
URL:http://www.wikicfp.com/cfp/servlet/event.showcfp?eventid=72310&copyow
 nerid=104744
UID:cfp707554-N@wikicfp.com
END:VEVENT
BEGIN:VEVENT
DTSTAMP:20260419T143112Z
DTSTART;VALUE=DATE:20180528
DTEND;VALUE=DATE:20180530
SUMMARY:Vth ICRST 2018
DESCRIPTION:ICRST (2018) Vth International Conference on Researches in Sc
 ience & Technology
URL:http://www.wikicfp.com/cfp/servlet/event.showcfp?eventid=65988&copyow
 nerid=104744
UID:cfp692881-E@wikicfp.com
END:VEVENT
BEGIN:VEVENT
DTSTAMP:20260419T143112Z
DTSTART;VALUE=DATE:20180526
SUMMARY:Vth ICRST 2018 Deadline
DESCRIPTION:ICRST (2018) Vth International Conference on Researches in Sc
 ience & Technology
URL:http://www.wikicfp.com/cfp/servlet/event.showcfp?eventid=65988&copyow
 nerid=104744
UID:cfp692881-D@wikicfp.com
END:VEVENT
BEGIN:VEVENT
DTSTAMP:20260419T143112Z
DTSTART;VALUE=DATE:20180526
SUMMARY:Vth ICRST 2018 Notification Due
DESCRIPTION:ICRST (2018) Vth International Conference on Researches in Sc
 ience & Technology
URL:http://www.wikicfp.com/cfp/servlet/event.showcfp?eventid=65988&copyow
 nerid=104744
UID:cfp692881-N@wikicfp.com
END:VEVENT
BEGIN:VEVENT
DTSTAMP:20260419T143112Z
DTSTART;VALUE=DATE:20180526
SUMMARY:Vth ICRST 2018 Final Version Due
DESCRIPTION:ICRST (2018) Vth International Conference on Researches in Sc
 ience & Technology
URL:http://www.wikicfp.com/cfp/servlet/event.showcfp?eventid=65988&copyow
 nerid=104744
UID:cfp692881-N@wikicfp.com
END:VEVENT
BEGIN:VEVENT
DTSTAMP:20260419T143112Z
DTSTART;VALUE=DATE:20180623
DTEND;VALUE=DATE:20180625
SUMMARY:ICEMI 2018 2018
DESCRIPTION:ãCPCI / Web of Scienceã2018 3rd International Conference 
 on Economics and Management Innovations
URL:http://www.wikicfp.com/cfp/servlet/event.showcfp?eventid=58610&copyow
 nerid=104744
UID:cfp699020-E@wikicfp.com
END:VEVENT
BEGIN:VEVENT
DTSTAMP:20260419T143112Z
DTSTART;VALUE=DATE:20180601
SUMMARY:ICEMI 2018 2018 Deadline
DESCRIPTION:ãCPCI / Web of Scienceã2018 3rd International Conference 
 on Economics and Management Innovations
URL:http://www.wikicfp.com/cfp/servlet/event.showcfp?eventid=58610&copyow
 nerid=104744
UID:cfp699020-D@wikicfp.com
END:VEVENT
BEGIN:VEVENT
DTSTAMP:20260419T143112Z
DTSTART;VALUE=DATE:20180605
SUMMARY:ICEMI 2018 2018 Notification Due
DESCRIPTION:ãCPCI / Web of Scienceã2018 3rd International Conference 
 on Economics and Management Innovations
URL:http://www.wikicfp.com/cfp/servlet/event.showcfp?eventid=58610&copyow
 nerid=104744
UID:cfp699020-N@wikicfp.com
END:VEVENT
BEGIN:VEVENT
DTSTAMP:20260419T143112Z
DTSTART;VALUE=DATE:20180610
SUMMARY:ICEMI 2018 2018 Final Version Due
DESCRIPTION:ãCPCI / Web of Scienceã2018 3rd International Conference 
 on Economics and Management Innovations
URL:http://www.wikicfp.com/cfp/servlet/event.showcfp?eventid=58610&copyow
 nerid=104744
UID:cfp699020-N@wikicfp.com
END:VEVENT
BEGIN:VEVENT
DTSTAMP:20260419T143112Z
DTSTART;VALUE=DATE:20180920
DTEND;VALUE=DATE:20180923
SUMMARY:ICFME 2018
DESCRIPTION:2018 8th International Conference on Financial Management and
  Economics (ICFME 2018)
URL:http://www.wikicfp.com/cfp/servlet/event.showcfp?eventid=69886&copyow
 nerid=104744
UID:cfp699021-E@wikicfp.com
END:VEVENT
BEGIN:VEVENT
DTSTAMP:20260419T143112Z
DTSTART;VALUE=DATE:20180725
SUMMARY:ICFME 2018 Deadline
DESCRIPTION:2018 8th International Conference on Financial Management and
  Economics (ICFME 2018)
URL:http://www.wikicfp.com/cfp/servlet/event.showcfp?eventid=69886&copyow
 nerid=104744
UID:cfp699021-D@wikicfp.com
END:VEVENT
BEGIN:VEVENT
DTSTAMP:20260419T143112Z
DTSTART;VALUE=DATE:20180928
DTEND;VALUE=DATE:20180930
SUMMARY:ICBELLP 2018
DESCRIPTION:2018 â IInd International Conference on Business\, Economic
 s\, Law\, Language & Psychology (ICBELLP)\, Sept 28-29\, Budapest
URL:http://www.wikicfp.com/cfp/servlet/event.showcfp?eventid=72587&copyow
 nerid=104744
UID:cfp709323-E@wikicfp.com
END:VEVENT
BEGIN:VEVENT
DTSTAMP:20260419T143112Z
DTSTART;VALUE=DATE:20180927
SUMMARY:ICBELLP 2018 Deadline
DESCRIPTION:2018 â IInd International Conference on Business\, Economic
 s\, Law\, Language & Psychology (ICBELLP)\, Sept 28-29\, Budapest
URL:http://www.wikicfp.com/cfp/servlet/event.showcfp?eventid=72587&copyow
 nerid=104744
UID:cfp709323-D@wikicfp.com
END:VEVENT
BEGIN:VEVENT
DTSTAMP:20260419T143112Z
DTSTART;VALUE=DATE:20180927
SUMMARY:ICBELLP 2018 Notification Due
DESCRIPTION:2018 â IInd International Conference on Business\, Economic
 s\, Law\, Language & Psychology (ICBELLP)\, Sept 28-29\, Budapest
URL:http://www.wikicfp.com/cfp/servlet/event.showcfp?eventid=72587&copyow
 nerid=104744
UID:cfp709323-N@wikicfp.com
END:VEVENT
BEGIN:VEVENT
DTSTAMP:20260419T143112Z
DTSTART;VALUE=DATE:20180927
SUMMARY:ICBELLP 2018 Final Version Due
DESCRIPTION:2018 â IInd International Conference on Business\, Economic
 s\, Law\, Language & Psychology (ICBELLP)\, Sept 28-29\, Budapest
URL:http://www.wikicfp.com/cfp/servlet/event.showcfp?eventid=72587&copyow
 nerid=104744
UID:cfp709323-N@wikicfp.com
END:VEVENT
BEGIN:VEVENT
DTSTAMP:20260419T143112Z
DTSTART;VALUE=DATE:20220430
SUMMARY:EJEMS - 2 2022 Deadline
DESCRIPTION:The European Journal of Economics and Management Sciences
URL:http://www.wikicfp.com/cfp/servlet/event.showcfp?eventid=43178&copyow
 nerid=104744
UID:cfp699018-D@wikicfp.com
END:VEVENT
BEGIN:VEVENT
DTSTAMP:20260419T143112Z
DTSTART;VALUE=DATE:20251030
SUMMARY:IJIBM 2025 Deadline
DESCRIPTION:International Journal of Information\, Business and Managemen
 t
URL:http://www.wikicfp.com/cfp/servlet/event.showcfp?eventid=60655&copyow
 nerid=104744
UID:cfp699019-D@wikicfp.com
END:VEVENT
END:VCALENDAR
