BEGIN:VCALENDAR
PRODID:-//WikiCFP//sunching 1.0//EN
VERSION:2.0
CALSCALE:GREGORIAN
BEGIN:VEVENT
DTSTAMP:20260420T190137Z
DTSTART;VALUE=DATE:20160905
DTEND;VALUE=DATE:20160910
SUMMARY:VLDB 2016
DESCRIPTION:42nd international conference on very large data  bases
URL:http://www.wikicfp.com/cfp/servlet/event.showcfp?eventid=48650&copyow
 nerid=103788
UID:cfp687572-E@wikicfp.com
END:VEVENT
BEGIN:VEVENT
DTSTAMP:20260420T190137Z
DTSTART;VALUE=DATE:20160301
SUMMARY:VLDB 2016 Deadline
DESCRIPTION:42nd international conference on very large data  bases
URL:http://www.wikicfp.com/cfp/servlet/event.showcfp?eventid=48650&copyow
 nerid=103788
UID:cfp687572-D@wikicfp.com
END:VEVENT
BEGIN:VEVENT
DTSTAMP:20260420T190137Z
DTSTART;VALUE=DATE:20180423
DTEND;VALUE=DATE:20180428
SUMMARY:WWW 2018
DESCRIPTION:World Wide Web (The Web Conference)
URL:http://www.wikicfp.com/cfp/servlet/event.showcfp?eventid=63231&copyow
 nerid=103788
UID:cfp691672-E@wikicfp.com
END:VEVENT
BEGIN:VEVENT
DTSTAMP:20260420T190137Z
DTSTART;VALUE=DATE:20171027
SUMMARY:WWW 2018 Abstract Due
DESCRIPTION:World Wide Web (The Web Conference)
URL:http://www.wikicfp.com/cfp/servlet/event.showcfp?eventid=63231&copyow
 nerid=103788
UID:cfp691672-A@wikicfp.com
END:VEVENT
BEGIN:VEVENT
DTSTAMP:20260420T190137Z
DTSTART;VALUE=DATE:20171031
SUMMARY:WWW 2018 Deadline
DESCRIPTION:World Wide Web (The Web Conference)
URL:http://www.wikicfp.com/cfp/servlet/event.showcfp?eventid=63231&copyow
 nerid=103788
UID:cfp691672-D@wikicfp.com
END:VEVENT
BEGIN:VEVENT
DTSTAMP:20260420T190137Z
DTSTART;VALUE=DATE:20171222
SUMMARY:WWW 2018 Notification Due
DESCRIPTION:World Wide Web (The Web Conference)
URL:http://www.wikicfp.com/cfp/servlet/event.showcfp?eventid=63231&copyow
 nerid=103788
UID:cfp691672-N@wikicfp.com
END:VEVENT
BEGIN:VEVENT
DTSTAMP:20260420T190137Z
DTSTART;VALUE=DATE:20180214
SUMMARY:WWW 2018 Final Version Due
DESCRIPTION:World Wide Web (The Web Conference)
URL:http://www.wikicfp.com/cfp/servlet/event.showcfp?eventid=63231&copyow
 nerid=103788
UID:cfp691672-N@wikicfp.com
END:VEVENT
BEGIN:VEVENT
DTSTAMP:20260420T190137Z
DTSTART;VALUE=DATE:20180603
DTEND;VALUE=DATE:20180609
SUMMARY:SIGMOD/PODS 2018
DESCRIPTION:2018 International Conference on Management of Data
URL:http://www.wikicfp.com/cfp/servlet/event.showcfp?eventid=63137&copyow
 nerid=103788
UID:cfp691671-E@wikicfp.com
END:VEVENT
BEGIN:VEVENT
DTSTAMP:20260420T190137Z
DTSTART;VALUE=DATE:20171026
SUMMARY:SIGMOD/PODS 2018 Abstract Due
DESCRIPTION:2018 International Conference on Management of Data
URL:http://www.wikicfp.com/cfp/servlet/event.showcfp?eventid=63137&copyow
 nerid=103788
UID:cfp691671-A@wikicfp.com
END:VEVENT
BEGIN:VEVENT
DTSTAMP:20260420T190137Z
DTSTART;VALUE=DATE:20171102
SUMMARY:SIGMOD/PODS 2018 Deadline
DESCRIPTION:2018 International Conference on Management of Data
URL:http://www.wikicfp.com/cfp/servlet/event.showcfp?eventid=63137&copyow
 nerid=103788
UID:cfp691671-D@wikicfp.com
END:VEVENT
BEGIN:VEVENT
DTSTAMP:20260420T190137Z
DTSTART;VALUE=DATE:20180708
DTEND;VALUE=DATE:20180713
SUMMARY:SIGIR 2018
DESCRIPTION:International ACM SIGIR Conference on Research and Developmen
 t in Information Retrieval
URL:http://www.wikicfp.com/cfp/servlet/event.showcfp?eventid=68545&copyow
 nerid=103788
UID:cfp691670-E@wikicfp.com
END:VEVENT
BEGIN:VEVENT
DTSTAMP:20260420T190137Z
DTSTART;VALUE=DATE:20180122
SUMMARY:SIGIR 2018 Abstract Due
DESCRIPTION:International ACM SIGIR Conference on Research and Developmen
 t in Information Retrieval
URL:http://www.wikicfp.com/cfp/servlet/event.showcfp?eventid=68545&copyow
 nerid=103788
UID:cfp691670-A@wikicfp.com
END:VEVENT
BEGIN:VEVENT
DTSTAMP:20260420T190137Z
DTSTART;VALUE=DATE:20180129
SUMMARY:SIGIR 2018 Deadline
DESCRIPTION:International ACM SIGIR Conference on Research and Developmen
 t in Information Retrieval
URL:http://www.wikicfp.com/cfp/servlet/event.showcfp?eventid=68545&copyow
 nerid=103788
UID:cfp691670-D@wikicfp.com
END:VEVENT
BEGIN:VEVENT
DTSTAMP:20260420T190137Z
DTSTART;VALUE=DATE:20180819
DTEND;VALUE=DATE:20180824
SUMMARY:KDD 2018
DESCRIPTION:Knowledge Discovery and Data Mining Conference
URL:http://www.wikicfp.com/cfp/servlet/event.showcfp?eventid=70266&copyow
 nerid=103788
UID:cfp702470-E@wikicfp.com
END:VEVENT
BEGIN:VEVENT
DTSTAMP:20260420T190137Z
DTSTART;VALUE=DATE:20180211
SUMMARY:KDD 2018 Deadline
DESCRIPTION:Knowledge Discovery and Data Mining Conference
URL:http://www.wikicfp.com/cfp/servlet/event.showcfp?eventid=70266&copyow
 nerid=103788
UID:cfp702470-D@wikicfp.com
END:VEVENT
BEGIN:VEVENT
DTSTAMP:20260420T190137Z
DTSTART;VALUE=DATE:20180506
SUMMARY:KDD 2018 Notification Due
DESCRIPTION:Knowledge Discovery and Data Mining Conference
URL:http://www.wikicfp.com/cfp/servlet/event.showcfp?eventid=70266&copyow
 nerid=103788
UID:cfp702470-N@wikicfp.com
END:VEVENT
BEGIN:VEVENT
DTSTAMP:20260420T190137Z
DTSTART;VALUE=DATE:20180525
SUMMARY:KDD 2018 Final Version Due
DESCRIPTION:Knowledge Discovery and Data Mining Conference
URL:http://www.wikicfp.com/cfp/servlet/event.showcfp?eventid=70266&copyow
 nerid=103788
UID:cfp702470-N@wikicfp.com
END:VEVENT
END:VCALENDAR
