BEGIN:VCALENDAR
PRODID:-//WikiCFP//IRES 1.0//EN
VERSION:2.0
CALSCALE:GREGORIAN
BEGIN:VEVENT
DTSTAMP:20260420T191755Z
DTSTART;VALUE=DATE:20180313
DTEND;VALUE=DATE:20180316
SUMMARY:IRES 2018
DESCRIPTION:12th Internationale Renewable Energy Storage Conference
URL:http://www.wikicfp.com/cfp/servlet/event.showcfp?eventid=68391&copyow
 nerid=103781
UID:cfp687509-E@wikicfp.com
END:VEVENT
BEGIN:VEVENT
DTSTAMP:20260420T191755Z
DTSTART;VALUE=DATE:20170930
SUMMARY:IRES 2018 Deadline
DESCRIPTION:12th Internationale Renewable Energy Storage Conference
URL:http://www.wikicfp.com/cfp/servlet/event.showcfp?eventid=68391&copyow
 nerid=103781
UID:cfp687509-D@wikicfp.com
END:VEVENT
BEGIN:VEVENT
DTSTAMP:20260420T191755Z
DTSTART;VALUE=DATE:20171101
SUMMARY:IRES 2018 Notification Due
DESCRIPTION:12th Internationale Renewable Energy Storage Conference
URL:http://www.wikicfp.com/cfp/servlet/event.showcfp?eventid=68391&copyow
 nerid=103781
UID:cfp687509-N@wikicfp.com
END:VEVENT
BEGIN:VEVENT
DTSTAMP:20260420T191755Z
DTSTART;VALUE=DATE:20180201
SUMMARY:IRES 2018 Final Version Due
DESCRIPTION:12th Internationale Renewable Energy Storage Conference
URL:http://www.wikicfp.com/cfp/servlet/event.showcfp?eventid=68391&copyow
 nerid=103781
UID:cfp687509-N@wikicfp.com
END:VEVENT
BEGIN:VEVENT
DTSTAMP:20260420T191755Z
DTSTART;VALUE=DATE:20200310
DTEND;VALUE=DATE:20200313
SUMMARY:IRES 2020
DESCRIPTION:14th International Renewable Energy Storage Conference
URL:http://www.wikicfp.com/cfp/servlet/event.showcfp?eventid=93678&copyow
 nerid=103781
UID:cfp803128-E@wikicfp.com
END:VEVENT
BEGIN:VEVENT
DTSTAMP:20260420T191755Z
DTSTART;VALUE=DATE:20201004
SUMMARY:IRES 2020 Deadline
DESCRIPTION:14th International Renewable Energy Storage Conference
URL:http://www.wikicfp.com/cfp/servlet/event.showcfp?eventid=93678&copyow
 nerid=103781
UID:cfp803128-D@wikicfp.com
END:VEVENT
BEGIN:VEVENT
DTSTAMP:20260420T191755Z
DTSTART;VALUE=DATE:20191125
SUMMARY:IRES 2020 Notification Due
DESCRIPTION:14th International Renewable Energy Storage Conference
URL:http://www.wikicfp.com/cfp/servlet/event.showcfp?eventid=93678&copyow
 nerid=103781
UID:cfp803128-N@wikicfp.com
END:VEVENT
BEGIN:VEVENT
DTSTAMP:20260420T191755Z
DTSTART;VALUE=DATE:20200310
SUMMARY:IRES 2020 Final Version Due
DESCRIPTION:14th International Renewable Energy Storage Conference
URL:http://www.wikicfp.com/cfp/servlet/event.showcfp?eventid=93678&copyow
 nerid=103781
UID:cfp803128-N@wikicfp.com
END:VEVENT
END:VCALENDAR
