BEGIN:VCALENDAR
PRODID:-//WikiCFP//narendra_vg 1.0//EN
VERSION:2.0
CALSCALE:GREGORIAN
BEGIN:VEVENT
DTSTAMP:20260422T052518Z
DTSTART;VALUE=DATE:20180917
DTEND;VALUE=DATE:20180920
SUMMARY:ICCVG 2018
DESCRIPTION:International Conference on Computer Vision and Graphics
URL:http://www.wikicfp.com/cfp/servlet/event.showcfp?eventid=58423&copyow
 nerid=103651
UID:cfp686854-E@wikicfp.com
END:VEVENT
BEGIN:VEVENT
DTSTAMP:20260422T052518Z
DTSTART;VALUE=DATE:20180226
SUMMARY:ICCVG 2018 Deadline
DESCRIPTION:International Conference on Computer Vision and Graphics
URL:http://www.wikicfp.com/cfp/servlet/event.showcfp?eventid=58423&copyow
 nerid=103651
UID:cfp686854-D@wikicfp.com
END:VEVENT
BEGIN:VEVENT
DTSTAMP:20260422T052518Z
DTSTART;VALUE=DATE:20180409
SUMMARY:ICCVG 2018 Notification Due
DESCRIPTION:International Conference on Computer Vision and Graphics
URL:http://www.wikicfp.com/cfp/servlet/event.showcfp?eventid=58423&copyow
 nerid=103651
UID:cfp686854-N@wikicfp.com
END:VEVENT
BEGIN:VEVENT
DTSTAMP:20260422T052518Z
DTSTART;VALUE=DATE:20180430
SUMMARY:ICCVG 2018 Final Version Due
DESCRIPTION:International Conference on Computer Vision and Graphics
URL:http://www.wikicfp.com/cfp/servlet/event.showcfp?eventid=58423&copyow
 nerid=103651
UID:cfp686854-N@wikicfp.com
END:VEVENT
END:VCALENDAR
