BEGIN:VCALENDAR
PRODID:-//WikiCFP//RobMacCurdy 1.0//EN
VERSION:2.0
CALSCALE:GREGORIAN
BEGIN:VEVENT
DTSTAMP:20260421T113724Z
DTSTART;VALUE=DATE:20141114
DTEND;VALUE=DATE:20141121
SUMMARY:IMECE 2014
DESCRIPTION:ASME International Mechanical Engineering Congress and Exposi
 tion
URL:http://www.wikicfp.com/cfp/servlet/event.showcfp?eventid=35753&copyow
 nerid=10323
UID:cfp426532-E@wikicfp.com
END:VEVENT
BEGIN:VEVENT
DTSTAMP:20260421T113724Z
DTSTART;VALUE=DATE:20140217
SUMMARY:IMECE 2014 Deadline
DESCRIPTION:ASME International Mechanical Engineering Congress and Exposi
 tion
URL:http://www.wikicfp.com/cfp/servlet/event.showcfp?eventid=35753&copyow
 nerid=10323
UID:cfp426532-D@wikicfp.com
END:VEVENT
BEGIN:VEVENT
DTSTAMP:20260421T113724Z
DTSTART;VALUE=DATE:20140728
SUMMARY:IMECE 2014 Final Version Due
DESCRIPTION:ASME International Mechanical Engineering Congress and Exposi
 tion
URL:http://www.wikicfp.com/cfp/servlet/event.showcfp?eventid=35753&copyow
 nerid=10323
UID:cfp426532-N@wikicfp.com
END:VEVENT
BEGIN:VEVENT
DTSTAMP:20260421T113724Z
DTSTART;VALUE=DATE:20141219
DTEND;VALUE=DATE:20141222
SUMMARY:MSN 2014
DESCRIPTION:The IEEE 10th International Conference on Mobile Ad-hoc and S
 ensor Networks
URL:http://www.wikicfp.com/cfp/servlet/event.showcfp?eventid=36864&copyow
 nerid=10323
UID:cfp462349-E@wikicfp.com
END:VEVENT
BEGIN:VEVENT
DTSTAMP:20260421T113724Z
DTSTART;VALUE=DATE:20140908
SUMMARY:MSN 2014 Deadline
DESCRIPTION:The IEEE 10th International Conference on Mobile Ad-hoc and S
 ensor Networks
URL:http://www.wikicfp.com/cfp/servlet/event.showcfp?eventid=36864&copyow
 nerid=10323
UID:cfp462349-D@wikicfp.com
END:VEVENT
BEGIN:VEVENT
DTSTAMP:20260421T113724Z
DTSTART;VALUE=DATE:20141013
SUMMARY:MSN 2014 Notification Due
DESCRIPTION:The IEEE 10th International Conference on Mobile Ad-hoc and S
 ensor Networks
URL:http://www.wikicfp.com/cfp/servlet/event.showcfp?eventid=36864&copyow
 nerid=10323
UID:cfp462349-N@wikicfp.com
END:VEVENT
BEGIN:VEVENT
DTSTAMP:20260421T113724Z
DTSTART;VALUE=DATE:20141027
SUMMARY:MSN 2014 Final Version Due
DESCRIPTION:The IEEE 10th International Conference on Mobile Ad-hoc and S
 ensor Networks
URL:http://www.wikicfp.com/cfp/servlet/event.showcfp?eventid=36864&copyow
 nerid=10323
UID:cfp462349-N@wikicfp.com
END:VEVENT
BEGIN:VEVENT
DTSTAMP:20260421T113724Z
DTSTART;VALUE=DATE:20150211
DTEND;VALUE=DATE:20150214
SUMMARY:SENSORNETS 2015
DESCRIPTION:4th International Conference on Sensor Networks
URL:http://www.wikicfp.com/cfp/servlet/event.showcfp?eventid=37530&copyow
 nerid=10323
UID:cfp462346-E@wikicfp.com
END:VEVENT
BEGIN:VEVENT
DTSTAMP:20260421T113724Z
DTSTART;VALUE=DATE:20140909
SUMMARY:SENSORNETS 2015 Deadline
DESCRIPTION:4th International Conference on Sensor Networks
URL:http://www.wikicfp.com/cfp/servlet/event.showcfp?eventid=37530&copyow
 nerid=10323
UID:cfp462346-D@wikicfp.com
END:VEVENT
BEGIN:VEVENT
DTSTAMP:20260421T113724Z
DTSTART;VALUE=DATE:20141130
SUMMARY:WSN-IOT 2014 Abstract Due
DESCRIPTION:Wireless Sensor Networks and the Internet of Things
URL:http://www.wikicfp.com/cfp/servlet/event.showcfp?eventid=37116&copyow
 nerid=10323
UID:cfp462350-A@wikicfp.com
END:VEVENT
BEGIN:VEVENT
DTSTAMP:20260421T113724Z
DTSTART;VALUE=DATE:20141230
SUMMARY:WSN-IOT 2014 Deadline
DESCRIPTION:Wireless Sensor Networks and the Internet of Things
URL:http://www.wikicfp.com/cfp/servlet/event.showcfp?eventid=37116&copyow
 nerid=10323
UID:cfp462350-D@wikicfp.com
END:VEVENT
BEGIN:VEVENT
DTSTAMP:20260421T113724Z
DTSTART;VALUE=DATE:20141001
SUMMARY:WSN-IOT 2014 Notification Due
DESCRIPTION:Wireless Sensor Networks and the Internet of Things
URL:http://www.wikicfp.com/cfp/servlet/event.showcfp?eventid=37116&copyow
 nerid=10323
UID:cfp462350-N@wikicfp.com
END:VEVENT
BEGIN:VEVENT
DTSTAMP:20260421T113724Z
DTSTART;VALUE=DATE:20141130
SUMMARY:WSN-IOT 2014 Final Version Due
DESCRIPTION:Wireless Sensor Networks and the Internet of Things
URL:http://www.wikicfp.com/cfp/servlet/event.showcfp?eventid=37116&copyow
 nerid=10323
UID:cfp462350-N@wikicfp.com
END:VEVENT
BEGIN:VEVENT
DTSTAMP:20260421T113724Z
DTSTART;VALUE=DATE:20150209
DTEND;VALUE=DATE:20150212
SUMMARY:EWSN 2015
DESCRIPTION:12th European Conference on Wireless Sensor Networks
URL:http://www.wikicfp.com/cfp/servlet/event.showcfp?eventid=39198&copyow
 nerid=10323
UID:cfp462347-E@wikicfp.com
END:VEVENT
BEGIN:VEVENT
DTSTAMP:20260421T113724Z
DTSTART;VALUE=DATE:20150908
SUMMARY:EWSN 2015 Abstract Due
DESCRIPTION:12th European Conference on Wireless Sensor Networks
URL:http://www.wikicfp.com/cfp/servlet/event.showcfp?eventid=39198&copyow
 nerid=10323
UID:cfp462347-A@wikicfp.com
END:VEVENT
BEGIN:VEVENT
DTSTAMP:20260421T113724Z
DTSTART;VALUE=DATE:20150915
SUMMARY:EWSN 2015 Deadline
DESCRIPTION:12th European Conference on Wireless Sensor Networks
URL:http://www.wikicfp.com/cfp/servlet/event.showcfp?eventid=39198&copyow
 nerid=10323
UID:cfp462347-D@wikicfp.com
END:VEVENT
BEGIN:VEVENT
DTSTAMP:20260421T113724Z
DTSTART;VALUE=DATE:20151116
SUMMARY:EWSN 2015 Notification Due
DESCRIPTION:12th European Conference on Wireless Sensor Networks
URL:http://www.wikicfp.com/cfp/servlet/event.showcfp?eventid=39198&copyow
 nerid=10323
UID:cfp462347-N@wikicfp.com
END:VEVENT
BEGIN:VEVENT
DTSTAMP:20260421T113724Z
DTSTART;VALUE=DATE:20151207
SUMMARY:EWSN 2015 Final Version Due
DESCRIPTION:12th European Conference on Wireless Sensor Networks
URL:http://www.wikicfp.com/cfp/servlet/event.showcfp?eventid=39198&copyow
 nerid=10323
UID:cfp462347-N@wikicfp.com
END:VEVENT
BEGIN:VEVENT
DTSTAMP:20260421T113724Z
DTSTART;VALUE=DATE:20180617
DTEND;VALUE=DATE:20180620
SUMMARY:SCF 2018
DESCRIPTION:ACM Symposium on Computational Fabrication (SCF'18)
URL:http://www.wikicfp.com/cfp/servlet/event.showcfp?eventid=73558&copyow
 nerid=10323
UID:cfp713938-E@wikicfp.com
END:VEVENT
BEGIN:VEVENT
DTSTAMP:20260421T113724Z
DTSTART;VALUE=DATE:20180405
SUMMARY:SCF 2018 Deadline
DESCRIPTION:ACM Symposium on Computational Fabrication (SCF'18)
URL:http://www.wikicfp.com/cfp/servlet/event.showcfp?eventid=73558&copyow
 nerid=10323
UID:cfp713938-D@wikicfp.com
END:VEVENT
END:VCALENDAR
