BEGIN:VCALENDAR
PRODID:-//WikiCFP//smunson 1.0//EN
VERSION:2.0
CALSCALE:GREGORIAN
BEGIN:VEVENT
DTSTAMP:20260424T111834Z
DTSTART;VALUE=DATE:20180517
DTEND;VALUE=DATE:20180521
SUMMARY:ICWSM 2018
DESCRIPTION:12th International AAAI Conference on Web and Social Media
URL:http://www.wikicfp.com/cfp/servlet/event.showcfp?eventid=64659&copyow
 nerid=102903
UID:cfp683064-E@wikicfp.com
END:VEVENT
END:VCALENDAR
