BEGIN:VCALENDAR
PRODID:-//WikiCFP//ngphuoc 1.0//EN
VERSION:2.0
CALSCALE:GREGORIAN
BEGIN:VEVENT
DTSTAMP:20260421T222234Z
DTSTART;VALUE=DATE:20181203
DTEND;VALUE=DATE:20181209
SUMMARY:NIPS 2018
DESCRIPTION:The Thirty-second Annual Conference on Neural Information Pro
 cessing Systems
URL:http://www.wikicfp.com/cfp/servlet/event.showcfp?eventid=67106&copyow
 nerid=102579
UID:cfp681354-E@wikicfp.com
END:VEVENT
BEGIN:VEVENT
DTSTAMP:20260421T222234Z
DTSTART;VALUE=DATE:20170813
DTEND;VALUE=DATE:20170818
SUMMARY:KDD 2017
DESCRIPTION:Knowledge Discovery and Data Mining
URL:http://www.wikicfp.com/cfp/servlet/event.showcfp?eventid=58292&copyow
 nerid=102579
UID:cfp681353-E@wikicfp.com
END:VEVENT
BEGIN:VEVENT
DTSTAMP:20260421T222234Z
DTSTART;VALUE=DATE:20161209
SUMMARY:KDD 2017 Deadline
DESCRIPTION:Knowledge Discovery and Data Mining
URL:http://www.wikicfp.com/cfp/servlet/event.showcfp?eventid=58292&copyow
 nerid=102579
UID:cfp681353-D@wikicfp.com
END:VEVENT
BEGIN:VEVENT
DTSTAMP:20260421T222234Z
DTSTART;VALUE=DATE:20161231
SUMMARY:KDD 2017 Notification Due
DESCRIPTION:Knowledge Discovery and Data Mining
URL:http://www.wikicfp.com/cfp/servlet/event.showcfp?eventid=58292&copyow
 nerid=102579
UID:cfp681353-N@wikicfp.com
END:VEVENT
BEGIN:VEVENT
DTSTAMP:20260421T222234Z
DTSTART;VALUE=DATE:20180503
DTEND;VALUE=DATE:20180506
SUMMARY:SDM 2018
DESCRIPTION:SIAM International Conference on Data Mining
URL:http://www.wikicfp.com/cfp/servlet/event.showcfp?eventid=66880&copyow
 nerid=102579
UID:cfp681356-E@wikicfp.com
END:VEVENT
BEGIN:VEVENT
DTSTAMP:20260421T222234Z
DTSTART;VALUE=DATE:20171006
SUMMARY:SDM 2018 Abstract Due
DESCRIPTION:SIAM International Conference on Data Mining
URL:http://www.wikicfp.com/cfp/servlet/event.showcfp?eventid=66880&copyow
 nerid=102579
UID:cfp681356-A@wikicfp.com
END:VEVENT
BEGIN:VEVENT
DTSTAMP:20260421T222234Z
DTSTART;VALUE=DATE:20171013
SUMMARY:SDM 2018 Deadline
DESCRIPTION:SIAM International Conference on Data Mining
URL:http://www.wikicfp.com/cfp/servlet/event.showcfp?eventid=66880&copyow
 nerid=102579
UID:cfp681356-D@wikicfp.com
END:VEVENT
BEGIN:VEVENT
DTSTAMP:20260421T222234Z
DTSTART;VALUE=DATE:20171219
SUMMARY:SDM 2018 Notification Due
DESCRIPTION:SIAM International Conference on Data Mining
URL:http://www.wikicfp.com/cfp/servlet/event.showcfp?eventid=66880&copyow
 nerid=102579
UID:cfp681356-N@wikicfp.com
END:VEVENT
BEGIN:VEVENT
DTSTAMP:20260421T222234Z
DTSTART;VALUE=DATE:20180124
SUMMARY:SDM 2018 Final Version Due
DESCRIPTION:SIAM International Conference on Data Mining
URL:http://www.wikicfp.com/cfp/servlet/event.showcfp?eventid=66880&copyow
 nerid=102579
UID:cfp681356-N@wikicfp.com
END:VEVENT
END:VCALENDAR
