BEGIN:VCALENDAR
PRODID:-//WikiCFP//lenij 1.0//EN
VERSION:2.0
CALSCALE:GREGORIAN
BEGIN:VEVENT
DTSTAMP:20260419T154735Z
DTSTART;VALUE=DATE:20180127
DTEND;VALUE=DATE:20180131
SUMMARY:AMLD 2018
DESCRIPTION:Applied Machine Learning Days
URL:http://www.wikicfp.com/cfp/servlet/event.showcfp?eventid=70715&copyow
 nerid=102262
UID:cfp735215-E@wikicfp.com
END:VEVENT
BEGIN:VEVENT
DTSTAMP:20260419T154735Z
DTSTART;VALUE=DATE:20171128
SUMMARY:AMLD 2018 Deadline
DESCRIPTION:Applied Machine Learning Days
URL:http://www.wikicfp.com/cfp/servlet/event.showcfp?eventid=70715&copyow
 nerid=102262
UID:cfp735215-D@wikicfp.com
END:VEVENT
BEGIN:VEVENT
DTSTAMP:20260419T154735Z
DTSTART;VALUE=DATE:20171201
SUMMARY:AMLD 2018 Notification Due
DESCRIPTION:Applied Machine Learning Days
URL:http://www.wikicfp.com/cfp/servlet/event.showcfp?eventid=70715&copyow
 nerid=102262
UID:cfp735215-N@wikicfp.com
END:VEVENT
BEGIN:VEVENT
DTSTAMP:20260419T154735Z
DTSTART;VALUE=DATE:20180127
SUMMARY:AMLD 2018 Final Version Due
DESCRIPTION:Applied Machine Learning Days
URL:http://www.wikicfp.com/cfp/servlet/event.showcfp?eventid=70715&copyow
 nerid=102262
UID:cfp735215-N@wikicfp.com
END:VEVENT
BEGIN:VEVENT
DTSTAMP:20260419T154735Z
DTSTART;VALUE=DATE:20180202
DTEND;VALUE=DATE:20180205
SUMMARY:ACM - ICMLSC - Ei 2018
DESCRIPTION:ACM--2018 the 2nd International Conference on Machine Learnin
 g and Soft Computing (ICMLSC 2018)--Ei Compendex & Scopus
URL:http://www.wikicfp.com/cfp/servlet/event.showcfp?eventid=65247&copyow
 nerid=102262
UID:cfp679830-E@wikicfp.com
END:VEVENT
BEGIN:VEVENT
DTSTAMP:20260419T154735Z
DTSTART;VALUE=DATE:20171215
SUMMARY:ACM - ICMLSC - Ei 2018 Deadline
DESCRIPTION:ACM--2018 the 2nd International Conference on Machine Learnin
 g and Soft Computing (ICMLSC 2018)--Ei Compendex & Scopus
URL:http://www.wikicfp.com/cfp/servlet/event.showcfp?eventid=65247&copyow
 nerid=102262
UID:cfp679830-D@wikicfp.com
END:VEVENT
BEGIN:VEVENT
DTSTAMP:20260419T154735Z
DTSTART;VALUE=DATE:20180226
DTEND;VALUE=DATE:20180301
SUMMARY:ACM - ICMLC 2018
DESCRIPTION:2018 10th International Conference on Machine Learning and Co
 mputing (ICMLC 2018)--ACM\, Ei Compendex and Scopus
URL:http://www.wikicfp.com/cfp/servlet/event.showcfp?eventid=65187&copyow
 nerid=102262
UID:cfp679832-E@wikicfp.com
END:VEVENT
BEGIN:VEVENT
DTSTAMP:20260419T154735Z
DTSTART;VALUE=DATE:20171220
SUMMARY:ACM - ICMLC 2018 Deadline
DESCRIPTION:2018 10th International Conference on Machine Learning and Co
 mputing (ICMLC 2018)--ACM\, Ei Compendex and Scopus
URL:http://www.wikicfp.com/cfp/servlet/event.showcfp?eventid=65187&copyow
 nerid=102262
UID:cfp679832-D@wikicfp.com
END:VEVENT
BEGIN:VEVENT
DTSTAMP:20260419T154735Z
DTSTART;VALUE=DATE:20180714
DTEND;VALUE=DATE:20180716
SUMMARY:ALA 2018
DESCRIPTION:Adaptive and Learning Agents Workshop @ Federated AI Meeting 
 2018
URL:http://www.wikicfp.com/cfp/servlet/event.showcfp?eventid=73796&copyow
 nerid=102262
UID:cfp735139-E@wikicfp.com
END:VEVENT
BEGIN:VEVENT
DTSTAMP:20260419T154735Z
DTSTART;VALUE=DATE:20180513
SUMMARY:ALA 2018 Deadline
DESCRIPTION:Adaptive and Learning Agents Workshop @ Federated AI Meeting 
 2018
URL:http://www.wikicfp.com/cfp/servlet/event.showcfp?eventid=73796&copyow
 nerid=102262
UID:cfp735139-D@wikicfp.com
END:VEVENT
BEGIN:VEVENT
DTSTAMP:20260419T154735Z
DTSTART;VALUE=DATE:20180529
SUMMARY:ALA 2018 Notification Due
DESCRIPTION:Adaptive and Learning Agents Workshop @ Federated AI Meeting 
 2018
URL:http://www.wikicfp.com/cfp/servlet/event.showcfp?eventid=73796&copyow
 nerid=102262
UID:cfp735139-N@wikicfp.com
END:VEVENT
BEGIN:VEVENT
DTSTAMP:20260419T154735Z
DTSTART;VALUE=DATE:20180602
SUMMARY:ALA 2018 Final Version Due
DESCRIPTION:Adaptive and Learning Agents Workshop @ Federated AI Meeting 
 2018
URL:http://www.wikicfp.com/cfp/servlet/event.showcfp?eventid=73796&copyow
 nerid=102262
UID:cfp735139-N@wikicfp.com
END:VEVENT
BEGIN:VEVENT
DTSTAMP:20260419T154735Z
DTSTART;VALUE=DATE:20190424
DTEND;VALUE=DATE:20190425
SUMMARY:EuroGP 2019
DESCRIPTION:THE 22nd EUROPEAN CONFERENCE ON GENETIC PROGRAMMING
URL:http://www.wikicfp.com/cfp/servlet/event.showcfp?eventid=78244&copyow
 nerid=102262
UID:cfp735151-E@wikicfp.com
END:VEVENT
BEGIN:VEVENT
DTSTAMP:20260419T154735Z
DTSTART;VALUE=DATE:20181101
SUMMARY:EuroGP 2019 Deadline
DESCRIPTION:THE 22nd EUROPEAN CONFERENCE ON GENETIC PROGRAMMING
URL:http://www.wikicfp.com/cfp/servlet/event.showcfp?eventid=78244&copyow
 nerid=102262
UID:cfp735151-D@wikicfp.com
END:VEVENT
BEGIN:VEVENT
DTSTAMP:20260419T154735Z
DTSTART;VALUE=DATE:20190103
SUMMARY:EuroGP 2019 Notification Due
DESCRIPTION:THE 22nd EUROPEAN CONFERENCE ON GENETIC PROGRAMMING
URL:http://www.wikicfp.com/cfp/servlet/event.showcfp?eventid=78244&copyow
 nerid=102262
UID:cfp735151-N@wikicfp.com
END:VEVENT
BEGIN:VEVENT
DTSTAMP:20260419T154735Z
DTSTART;VALUE=DATE:20190115
SUMMARY:EuroGP 2019 Final Version Due
DESCRIPTION:THE 22nd EUROPEAN CONFERENCE ON GENETIC PROGRAMMING
URL:http://www.wikicfp.com/cfp/servlet/event.showcfp?eventid=78244&copyow
 nerid=102262
UID:cfp735151-N@wikicfp.com
END:VEVENT
BEGIN:VEVENT
DTSTAMP:20260419T154735Z
DTSTART;VALUE=DATE:20181222
DTEND;VALUE=DATE:20181224
SUMMARY:ICCSEA 2018
DESCRIPTION:Call for Participation - 8th International Conference On Comp
 uter Science\, Engineering And Applications
URL:http://www.wikicfp.com/cfp/servlet/event.showcfp?eventid=78067&copyow
 nerid=102262
UID:cfp740069-E@wikicfp.com
END:VEVENT
BEGIN:VEVENT
DTSTAMP:20260419T154735Z
DTSTART;VALUE=DATE:20181124
SUMMARY:ICCSEA 2018 Deadline
DESCRIPTION:Call for Participation - 8th International Conference On Comp
 uter Science\, Engineering And Applications
URL:http://www.wikicfp.com/cfp/servlet/event.showcfp?eventid=78067&copyow
 nerid=102262
UID:cfp740069-D@wikicfp.com
END:VEVENT
BEGIN:VEVENT
DTSTAMP:20260419T154735Z
DTSTART;VALUE=DATE:20181211
SUMMARY:ICCSEA 2018 Notification Due
DESCRIPTION:Call for Participation - 8th International Conference On Comp
 uter Science\, Engineering And Applications
URL:http://www.wikicfp.com/cfp/servlet/event.showcfp?eventid=78067&copyow
 nerid=102262
UID:cfp740069-N@wikicfp.com
END:VEVENT
BEGIN:VEVENT
DTSTAMP:20260419T154735Z
DTSTART;VALUE=DATE:20181215
SUMMARY:ICCSEA 2018 Final Version Due
DESCRIPTION:Call for Participation - 8th International Conference On Comp
 uter Science\, Engineering And Applications
URL:http://www.wikicfp.com/cfp/servlet/event.showcfp?eventid=78067&copyow
 nerid=102262
UID:cfp740069-N@wikicfp.com
END:VEVENT
BEGIN:VEVENT
DTSTAMP:20260419T154735Z
DTSTART;VALUE=DATE:20190810
DTEND;VALUE=DATE:20190817
SUMMARY:IJCAI 2019
DESCRIPTION:International Joint Conference on Artificial Intelligence
URL:http://www.wikicfp.com/cfp/servlet/event.showcfp?eventid=79608&copyow
 nerid=102262
UID:cfp740067-E@wikicfp.com
END:VEVENT
BEGIN:VEVENT
DTSTAMP:20260419T154735Z
DTSTART;VALUE=DATE:20190225
SUMMARY:IJCAI 2019 Deadline
DESCRIPTION:International Joint Conference on Artificial Intelligence
URL:http://www.wikicfp.com/cfp/servlet/event.showcfp?eventid=79608&copyow
 nerid=102262
UID:cfp740067-D@wikicfp.com
END:VEVENT
BEGIN:VEVENT
DTSTAMP:20260419T154735Z
DTSTART;VALUE=DATE:20190509
SUMMARY:IJCAI 2019 Notification Due
DESCRIPTION:International Joint Conference on Artificial Intelligence
URL:http://www.wikicfp.com/cfp/servlet/event.showcfp?eventid=79608&copyow
 nerid=102262
UID:cfp740067-N@wikicfp.com
END:VEVENT
BEGIN:VEVENT
DTSTAMP:20260419T154735Z
DTSTART;VALUE=DATE:20191206
DTEND;VALUE=DATE:20191210
SUMMARY:SSCI 2019
DESCRIPTION:The 2019 IEEE Symposium Series on Computational Intelligence
URL:http://www.wikicfp.com/cfp/servlet/event.showcfp?eventid=73721&copyow
 nerid=102262
UID:cfp735138-E@wikicfp.com
END:VEVENT
BEGIN:VEVENT
DTSTAMP:20260419T154735Z
DTSTART;VALUE=DATE:20190801
SUMMARY:SSCI 2019 Deadline
DESCRIPTION:The 2019 IEEE Symposium Series on Computational Intelligence
URL:http://www.wikicfp.com/cfp/servlet/event.showcfp?eventid=73721&copyow
 nerid=102262
UID:cfp735138-D@wikicfp.com
END:VEVENT
BEGIN:VEVENT
DTSTAMP:20260419T154735Z
DTSTART;VALUE=DATE:20190901
SUMMARY:SSCI 2019 Notification Due
DESCRIPTION:The 2019 IEEE Symposium Series on Computational Intelligence
URL:http://www.wikicfp.com/cfp/servlet/event.showcfp?eventid=73721&copyow
 nerid=102262
UID:cfp735138-N@wikicfp.com
END:VEVENT
BEGIN:VEVENT
DTSTAMP:20260419T154735Z
DTSTART;VALUE=DATE:20191001
SUMMARY:SSCI 2019 Final Version Due
DESCRIPTION:The 2019 IEEE Symposium Series on Computational Intelligence
URL:http://www.wikicfp.com/cfp/servlet/event.showcfp?eventid=73721&copyow
 nerid=102262
UID:cfp735138-N@wikicfp.com
END:VEVENT
BEGIN:VEVENT
DTSTAMP:20260419T154735Z
DTSTART;VALUE=DATE:20260518
SUMMARY:IJCI 2026 Deadline
DESCRIPTION:International Journal on Cybernetics & Informatics
URL:http://www.wikicfp.com/cfp/servlet/event.showcfp?eventid=68181&copyow
 nerid=102262
UID:cfp735145-D@wikicfp.com
END:VEVENT
BEGIN:VEVENT
DTSTAMP:20260419T154735Z
DTSTART;VALUE=DATE:20260618
SUMMARY:IJCI 2026 Notification Due
DESCRIPTION:International Journal on Cybernetics & Informatics
URL:http://www.wikicfp.com/cfp/servlet/event.showcfp?eventid=68181&copyow
 nerid=102262
UID:cfp735145-N@wikicfp.com
END:VEVENT
BEGIN:VEVENT
DTSTAMP:20260419T154735Z
DTSTART;VALUE=DATE:20260625
SUMMARY:IJCI 2026 Final Version Due
DESCRIPTION:International Journal on Cybernetics & Informatics
URL:http://www.wikicfp.com/cfp/servlet/event.showcfp?eventid=68181&copyow
 nerid=102262
UID:cfp735145-N@wikicfp.com
END:VEVENT
END:VCALENDAR
