BEGIN:VCALENDAR
PRODID:-//WikiCFP//aetic 1.0//EN
VERSION:2.0
CALSCALE:GREGORIAN
BEGIN:VEVENT
DTSTAMP:20260421T055759Z
DTSTART;VALUE=DATE:20200819
DTEND;VALUE=DATE:20200821
SUMMARY:iCETiC 2020
DESCRIPTION:3rd International Conference on Emerging Technologies in Comp
 uting 2020
URL:http://www.wikicfp.com/cfp/servlet/event.showcfp?eventid=96267&copyow
 nerid=102048
UID:cfp831423-E@wikicfp.com
END:VEVENT
BEGIN:VEVENT
DTSTAMP:20260421T055759Z
DTSTART;VALUE=DATE:20200416
SUMMARY:iCETiC 2020 Deadline
DESCRIPTION:3rd International Conference on Emerging Technologies in Comp
 uting 2020
URL:http://www.wikicfp.com/cfp/servlet/event.showcfp?eventid=96267&copyow
 nerid=102048
UID:cfp831423-D@wikicfp.com
END:VEVENT
BEGIN:VEVENT
DTSTAMP:20260421T055759Z
DTSTART;VALUE=DATE:20200515
SUMMARY:iCETiC 2020 Final Version Due
DESCRIPTION:3rd International Conference on Emerging Technologies in Comp
 uting 2020
URL:http://www.wikicfp.com/cfp/servlet/event.showcfp?eventid=96267&copyow
 nerid=102048
UID:cfp831423-N@wikicfp.com
END:VEVENT
END:VCALENDAR
