BEGIN:VCALENDAR
PRODID:-//WikiCFP//ignaciorodriguez1 1.0//EN
VERSION:2.0
CALSCALE:GREGORIAN
BEGIN:VEVENT
DTSTAMP:20260422T234524Z
DTSTART;VALUE=DATE:20171017
DTEND;VALUE=DATE:20171019
SUMMARY:.IML 2017
DESCRIPTION:.International Conference on Internet of Things and Machine L
 earning
URL:http://www.wikicfp.com/cfp/servlet/event.showcfp?eventid=62730&copyow
 nerid=101987
UID:cfp678647-E@wikicfp.com
END:VEVENT
BEGIN:VEVENT
DTSTAMP:20260422T234524Z
DTSTART;VALUE=DATE:20170801
SUMMARY:.IML 2017 Deadline
DESCRIPTION:.International Conference on Internet of Things and Machine L
 earning
URL:http://www.wikicfp.com/cfp/servlet/event.showcfp?eventid=62730&copyow
 nerid=101987
UID:cfp678647-D@wikicfp.com
END:VEVENT
BEGIN:VEVENT
DTSTAMP:20260422T234524Z
DTSTART;VALUE=DATE:20170815
SUMMARY:.IML 2017 Notification Due
DESCRIPTION:.International Conference on Internet of Things and Machine L
 earning
URL:http://www.wikicfp.com/cfp/servlet/event.showcfp?eventid=62730&copyow
 nerid=101987
UID:cfp678647-N@wikicfp.com
END:VEVENT
BEGIN:VEVENT
DTSTAMP:20260422T234524Z
DTSTART;VALUE=DATE:20170917
DTEND;VALUE=DATE:20170920
SUMMARY:ICCBDC - ACM 2017
DESCRIPTION:International Conference on Cloud and Big Data Computing (ICC
 BDC 2017)--Ei Compendex and Scopus
URL:http://www.wikicfp.com/cfp/servlet/event.showcfp?eventid=60338&copyow
 nerid=101987
UID:cfp678646-E@wikicfp.com
END:VEVENT
BEGIN:VEVENT
DTSTAMP:20260422T234524Z
DTSTART;VALUE=DATE:20170805
SUMMARY:ICCBDC - ACM 2017 Deadline
DESCRIPTION:International Conference on Cloud and Big Data Computing (ICC
 BDC 2017)--Ei Compendex and Scopus
URL:http://www.wikicfp.com/cfp/servlet/event.showcfp?eventid=60338&copyow
 nerid=101987
UID:cfp678646-D@wikicfp.com
END:VEVENT
BEGIN:VEVENT
DTSTAMP:20260422T234524Z
DTSTART;VALUE=DATE:20170917
DTEND;VALUE=DATE:20170920
SUMMARY:ICIIP 2017
DESCRIPTION:6th International Conference on Intelligent Information Proce
 ssing(ICIIP 2017)
URL:http://www.wikicfp.com/cfp/servlet/event.showcfp?eventid=60339&copyow
 nerid=101987
UID:cfp678645-E@wikicfp.com
END:VEVENT
BEGIN:VEVENT
DTSTAMP:20260422T234524Z
DTSTART;VALUE=DATE:20170805
SUMMARY:ICIIP 2017 Deadline
DESCRIPTION:6th International Conference on Intelligent Information Proce
 ssing(ICIIP 2017)
URL:http://www.wikicfp.com/cfp/servlet/event.showcfp?eventid=60339&copyow
 nerid=101987
UID:cfp678645-D@wikicfp.com
END:VEVENT
BEGIN:VEVENT
DTSTAMP:20260422T234524Z
DTSTART;VALUE=DATE:20260514
SUMMARY:JPS 2026 Deadline
DESCRIPTION:Journal of Political Science (JPS)
URL:http://www.wikicfp.com/cfp/servlet/event.showcfp?eventid=65319&copyow
 nerid=101987
UID:cfp678644-D@wikicfp.com
END:VEVENT
BEGIN:VEVENT
DTSTAMP:20260422T234524Z
DTSTART;VALUE=DATE:20260614
SUMMARY:JPS 2026 Notification Due
DESCRIPTION:Journal of Political Science (JPS)
URL:http://www.wikicfp.com/cfp/servlet/event.showcfp?eventid=65319&copyow
 nerid=101987
UID:cfp678644-N@wikicfp.com
END:VEVENT
BEGIN:VEVENT
DTSTAMP:20260422T234524Z
DTSTART;VALUE=DATE:20260621
SUMMARY:JPS 2026 Final Version Due
DESCRIPTION:Journal of Political Science (JPS)
URL:http://www.wikicfp.com/cfp/servlet/event.showcfp?eventid=65319&copyow
 nerid=101987
UID:cfp678644-N@wikicfp.com
END:VEVENT
END:VCALENDAR
