BEGIN:VCALENDAR
PRODID:-//WikiCFP//takada 1.0//EN
VERSION:2.0
CALSCALE:GREGORIAN
BEGIN:VEVENT
DTSTAMP:20260422T165803Z
DTSTART;VALUE=DATE:20080922
DTEND;VALUE=DATE:20080925
SUMMARY:STEP 2008
DESCRIPTION:Symposium on Semantics in Systems for Text Processing
URL:http://www.wikicfp.com/cfp/servlet/event.showcfp?eventid=2468&copyown
 erid=1013
UID:cfp9494-E@wikicfp.com
END:VEVENT
BEGIN:VEVENT
DTSTAMP:20260422T165803Z
DTSTART;VALUE=DATE:20080509
SUMMARY:STEP 2008 Deadline
DESCRIPTION:Symposium on Semantics in Systems for Text Processing
URL:http://www.wikicfp.com/cfp/servlet/event.showcfp?eventid=2468&copyown
 erid=1013
UID:cfp9494-D@wikicfp.com
END:VEVENT
BEGIN:VEVENT
DTSTAMP:20260422T165803Z
DTSTART;VALUE=DATE:20080623
SUMMARY:STEP 2008 Notification Due
DESCRIPTION:Symposium on Semantics in Systems for Text Processing
URL:http://www.wikicfp.com/cfp/servlet/event.showcfp?eventid=2468&copyown
 erid=1013
UID:cfp9494-N@wikicfp.com
END:VEVENT
BEGIN:VEVENT
DTSTAMP:20260422T165803Z
DTSTART;VALUE=DATE:20081203
DTEND;VALUE=DATE:20081204
SUMMARY:MUM 2008
DESCRIPTION:7th International Conference on Mobile and Ubiquitous Multime
 dia
URL:http://www.wikicfp.com/cfp/servlet/event.showcfp?eventid=2917&copyown
 erid=1013
UID:cfp9721-E@wikicfp.com
END:VEVENT
BEGIN:VEVENT
DTSTAMP:20260422T165803Z
DTSTART;VALUE=DATE:20080530
SUMMARY:MUM 2008 Deadline
DESCRIPTION:7th International Conference on Mobile and Ubiquitous Multime
 dia
URL:http://www.wikicfp.com/cfp/servlet/event.showcfp?eventid=2917&copyown
 erid=1013
UID:cfp9721-D@wikicfp.com
END:VEVENT
BEGIN:VEVENT
DTSTAMP:20260422T165803Z
DTSTART;VALUE=DATE:20080815
SUMMARY:MUM 2008 Notification Due
DESCRIPTION:7th International Conference on Mobile and Ubiquitous Multime
 dia
URL:http://www.wikicfp.com/cfp/servlet/event.showcfp?eventid=2917&copyown
 erid=1013
UID:cfp9721-N@wikicfp.com
END:VEVENT
BEGIN:VEVENT
DTSTAMP:20260422T165803Z
DTSTART;VALUE=DATE:20081209
DTEND;VALUE=DATE:20081213
SUMMARY:Co-Next 2008
DESCRIPTION:4th Conference on Emerging Network Experiment and Technology
URL:http://www.wikicfp.com/cfp/servlet/event.showcfp?eventid=2336&copyown
 erid=1013
UID:cfp9720-E@wikicfp.com
END:VEVENT
BEGIN:VEVENT
DTSTAMP:20260422T165803Z
DTSTART;VALUE=DATE:20080630
SUMMARY:Co-Next 2008 Abstract Due
DESCRIPTION:4th Conference on Emerging Network Experiment and Technology
URL:http://www.wikicfp.com/cfp/servlet/event.showcfp?eventid=2336&copyown
 erid=1013
UID:cfp9720-A@wikicfp.com
END:VEVENT
BEGIN:VEVENT
DTSTAMP:20260422T165803Z
DTSTART;VALUE=DATE:20080707
SUMMARY:Co-Next 2008 Deadline
DESCRIPTION:4th Conference on Emerging Network Experiment and Technology
URL:http://www.wikicfp.com/cfp/servlet/event.showcfp?eventid=2336&copyown
 erid=1013
UID:cfp9720-D@wikicfp.com
END:VEVENT
BEGIN:VEVENT
DTSTAMP:20260422T165803Z
DTSTART;VALUE=DATE:20080925
SUMMARY:Co-Next 2008 Notification Due
DESCRIPTION:4th Conference on Emerging Network Experiment and Technology
URL:http://www.wikicfp.com/cfp/servlet/event.showcfp?eventid=2336&copyown
 erid=1013
UID:cfp9720-N@wikicfp.com
END:VEVENT
BEGIN:VEVENT
DTSTAMP:20260422T165803Z
DTSTART;VALUE=DATE:20090719
DTEND;VALUE=DATE:20090725
SUMMARY:HCII 2009
DESCRIPTION:HCI International 2009
URL:http://www.wikicfp.com/cfp/servlet/event.showcfp?eventid=2006&copyown
 erid=1013
UID:cfp9495-E@wikicfp.com
END:VEVENT
BEGIN:VEVENT
DTSTAMP:20260422T165803Z
DTSTART;VALUE=DATE:20081020
SUMMARY:HCII 2009 Deadline
DESCRIPTION:HCI International 2009
URL:http://www.wikicfp.com/cfp/servlet/event.showcfp?eventid=2006&copyown
 erid=1013
UID:cfp9495-D@wikicfp.com
END:VEVENT
BEGIN:VEVENT
DTSTAMP:20260422T165803Z
DTSTART;VALUE=DATE:20081031
SUMMARY:SP SI 2008 Deadline
DESCRIPTION:Signal Processing Journal Special issue
URL:http://www.wikicfp.com/cfp/servlet/event.showcfp?eventid=3071&copyown
 erid=1013
UID:cfp9492-D@wikicfp.com
END:VEVENT
BEGIN:VEVENT
DTSTAMP:20260422T165803Z
DTSTART;VALUE=DATE:20090131
SUMMARY:SP SI 2008 Notification Due
DESCRIPTION:Signal Processing Journal Special issue
URL:http://www.wikicfp.com/cfp/servlet/event.showcfp?eventid=3071&copyown
 erid=1013
UID:cfp9492-N@wikicfp.com
END:VEVENT
END:VCALENDAR
