BEGIN:VCALENDAR
PRODID:-//WikiCFP//Shubham_Agarwal 1.0//EN
VERSION:2.0
CALSCALE:GREGORIAN
BEGIN:VEVENT
DTSTAMP:20260424T190457Z
DTSTART;VALUE=DATE:20170324
DTEND;VALUE=DATE:20170401
SUMMARY:WACV 2017
DESCRIPTION:IEEE Winter Conference on Applications of Computer Vision 
URL:http://www.wikicfp.com/cfp/servlet/event.showcfp?eventid=56568&copyow
 nerid=101286
UID:cfp676725-E@wikicfp.com
END:VEVENT
BEGIN:VEVENT
DTSTAMP:20260424T190457Z
DTSTART;VALUE=DATE:20161003
SUMMARY:WACV 2017 Deadline
DESCRIPTION:IEEE Winter Conference on Applications of Computer Vision 
URL:http://www.wikicfp.com/cfp/servlet/event.showcfp?eventid=56568&copyow
 nerid=101286
UID:cfp676725-D@wikicfp.com
END:VEVENT
BEGIN:VEVENT
DTSTAMP:20260424T190457Z
DTSTART;VALUE=DATE:20170726
DTEND;VALUE=DATE:20170728
SUMMARY:20th ICSSH 2017
DESCRIPTION:20th International Conference on Social Science & Humanities 
 (ICSSH)
URL:http://www.wikicfp.com/cfp/servlet/event.showcfp?eventid=63790&copyow
 nerid=101286
UID:cfp676402-E@wikicfp.com
END:VEVENT
BEGIN:VEVENT
DTSTAMP:20260424T190457Z
DTSTART;VALUE=DATE:20170724
SUMMARY:20th ICSSH 2017 Deadline
DESCRIPTION:20th International Conference on Social Science & Humanities 
 (ICSSH)
URL:http://www.wikicfp.com/cfp/servlet/event.showcfp?eventid=63790&copyow
 nerid=101286
UID:cfp676402-D@wikicfp.com
END:VEVENT
BEGIN:VEVENT
DTSTAMP:20260424T190457Z
DTSTART;VALUE=DATE:20170724
SUMMARY:20th ICSSH 2017 Notification Due
DESCRIPTION:20th International Conference on Social Science & Humanities 
 (ICSSH)
URL:http://www.wikicfp.com/cfp/servlet/event.showcfp?eventid=63790&copyow
 nerid=101286
UID:cfp676402-N@wikicfp.com
END:VEVENT
BEGIN:VEVENT
DTSTAMP:20260424T190457Z
DTSTART;VALUE=DATE:20170724
SUMMARY:20th ICSSH 2017 Final Version Due
DESCRIPTION:20th International Conference on Social Science & Humanities 
 (ICSSH)
URL:http://www.wikicfp.com/cfp/servlet/event.showcfp?eventid=63790&copyow
 nerid=101286
UID:cfp676402-N@wikicfp.com
END:VEVENT
BEGIN:VEVENT
DTSTAMP:20260424T190457Z
DTSTART;VALUE=DATE:20180127
DTEND;VALUE=DATE:20180130
SUMMARY:VISIGRAPP 2018
DESCRIPTION:13th International Joint Conference on Computer Vision\, Imag
 ing and Computer Graphics Theory and Applications
URL:http://www.wikicfp.com/cfp/servlet/event.showcfp?eventid=63545&copyow
 nerid=101286
UID:cfp676400-E@wikicfp.com
END:VEVENT
BEGIN:VEVENT
DTSTAMP:20260424T190457Z
DTSTART;VALUE=DATE:20170731
SUMMARY:VISIGRAPP 2018 Deadline
DESCRIPTION:13th International Joint Conference on Computer Vision\, Imag
 ing and Computer Graphics Theory and Applications
URL:http://www.wikicfp.com/cfp/servlet/event.showcfp?eventid=63545&copyow
 nerid=101286
UID:cfp676400-D@wikicfp.com
END:VEVENT
BEGIN:VEVENT
DTSTAMP:20260424T190457Z
DTSTART;VALUE=DATE:20171020
SUMMARY:VISIGRAPP 2018 Notification Due
DESCRIPTION:13th International Joint Conference on Computer Vision\, Imag
 ing and Computer Graphics Theory and Applications
URL:http://www.wikicfp.com/cfp/servlet/event.showcfp?eventid=63545&copyow
 nerid=101286
UID:cfp676400-N@wikicfp.com
END:VEVENT
BEGIN:VEVENT
DTSTAMP:20260424T190457Z
DTSTART;VALUE=DATE:20171103
SUMMARY:VISIGRAPP 2018 Final Version Due
DESCRIPTION:13th International Joint Conference on Computer Vision\, Imag
 ing and Computer Graphics Theory and Applications
URL:http://www.wikicfp.com/cfp/servlet/event.showcfp?eventid=63545&copyow
 nerid=101286
UID:cfp676400-N@wikicfp.com
END:VEVENT
BEGIN:VEVENT
DTSTAMP:20260424T190457Z
DTSTART;VALUE=DATE:20171115
DTEND;VALUE=DATE:20171118
SUMMARY:ACML  2017
DESCRIPTION:The 9th Asian Conference on Machine Learning
URL:http://www.wikicfp.com/cfp/servlet/event.showcfp?eventid=66026&copyow
 nerid=101286
UID:cfp676397-E@wikicfp.com
END:VEVENT
BEGIN:VEVENT
DTSTAMP:20260424T190457Z
DTSTART;VALUE=DATE:20170805
SUMMARY:ACML  2017 Deadline
DESCRIPTION:The 9th Asian Conference on Machine Learning
URL:http://www.wikicfp.com/cfp/servlet/event.showcfp?eventid=66026&copyow
 nerid=101286
UID:cfp676397-D@wikicfp.com
END:VEVENT
BEGIN:VEVENT
DTSTAMP:20260424T190457Z
DTSTART;VALUE=DATE:20170915
SUMMARY:ACML  2017 Notification Due
DESCRIPTION:The 9th Asian Conference on Machine Learning
URL:http://www.wikicfp.com/cfp/servlet/event.showcfp?eventid=66026&copyow
 nerid=101286
UID:cfp676397-N@wikicfp.com
END:VEVENT
BEGIN:VEVENT
DTSTAMP:20260424T190457Z
DTSTART;VALUE=DATE:20171002
SUMMARY:ACML  2017 Final Version Due
DESCRIPTION:The 9th Asian Conference on Machine Learning
URL:http://www.wikicfp.com/cfp/servlet/event.showcfp?eventid=66026&copyow
 nerid=101286
UID:cfp676397-N@wikicfp.com
END:VEVENT
BEGIN:VEVENT
DTSTAMP:20260424T190457Z
DTSTART;VALUE=DATE:20170321
DTEND;VALUE=DATE:20170324
SUMMARY:4th IEEE ICIIP 2017
DESCRIPTION:International Conference on Image Information Processing (ICI
 IP 2017)
URL:http://www.wikicfp.com/cfp/servlet/event.showcfp?eventid=62211&copyow
 nerid=101286
UID:cfp676401-E@wikicfp.com
END:VEVENT
BEGIN:VEVENT
DTSTAMP:20260424T190457Z
DTSTART;VALUE=DATE:20170831
SUMMARY:4th IEEE ICIIP 2017 Deadline
DESCRIPTION:International Conference on Image Information Processing (ICI
 IP 2017)
URL:http://www.wikicfp.com/cfp/servlet/event.showcfp?eventid=62211&copyow
 nerid=101286
UID:cfp676401-D@wikicfp.com
END:VEVENT
BEGIN:VEVENT
DTSTAMP:20260424T190457Z
DTSTART;VALUE=DATE:20171015
SUMMARY:4th IEEE ICIIP 2017 Notification Due
DESCRIPTION:International Conference on Image Information Processing (ICI
 IP 2017)
URL:http://www.wikicfp.com/cfp/servlet/event.showcfp?eventid=62211&copyow
 nerid=101286
UID:cfp676401-N@wikicfp.com
END:VEVENT
BEGIN:VEVENT
DTSTAMP:20260424T190457Z
DTSTART;VALUE=DATE:20171115
SUMMARY:4th IEEE ICIIP 2017 Final Version Due
DESCRIPTION:International Conference on Image Information Processing (ICI
 IP 2017)
URL:http://www.wikicfp.com/cfp/servlet/event.showcfp?eventid=62211&copyow
 nerid=101286
UID:cfp676401-N@wikicfp.com
END:VEVENT
BEGIN:VEVENT
DTSTAMP:20260424T190457Z
DTSTART;VALUE=DATE:20171113
DTEND;VALUE=DATE:20171116
SUMMARY:ICMV 2017
DESCRIPTION:2017 The 10th International Conference on Machine Vision (ICM
 V 2017) - SPIE
URL:http://www.wikicfp.com/cfp/servlet/event.showcfp?eventid=61301&copyow
 nerid=101286
UID:cfp676723-E@wikicfp.com
END:VEVENT
BEGIN:VEVENT
DTSTAMP:20260424T190457Z
DTSTART;VALUE=DATE:20170915
SUMMARY:ICMV 2017 Deadline
DESCRIPTION:2017 The 10th International Conference on Machine Vision (ICM
 V 2017) - SPIE
URL:http://www.wikicfp.com/cfp/servlet/event.showcfp?eventid=61301&copyow
 nerid=101286
UID:cfp676723-D@wikicfp.com
END:VEVENT
BEGIN:VEVENT
DTSTAMP:20260424T190457Z
DTSTART;VALUE=DATE:20171209
DTEND;VALUE=DATE:20171210
SUMMARY:NIPS IEVDL 2017
DESCRIPTION:NIPS 2017 Workshop: Interpreting\, Explaining and Visualizing
  Deep Learning - Now what ?
URL:http://www.wikicfp.com/cfp/servlet/event.showcfp?eventid=68129&copyow
 nerid=101286
UID:cfp688639-E@wikicfp.com
END:VEVENT
BEGIN:VEVENT
DTSTAMP:20260424T190457Z
DTSTART;VALUE=DATE:20171022
SUMMARY:NIPS IEVDL 2017 Deadline
DESCRIPTION:NIPS 2017 Workshop: Interpreting\, Explaining and Visualizing
  Deep Learning - Now what ?
URL:http://www.wikicfp.com/cfp/servlet/event.showcfp?eventid=68129&copyow
 nerid=101286
UID:cfp688639-D@wikicfp.com
END:VEVENT
BEGIN:VEVENT
DTSTAMP:20260424T190457Z
DTSTART;VALUE=DATE:20171101
SUMMARY:NIPS IEVDL 2017 Notification Due
DESCRIPTION:NIPS 2017 Workshop: Interpreting\, Explaining and Visualizing
  Deep Learning - Now what ?
URL:http://www.wikicfp.com/cfp/servlet/event.showcfp?eventid=68129&copyow
 nerid=101286
UID:cfp688639-N@wikicfp.com
END:VEVENT
BEGIN:VEVENT
DTSTAMP:20260424T190457Z
DTSTART;VALUE=DATE:20171229
DTEND;VALUE=DATE:20180101
SUMMARY:ICRAI 2017
DESCRIPTION:2017 International Conference on Robotics and Artificial Inte
 lligence-ACM
URL:http://www.wikicfp.com/cfp/servlet/event.showcfp?eventid=59450&copyow
 nerid=101286
UID:cfp676396-E@wikicfp.com
END:VEVENT
BEGIN:VEVENT
DTSTAMP:20260424T190457Z
DTSTART;VALUE=DATE:20171025
SUMMARY:ICRAI 2017 Deadline
DESCRIPTION:2017 International Conference on Robotics and Artificial Inte
 lligence-ACM
URL:http://www.wikicfp.com/cfp/servlet/event.showcfp?eventid=59450&copyow
 nerid=101286
UID:cfp676396-D@wikicfp.com
END:VEVENT
BEGIN:VEVENT
DTSTAMP:20260424T190457Z
DTSTART;VALUE=DATE:20171227
DTEND;VALUE=DATE:20171230
SUMMARY:ICVIP - Ei 2017
DESCRIPTION:2017 International Conference on Video and Image Processing (
 ICVIP 2017)--Ei and Scopus
URL:http://www.wikicfp.com/cfp/servlet/event.showcfp?eventid=63060&copyow
 nerid=101286
UID:cfp676395-E@wikicfp.com
END:VEVENT
BEGIN:VEVENT
DTSTAMP:20260424T190457Z
DTSTART;VALUE=DATE:20171030
SUMMARY:ICVIP - Ei 2017 Deadline
DESCRIPTION:2017 International Conference on Video and Image Processing (
 ICVIP 2017)--Ei and Scopus
URL:http://www.wikicfp.com/cfp/servlet/event.showcfp?eventid=63060&copyow
 nerid=101286
UID:cfp676395-D@wikicfp.com
END:VEVENT
BEGIN:VEVENT
DTSTAMP:20260424T190457Z
DTSTART;VALUE=DATE:20180514
DTEND;VALUE=DATE:20180518
SUMMARY:ICPRAI 2018
DESCRIPTION:International Conference on Pattern Recognition and Artificia
 l Intelligence
URL:http://www.wikicfp.com/cfp/servlet/event.showcfp?eventid=65570&copyow
 nerid=101286
UID:cfp682394-E@wikicfp.com
END:VEVENT
BEGIN:VEVENT
DTSTAMP:20260424T190457Z
DTSTART;VALUE=DATE:20171115
SUMMARY:ICPRAI 2018 Deadline
DESCRIPTION:International Conference on Pattern Recognition and Artificia
 l Intelligence
URL:http://www.wikicfp.com/cfp/servlet/event.showcfp?eventid=65570&copyow
 nerid=101286
UID:cfp682394-D@wikicfp.com
END:VEVENT
BEGIN:VEVENT
DTSTAMP:20260424T190457Z
DTSTART;VALUE=DATE:20180115
SUMMARY:ICPRAI 2018 Notification Due
DESCRIPTION:International Conference on Pattern Recognition and Artificia
 l Intelligence
URL:http://www.wikicfp.com/cfp/servlet/event.showcfp?eventid=65570&copyow
 nerid=101286
UID:cfp682394-N@wikicfp.com
END:VEVENT
BEGIN:VEVENT
DTSTAMP:20260424T190457Z
DTSTART;VALUE=DATE:20180215
SUMMARY:ICPRAI 2018 Final Version Due
DESCRIPTION:International Conference on Pattern Recognition and Artificia
 l Intelligence
URL:http://www.wikicfp.com/cfp/servlet/event.showcfp?eventid=65570&copyow
 nerid=101286
UID:cfp682394-N@wikicfp.com
END:VEVENT
BEGIN:VEVENT
DTSTAMP:20260424T190457Z
DTSTART;VALUE=DATE:20180820
DTEND;VALUE=DATE:20180825
SUMMARY:ICPR 2018
DESCRIPTION:24th International Conference on Pattern Recognition
URL:http://www.wikicfp.com/cfp/servlet/event.showcfp?eventid=62174&copyow
 nerid=101286
UID:cfp676724-E@wikicfp.com
END:VEVENT
BEGIN:VEVENT
DTSTAMP:20260424T190457Z
DTSTART;VALUE=DATE:20180105
SUMMARY:ICPR 2018 Deadline
DESCRIPTION:24th International Conference on Pattern Recognition
URL:http://www.wikicfp.com/cfp/servlet/event.showcfp?eventid=62174&copyow
 nerid=101286
UID:cfp676724-D@wikicfp.com
END:VEVENT
BEGIN:VEVENT
DTSTAMP:20260424T190457Z
DTSTART;VALUE=DATE:20180405
SUMMARY:ICPR 2018 Notification Due
DESCRIPTION:24th International Conference on Pattern Recognition
URL:http://www.wikicfp.com/cfp/servlet/event.showcfp?eventid=62174&copyow
 nerid=101286
UID:cfp676724-N@wikicfp.com
END:VEVENT
BEGIN:VEVENT
DTSTAMP:20260424T190457Z
DTSTART;VALUE=DATE:20180520
SUMMARY:ICPR 2018 Final Version Due
DESCRIPTION:24th International Conference on Pattern Recognition
URL:http://www.wikicfp.com/cfp/servlet/event.showcfp?eventid=62174&copyow
 nerid=101286
UID:cfp676724-N@wikicfp.com
END:VEVENT
BEGIN:VEVENT
DTSTAMP:20260424T190457Z
DTSTART;VALUE=DATE:20180714
DTEND;VALUE=DATE:20180720
SUMMARY:MLDM 2018
DESCRIPTION:14th International Conference on Machine Learning and Data Mi
 ning MLDM 2018
URL:http://www.wikicfp.com/cfp/servlet/event.showcfp?eventid=67175&copyow
 nerid=101286
UID:cfp688642-E@wikicfp.com
END:VEVENT
BEGIN:VEVENT
DTSTAMP:20260424T190457Z
DTSTART;VALUE=DATE:20180115
SUMMARY:MLDM 2018 Deadline
DESCRIPTION:14th International Conference on Machine Learning and Data Mi
 ning MLDM 2018
URL:http://www.wikicfp.com/cfp/servlet/event.showcfp?eventid=67175&copyow
 nerid=101286
UID:cfp688642-D@wikicfp.com
END:VEVENT
BEGIN:VEVENT
DTSTAMP:20260424T190457Z
DTSTART;VALUE=DATE:20180318
SUMMARY:MLDM 2018 Notification Due
DESCRIPTION:14th International Conference on Machine Learning and Data Mi
 ning MLDM 2018
URL:http://www.wikicfp.com/cfp/servlet/event.showcfp?eventid=67175&copyow
 nerid=101286
UID:cfp688642-N@wikicfp.com
END:VEVENT
BEGIN:VEVENT
DTSTAMP:20260424T190457Z
DTSTART;VALUE=DATE:20180405
SUMMARY:MLDM 2018 Final Version Due
DESCRIPTION:14th International Conference on Machine Learning and Data Mi
 ning MLDM 2018
URL:http://www.wikicfp.com/cfp/servlet/event.showcfp?eventid=67175&copyow
 nerid=101286
UID:cfp688642-N@wikicfp.com
END:VEVENT
BEGIN:VEVENT
DTSTAMP:20260424T190457Z
DTSTART;VALUE=DATE:20180528
DTEND;VALUE=DATE:20180602
SUMMARY:WSCG 2018
DESCRIPTION:26. Int.Conf.on Computer Graphics\, Visualization and Compute
 r Vision 2017
URL:http://www.wikicfp.com/cfp/servlet/event.showcfp?eventid=65270&copyow
 nerid=101286
UID:cfp682395-E@wikicfp.com
END:VEVENT
BEGIN:VEVENT
DTSTAMP:20260424T190457Z
DTSTART;VALUE=DATE:20180131
SUMMARY:WSCG 2018 Deadline
DESCRIPTION:26. Int.Conf.on Computer Graphics\, Visualization and Compute
 r Vision 2017
URL:http://www.wikicfp.com/cfp/servlet/event.showcfp?eventid=65270&copyow
 nerid=101286
UID:cfp682395-D@wikicfp.com
END:VEVENT
BEGIN:VEVENT
DTSTAMP:20260424T190457Z
DTSTART;VALUE=DATE:20180331
SUMMARY:WSCG 2018 Notification Due
DESCRIPTION:26. Int.Conf.on Computer Graphics\, Visualization and Compute
 r Vision 2017
URL:http://www.wikicfp.com/cfp/servlet/event.showcfp?eventid=65270&copyow
 nerid=101286
UID:cfp682395-N@wikicfp.com
END:VEVENT
BEGIN:VEVENT
DTSTAMP:20260424T190457Z
DTSTART;VALUE=DATE:20180430
SUMMARY:WSCG 2018 Final Version Due
DESCRIPTION:26. Int.Conf.on Computer Graphics\, Visualization and Compute
 r Vision 2017
URL:http://www.wikicfp.com/cfp/servlet/event.showcfp?eventid=65270&copyow
 nerid=101286
UID:cfp682395-N@wikicfp.com
END:VEVENT
END:VCALENDAR
