BEGIN:VCALENDAR
PRODID:-//WikiCFP//ibfaruk 1.0//EN
VERSION:2.0
CALSCALE:GREGORIAN
BEGIN:VEVENT
DTSTAMP:20260422T080834Z
DTSTART;VALUE=DATE:20180222
DTEND;VALUE=DATE:20180225
SUMMARY:AMLTA 2018
DESCRIPTION:the 3rd  International Conference on Advanced Machine Learnin
 g Technologies and Applications\;
URL:http://www.wikicfp.com/cfp/servlet/event.showcfp?eventid=66051&copyow
 nerid=101194
UID:cfp701937-E@wikicfp.com
END:VEVENT
BEGIN:VEVENT
DTSTAMP:20260422T080834Z
DTSTART;VALUE=DATE:20170910
SUMMARY:AMLTA 2018 Deadline
DESCRIPTION:the 3rd  International Conference on Advanced Machine Learnin
 g Technologies and Applications\;
URL:http://www.wikicfp.com/cfp/servlet/event.showcfp?eventid=66051&copyow
 nerid=101194
UID:cfp701937-D@wikicfp.com
END:VEVENT
BEGIN:VEVENT
DTSTAMP:20260422T080834Z
DTSTART;VALUE=DATE:20171030
SUMMARY:AMLTA 2018 Notification Due
DESCRIPTION:the 3rd  International Conference on Advanced Machine Learnin
 g Technologies and Applications\;
URL:http://www.wikicfp.com/cfp/servlet/event.showcfp?eventid=66051&copyow
 nerid=101194
UID:cfp701937-N@wikicfp.com
END:VEVENT
BEGIN:VEVENT
DTSTAMP:20260422T080834Z
DTSTART;VALUE=DATE:20171115
SUMMARY:AMLTA 2018 Final Version Due
DESCRIPTION:the 3rd  International Conference on Advanced Machine Learnin
 g Technologies and Applications\;
URL:http://www.wikicfp.com/cfp/servlet/event.showcfp?eventid=66051&copyow
 nerid=101194
UID:cfp701937-N@wikicfp.com
END:VEVENT
BEGIN:VEVENT
DTSTAMP:20260422T080834Z
DTSTART;VALUE=DATE:20180503
DTEND;VALUE=DATE:20180506
SUMMARY:SDM 2018
DESCRIPTION:SIAM International Conference on Data Mining
URL:http://www.wikicfp.com/cfp/servlet/event.showcfp?eventid=66880&copyow
 nerid=101194
UID:cfp701936-E@wikicfp.com
END:VEVENT
BEGIN:VEVENT
DTSTAMP:20260422T080834Z
DTSTART;VALUE=DATE:20171006
SUMMARY:SDM 2018 Abstract Due
DESCRIPTION:SIAM International Conference on Data Mining
URL:http://www.wikicfp.com/cfp/servlet/event.showcfp?eventid=66880&copyow
 nerid=101194
UID:cfp701936-A@wikicfp.com
END:VEVENT
BEGIN:VEVENT
DTSTAMP:20260422T080834Z
DTSTART;VALUE=DATE:20171013
SUMMARY:SDM 2018 Deadline
DESCRIPTION:SIAM International Conference on Data Mining
URL:http://www.wikicfp.com/cfp/servlet/event.showcfp?eventid=66880&copyow
 nerid=101194
UID:cfp701936-D@wikicfp.com
END:VEVENT
BEGIN:VEVENT
DTSTAMP:20260422T080834Z
DTSTART;VALUE=DATE:20171219
SUMMARY:SDM 2018 Notification Due
DESCRIPTION:SIAM International Conference on Data Mining
URL:http://www.wikicfp.com/cfp/servlet/event.showcfp?eventid=66880&copyow
 nerid=101194
UID:cfp701936-N@wikicfp.com
END:VEVENT
BEGIN:VEVENT
DTSTAMP:20260422T080834Z
DTSTART;VALUE=DATE:20180124
SUMMARY:SDM 2018 Final Version Due
DESCRIPTION:SIAM International Conference on Data Mining
URL:http://www.wikicfp.com/cfp/servlet/event.showcfp?eventid=66880&copyow
 nerid=101194
UID:cfp701936-N@wikicfp.com
END:VEVENT
BEGIN:VEVENT
DTSTAMP:20260422T080834Z
DTSTART;VALUE=DATE:20180319
DTEND;VALUE=DATE:20180322
SUMMARY:IoTBDS 2018
DESCRIPTION:3rd International Conference on Internet of Things\, Big Data
  and Security
URL:http://www.wikicfp.com/cfp/servlet/event.showcfp?eventid=65601&copyow
 nerid=101194
UID:cfp701874-E@wikicfp.com
END:VEVENT
BEGIN:VEVENT
DTSTAMP:20260422T080834Z
DTSTART;VALUE=DATE:20171016
SUMMARY:IoTBDS 2018 Deadline
DESCRIPTION:3rd International Conference on Internet of Things\, Big Data
  and Security
URL:http://www.wikicfp.com/cfp/servlet/event.showcfp?eventid=65601&copyow
 nerid=101194
UID:cfp701874-D@wikicfp.com
END:VEVENT
BEGIN:VEVENT
DTSTAMP:20260422T080834Z
DTSTART;VALUE=DATE:20171215
SUMMARY:IoTBDS 2018 Notification Due
DESCRIPTION:3rd International Conference on Internet of Things\, Big Data
  and Security
URL:http://www.wikicfp.com/cfp/servlet/event.showcfp?eventid=65601&copyow
 nerid=101194
UID:cfp701874-N@wikicfp.com
END:VEVENT
BEGIN:VEVENT
DTSTAMP:20260422T080834Z
DTSTART;VALUE=DATE:20180104
SUMMARY:IoTBDS 2018 Final Version Due
DESCRIPTION:3rd International Conference on Internet of Things\, Big Data
  and Security
URL:http://www.wikicfp.com/cfp/servlet/event.showcfp?eventid=65601&copyow
 nerid=101194
UID:cfp701874-N@wikicfp.com
END:VEVENT
BEGIN:VEVENT
DTSTAMP:20260422T080834Z
DTSTART;VALUE=DATE:20180515
DTEND;VALUE=DATE:20180519
SUMMARY:PAKDD 2018
DESCRIPTION:The 22nd Pacific-Asia Conference on Knowledge Discovery and D
 ata Mining
URL:http://www.wikicfp.com/cfp/servlet/event.showcfp?eventid=66879&copyow
 nerid=101194
UID:cfp701935-E@wikicfp.com
END:VEVENT
BEGIN:VEVENT
DTSTAMP:20260422T080834Z
DTSTART;VALUE=DATE:20171031
SUMMARY:PAKDD 2018 Deadline
DESCRIPTION:The 22nd Pacific-Asia Conference on Knowledge Discovery and D
 ata Mining
URL:http://www.wikicfp.com/cfp/servlet/event.showcfp?eventid=66879&copyow
 nerid=101194
UID:cfp701935-D@wikicfp.com
END:VEVENT
BEGIN:VEVENT
DTSTAMP:20260422T080834Z
DTSTART;VALUE=DATE:20180128
SUMMARY:PAKDD 2018 Notification Due
DESCRIPTION:The 22nd Pacific-Asia Conference on Knowledge Discovery and D
 ata Mining
URL:http://www.wikicfp.com/cfp/servlet/event.showcfp?eventid=66879&copyow
 nerid=101194
UID:cfp701935-N@wikicfp.com
END:VEVENT
BEGIN:VEVENT
DTSTAMP:20260422T080834Z
DTSTART;VALUE=DATE:20180220
SUMMARY:PAKDD 2018 Final Version Due
DESCRIPTION:The 22nd Pacific-Asia Conference on Knowledge Discovery and D
 ata Mining
URL:http://www.wikicfp.com/cfp/servlet/event.showcfp?eventid=66879&copyow
 nerid=101194
UID:cfp701935-N@wikicfp.com
END:VEVENT
BEGIN:VEVENT
DTSTAMP:20260422T080834Z
DTSTART;VALUE=DATE:20180417
DTEND;VALUE=DATE:20180420
SUMMARY:INNS-BDDL 2018
DESCRIPTION:The 3rd INNS Conference on Big Data and Deep Learning 2018
URL:http://www.wikicfp.com/cfp/servlet/event.showcfp?eventid=65272&copyow
 nerid=101194
UID:cfp701873-E@wikicfp.com
END:VEVENT
BEGIN:VEVENT
DTSTAMP:20260422T080834Z
DTSTART;VALUE=DATE:20171102
SUMMARY:INNS-BDDL 2018 Deadline
DESCRIPTION:The 3rd INNS Conference on Big Data and Deep Learning 2018
URL:http://www.wikicfp.com/cfp/servlet/event.showcfp?eventid=65272&copyow
 nerid=101194
UID:cfp701873-D@wikicfp.com
END:VEVENT
BEGIN:VEVENT
DTSTAMP:20260422T080834Z
DTSTART;VALUE=DATE:20171231
SUMMARY:INNS-BDDL 2018 Notification Due
DESCRIPTION:The 3rd INNS Conference on Big Data and Deep Learning 2018
URL:http://www.wikicfp.com/cfp/servlet/event.showcfp?eventid=65272&copyow
 nerid=101194
UID:cfp701873-N@wikicfp.com
END:VEVENT
BEGIN:VEVENT
DTSTAMP:20260422T080834Z
DTSTART;VALUE=DATE:20180223
DTEND;VALUE=DATE:20180226
SUMMARY:IEMIS 2018
DESCRIPTION:1ST INTERNATIONAL CONFERENCE ON EMERGING TECHNOLOGIES IN DATA
  MINING AND INFORMATION SECURITY 
URL:http://www.wikicfp.com/cfp/servlet/event.showcfp?eventid=68328&copyow
 nerid=101194
UID:cfp701934-E@wikicfp.com
END:VEVENT
BEGIN:VEVENT
DTSTAMP:20260422T080834Z
DTSTART;VALUE=DATE:20171125
SUMMARY:IEMIS 2018 Deadline
DESCRIPTION:1ST INTERNATIONAL CONFERENCE ON EMERGING TECHNOLOGIES IN DATA
  MINING AND INFORMATION SECURITY 
URL:http://www.wikicfp.com/cfp/servlet/event.showcfp?eventid=68328&copyow
 nerid=101194
UID:cfp701934-D@wikicfp.com
END:VEVENT
BEGIN:VEVENT
DTSTAMP:20260422T080834Z
DTSTART;VALUE=DATE:20171225
SUMMARY:IEMIS 2018 Notification Due
DESCRIPTION:1ST INTERNATIONAL CONFERENCE ON EMERGING TECHNOLOGIES IN DATA
  MINING AND INFORMATION SECURITY 
URL:http://www.wikicfp.com/cfp/servlet/event.showcfp?eventid=68328&copyow
 nerid=101194
UID:cfp701934-N@wikicfp.com
END:VEVENT
BEGIN:VEVENT
DTSTAMP:20260422T080834Z
DTSTART;VALUE=DATE:20180110
SUMMARY:IEMIS 2018 Final Version Due
DESCRIPTION:1ST INTERNATIONAL CONFERENCE ON EMERGING TECHNOLOGIES IN DATA
  MINING AND INFORMATION SECURITY 
URL:http://www.wikicfp.com/cfp/servlet/event.showcfp?eventid=68328&copyow
 nerid=101194
UID:cfp701934-N@wikicfp.com
END:VEVENT
BEGIN:VEVENT
DTSTAMP:20260422T080834Z
DTSTART;VALUE=DATE:20180709
DTEND;VALUE=DATE:20180720
SUMMARY:DSA 2018
DESCRIPTION:The Frontiers in Intelligent Data and Signal Analysis DSA 201
 8
URL:http://www.wikicfp.com/cfp/servlet/event.showcfp?eventid=67172&copyow
 nerid=101194
UID:cfp701867-E@wikicfp.com
END:VEVENT
BEGIN:VEVENT
DTSTAMP:20260422T080834Z
DTSTART;VALUE=DATE:20180115
SUMMARY:DSA 2018 Deadline
DESCRIPTION:The Frontiers in Intelligent Data and Signal Analysis DSA 201
 8
URL:http://www.wikicfp.com/cfp/servlet/event.showcfp?eventid=67172&copyow
 nerid=101194
UID:cfp701867-D@wikicfp.com
END:VEVENT
BEGIN:VEVENT
DTSTAMP:20260422T080834Z
DTSTART;VALUE=DATE:20180318
SUMMARY:DSA 2018 Notification Due
DESCRIPTION:The Frontiers in Intelligent Data and Signal Analysis DSA 201
 8
URL:http://www.wikicfp.com/cfp/servlet/event.showcfp?eventid=67172&copyow
 nerid=101194
UID:cfp701867-N@wikicfp.com
END:VEVENT
BEGIN:VEVENT
DTSTAMP:20260422T080834Z
DTSTART;VALUE=DATE:20180405
SUMMARY:DSA 2018 Final Version Due
DESCRIPTION:The Frontiers in Intelligent Data and Signal Analysis DSA 201
 8
URL:http://www.wikicfp.com/cfp/servlet/event.showcfp?eventid=67172&copyow
 nerid=101194
UID:cfp701867-N@wikicfp.com
END:VEVENT
BEGIN:VEVENT
DTSTAMP:20260422T080834Z
DTSTART;VALUE=DATE:20180711
DTEND;VALUE=DATE:20180716
SUMMARY:ICDM 2018
DESCRIPTION:18th Industrial Conference on Data Mining ICDM 2018
URL:http://www.wikicfp.com/cfp/servlet/event.showcfp?eventid=67173&copyow
 nerid=101194
UID:cfp701868-E@wikicfp.com
END:VEVENT
BEGIN:VEVENT
DTSTAMP:20260422T080834Z
DTSTART;VALUE=DATE:20180115
SUMMARY:ICDM 2018 Deadline
DESCRIPTION:18th Industrial Conference on Data Mining ICDM 2018
URL:http://www.wikicfp.com/cfp/servlet/event.showcfp?eventid=67173&copyow
 nerid=101194
UID:cfp701868-D@wikicfp.com
END:VEVENT
BEGIN:VEVENT
DTSTAMP:20260422T080834Z
DTSTART;VALUE=DATE:20180318
SUMMARY:ICDM 2018 Notification Due
DESCRIPTION:18th Industrial Conference on Data Mining ICDM 2018
URL:http://www.wikicfp.com/cfp/servlet/event.showcfp?eventid=67173&copyow
 nerid=101194
UID:cfp701868-N@wikicfp.com
END:VEVENT
BEGIN:VEVENT
DTSTAMP:20260422T080834Z
DTSTART;VALUE=DATE:20180405
SUMMARY:ICDM 2018 Final Version Due
DESCRIPTION:18th Industrial Conference on Data Mining ICDM 2018
URL:http://www.wikicfp.com/cfp/servlet/event.showcfp?eventid=67173&copyow
 nerid=101194
UID:cfp701868-N@wikicfp.com
END:VEVENT
BEGIN:VEVENT
DTSTAMP:20260422T080834Z
DTSTART;VALUE=DATE:20180304
DTEND;VALUE=DATE:20180306
SUMMARY:YUICT 2018
DESCRIPTION:Al Yamamah Information and Communication Technology Forum
URL:http://www.wikicfp.com/cfp/servlet/event.showcfp?eventid=70343&copyow
 nerid=101194
UID:cfp701862-E@wikicfp.com
END:VEVENT
BEGIN:VEVENT
DTSTAMP:20260422T080834Z
DTSTART;VALUE=DATE:20180122
SUMMARY:YUICT 2018 Deadline
DESCRIPTION:Al Yamamah Information and Communication Technology Forum
URL:http://www.wikicfp.com/cfp/servlet/event.showcfp?eventid=70343&copyow
 nerid=101194
UID:cfp701862-D@wikicfp.com
END:VEVENT
BEGIN:VEVENT
DTSTAMP:20260422T080834Z
DTSTART;VALUE=DATE:20180205
SUMMARY:YUICT 2018 Notification Due
DESCRIPTION:Al Yamamah Information and Communication Technology Forum
URL:http://www.wikicfp.com/cfp/servlet/event.showcfp?eventid=70343&copyow
 nerid=101194
UID:cfp701862-N@wikicfp.com
END:VEVENT
BEGIN:VEVENT
DTSTAMP:20260422T080834Z
DTSTART;VALUE=DATE:20180226
SUMMARY:YUICT 2018 Final Version Due
DESCRIPTION:Al Yamamah Information and Communication Technology Forum
URL:http://www.wikicfp.com/cfp/servlet/event.showcfp?eventid=70343&copyow
 nerid=101194
UID:cfp701862-N@wikicfp.com
END:VEVENT
BEGIN:VEVENT
DTSTAMP:20260422T080834Z
DTSTART;VALUE=DATE:20180525
DTEND;VALUE=DATE:20180528
SUMMARY:SEDSEAL 2018
DESCRIPTION:International Workshop on Semantics in the Deep: Semantic Ana
 lytics for Big Data
URL:http://www.wikicfp.com/cfp/servlet/event.showcfp?eventid=70462&copyow
 nerid=101194
UID:cfp701870-E@wikicfp.com
END:VEVENT
BEGIN:VEVENT
DTSTAMP:20260422T080834Z
DTSTART;VALUE=DATE:20180203
SUMMARY:SEDSEAL 2018 Deadline
DESCRIPTION:International Workshop on Semantics in the Deep: Semantic Ana
 lytics for Big Data
URL:http://www.wikicfp.com/cfp/servlet/event.showcfp?eventid=70462&copyow
 nerid=101194
UID:cfp701870-D@wikicfp.com
END:VEVENT
BEGIN:VEVENT
DTSTAMP:20260422T080834Z
DTSTART;VALUE=DATE:20180228
SUMMARY:SEDSEAL 2018 Notification Due
DESCRIPTION:International Workshop on Semantics in the Deep: Semantic Ana
 lytics for Big Data
URL:http://www.wikicfp.com/cfp/servlet/event.showcfp?eventid=70462&copyow
 nerid=101194
UID:cfp701870-N@wikicfp.com
END:VEVENT
BEGIN:VEVENT
DTSTAMP:20260422T080834Z
DTSTART;VALUE=DATE:20180309
SUMMARY:SEDSEAL 2018 Final Version Due
DESCRIPTION:International Workshop on Semantics in the Deep: Semantic Ana
 lytics for Big Data
URL:http://www.wikicfp.com/cfp/servlet/event.showcfp?eventid=70462&copyow
 nerid=101194
UID:cfp701870-N@wikicfp.com
END:VEVENT
BEGIN:VEVENT
DTSTAMP:20260422T080834Z
DTSTART;VALUE=DATE:20180508
DTEND;VALUE=DATE:20180511
SUMMARY:BigDAW 2018
DESCRIPTION:International Workshop on Big Data Analytics
URL:http://www.wikicfp.com/cfp/servlet/event.showcfp?eventid=70475&copyow
 nerid=101194
UID:cfp701871-E@wikicfp.com
END:VEVENT
BEGIN:VEVENT
DTSTAMP:20260422T080834Z
DTSTART;VALUE=DATE:20180210
SUMMARY:BigDAW 2018 Deadline
DESCRIPTION:International Workshop on Big Data Analytics
URL:http://www.wikicfp.com/cfp/servlet/event.showcfp?eventid=70475&copyow
 nerid=101194
UID:cfp701871-D@wikicfp.com
END:VEVENT
BEGIN:VEVENT
DTSTAMP:20260422T080834Z
DTSTART;VALUE=DATE:20180314
SUMMARY:BigDAW 2018 Notification Due
DESCRIPTION:International Workshop on Big Data Analytics
URL:http://www.wikicfp.com/cfp/servlet/event.showcfp?eventid=70475&copyow
 nerid=101194
UID:cfp701871-N@wikicfp.com
END:VEVENT
BEGIN:VEVENT
DTSTAMP:20260422T080834Z
DTSTART;VALUE=DATE:20180328
SUMMARY:BigDAW 2018 Final Version Due
DESCRIPTION:International Workshop on Big Data Analytics
URL:http://www.wikicfp.com/cfp/servlet/event.showcfp?eventid=70475&copyow
 nerid=101194
UID:cfp701871-N@wikicfp.com
END:VEVENT
BEGIN:VEVENT
DTSTAMP:20260422T080834Z
DTSTART;VALUE=DATE:20180714
DTEND;VALUE=DATE:20180720
SUMMARY:MLDM 2018
DESCRIPTION:14th International Conference on Machine Learning and Data Mi
 ning MLDM 2018
URL:http://www.wikicfp.com/cfp/servlet/event.showcfp?eventid=67175&copyow
 nerid=101194
UID:cfp708240-E@wikicfp.com
END:VEVENT
BEGIN:VEVENT
DTSTAMP:20260422T080834Z
DTSTART;VALUE=DATE:20180216
SUMMARY:MLDM 2018 Deadline
DESCRIPTION:14th International Conference on Machine Learning and Data Mi
 ning MLDM 2018
URL:http://www.wikicfp.com/cfp/servlet/event.showcfp?eventid=67175&copyow
 nerid=101194
UID:cfp708240-D@wikicfp.com
END:VEVENT
BEGIN:VEVENT
DTSTAMP:20260422T080834Z
DTSTART;VALUE=DATE:20180318
SUMMARY:MLDM 2018 Notification Due
DESCRIPTION:14th International Conference on Machine Learning and Data Mi
 ning MLDM 2018
URL:http://www.wikicfp.com/cfp/servlet/event.showcfp?eventid=67175&copyow
 nerid=101194
UID:cfp708240-N@wikicfp.com
END:VEVENT
BEGIN:VEVENT
DTSTAMP:20260422T080834Z
DTSTART;VALUE=DATE:20180405
SUMMARY:MLDM 2018 Final Version Due
DESCRIPTION:14th International Conference on Machine Learning and Data Mi
 ning MLDM 2018
URL:http://www.wikicfp.com/cfp/servlet/event.showcfp?eventid=67175&copyow
 nerid=101194
UID:cfp708240-N@wikicfp.com
END:VEVENT
BEGIN:VEVENT
DTSTAMP:20260422T080834Z
DTSTART;VALUE=DATE:20180408
DTEND;VALUE=DATE:20180411
SUMMARY:ICDIS 2018
DESCRIPTION:2018 First International Conference on Data Intelligence and 
 Security
URL:http://www.wikicfp.com/cfp/servlet/event.showcfp?eventid=63568&copyow
 nerid=101194
UID:cfp701940-E@wikicfp.com
END:VEVENT
BEGIN:VEVENT
DTSTAMP:20260422T080834Z
DTSTART;VALUE=DATE:20180228
SUMMARY:ICDIS 2018 Deadline
DESCRIPTION:2018 First International Conference on Data Intelligence and 
 Security
URL:http://www.wikicfp.com/cfp/servlet/event.showcfp?eventid=63568&copyow
 nerid=101194
UID:cfp701940-D@wikicfp.com
END:VEVENT
BEGIN:VEVENT
DTSTAMP:20260422T080834Z
DTSTART;VALUE=DATE:20180305
SUMMARY:ICDIS 2018 Notification Due
DESCRIPTION:2018 First International Conference on Data Intelligence and 
 Security
URL:http://www.wikicfp.com/cfp/servlet/event.showcfp?eventid=63568&copyow
 nerid=101194
UID:cfp701940-N@wikicfp.com
END:VEVENT
BEGIN:VEVENT
DTSTAMP:20260422T080834Z
DTSTART;VALUE=DATE:20180625
DTEND;VALUE=DATE:20180701
SUMMARY:BigData Congress 2018
DESCRIPTION:The 7th International Congress on Big Data
URL:http://www.wikicfp.com/cfp/servlet/event.showcfp?eventid=67707&copyow
 nerid=101194
UID:cfp701869-E@wikicfp.com
END:VEVENT
BEGIN:VEVENT
DTSTAMP:20260422T080834Z
DTSTART;VALUE=DATE:20180228
SUMMARY:BigData Congress 2018 Deadline
DESCRIPTION:The 7th International Congress on Big Data
URL:http://www.wikicfp.com/cfp/servlet/event.showcfp?eventid=67707&copyow
 nerid=101194
UID:cfp701869-D@wikicfp.com
END:VEVENT
BEGIN:VEVENT
DTSTAMP:20260422T080834Z
DTSTART;VALUE=DATE:20180428
SUMMARY:BigData Congress 2018 Notification Due
DESCRIPTION:The 7th International Congress on Big Data
URL:http://www.wikicfp.com/cfp/servlet/event.showcfp?eventid=67707&copyow
 nerid=101194
UID:cfp701869-N@wikicfp.com
END:VEVENT
BEGIN:VEVENT
DTSTAMP:20260422T080834Z
DTSTART;VALUE=DATE:20180510
SUMMARY:BigData Congress 2018 Final Version Due
DESCRIPTION:The 7th International Congress on Big Data
URL:http://www.wikicfp.com/cfp/servlet/event.showcfp?eventid=67707&copyow
 nerid=101194
UID:cfp701869-N@wikicfp.com
END:VEVENT
BEGIN:VEVENT
DTSTAMP:20260422T080834Z
DTSTART;VALUE=DATE:20170521
DTEND;VALUE=DATE:20170526
SUMMARY:WARD 2018
DESCRIPTION:Workshop on the Autonomous Design of Robots at ICRA 2018
URL:http://www.wikicfp.com/cfp/servlet/event.showcfp?eventid=71007&copyow
 nerid=101194
UID:cfp701933-E@wikicfp.com
END:VEVENT
BEGIN:VEVENT
DTSTAMP:20260422T080834Z
DTSTART;VALUE=DATE:20180320
SUMMARY:WARD 2018 Deadline
DESCRIPTION:Workshop on the Autonomous Design of Robots at ICRA 2018
URL:http://www.wikicfp.com/cfp/servlet/event.showcfp?eventid=71007&copyow
 nerid=101194
UID:cfp701933-D@wikicfp.com
END:VEVENT
BEGIN:VEVENT
DTSTAMP:20260422T080834Z
DTSTART;VALUE=DATE:20180420
SUMMARY:WARD 2018 Notification Due
DESCRIPTION:Workshop on the Autonomous Design of Robots at ICRA 2018
URL:http://www.wikicfp.com/cfp/servlet/event.showcfp?eventid=71007&copyow
 nerid=101194
UID:cfp701933-N@wikicfp.com
END:VEVENT
BEGIN:VEVENT
DTSTAMP:20260422T080834Z
DTSTART;VALUE=DATE:20180505
SUMMARY:WARD 2018 Final Version Due
DESCRIPTION:Workshop on the Autonomous Design of Robots at ICRA 2018
URL:http://www.wikicfp.com/cfp/servlet/event.showcfp?eventid=71007&copyow
 nerid=101194
UID:cfp701933-N@wikicfp.com
END:VEVENT
END:VCALENDAR
