BEGIN:VCALENDAR
PRODID:-//WikiCFP//ZHANG_Jianzhen 1.0//EN
VERSION:2.0
CALSCALE:GREGORIAN
BEGIN:VEVENT
DTSTAMP:20260423T183542Z
DTSTART;VALUE=DATE:20171105
DTEND;VALUE=DATE:20171107
SUMMARY:ADMA 2017
DESCRIPTION:The 13th International Conference on Advanced Data Mining and
  Applications
URL:http://www.wikicfp.com/cfp/servlet/event.showcfp?eventid=64840&copyow
 nerid=100997
UID:cfp680926-E@wikicfp.com
END:VEVENT
BEGIN:VEVENT
DTSTAMP:20260423T183542Z
DTSTART;VALUE=DATE:20170723
SUMMARY:ADMA 2017 Deadline
DESCRIPTION:The 13th International Conference on Advanced Data Mining and
  Applications
URL:http://www.wikicfp.com/cfp/servlet/event.showcfp?eventid=64840&copyow
 nerid=100997
UID:cfp680926-D@wikicfp.com
END:VEVENT
BEGIN:VEVENT
DTSTAMP:20260423T183542Z
DTSTART;VALUE=DATE:20170818
SUMMARY:ADMA 2017 Notification Due
DESCRIPTION:The 13th International Conference on Advanced Data Mining and
  Applications
URL:http://www.wikicfp.com/cfp/servlet/event.showcfp?eventid=64840&copyow
 nerid=100997
UID:cfp680926-N@wikicfp.com
END:VEVENT
BEGIN:VEVENT
DTSTAMP:20260423T183542Z
DTSTART;VALUE=DATE:20170825
SUMMARY:ADMA 2017 Final Version Due
DESCRIPTION:The 13th International Conference on Advanced Data Mining and
  Applications
URL:http://www.wikicfp.com/cfp/servlet/event.showcfp?eventid=64840&copyow
 nerid=100997
UID:cfp680926-N@wikicfp.com
END:VEVENT
BEGIN:VEVENT
DTSTAMP:20260423T183542Z
DTSTART;VALUE=DATE:20171022
DTEND;VALUE=DATE:20171025
SUMMARY:ACM - ICBDR 2017
DESCRIPTION:ACM--2017 International Conference on Big Data Research (ICBD
 R 2017) -- Ei Compendex & Scopus
URL:http://www.wikicfp.com/cfp/servlet/event.showcfp?eventid=63425&copyow
 nerid=100997
UID:cfp680929-E@wikicfp.com
END:VEVENT
BEGIN:VEVENT
DTSTAMP:20260423T183542Z
DTSTART;VALUE=DATE:20170825
SUMMARY:ACM - ICBDR 2017 Deadline
DESCRIPTION:ACM--2017 International Conference on Big Data Research (ICBD
 R 2017) -- Ei Compendex & Scopus
URL:http://www.wikicfp.com/cfp/servlet/event.showcfp?eventid=63425&copyow
 nerid=100997
UID:cfp680929-D@wikicfp.com
END:VEVENT
BEGIN:VEVENT
DTSTAMP:20260423T183542Z
DTSTART;VALUE=DATE:20171208
DTEND;VALUE=DATE:20171211
SUMMARY:IWWCN 2018
DESCRIPTION:3rd Annual International Workshop on Wireless Communication a
 nd Network
URL:http://www.wikicfp.com/cfp/servlet/event.showcfp?eventid=67078&copyow
 nerid=100997
UID:cfp680924-E@wikicfp.com
END:VEVENT
BEGIN:VEVENT
DTSTAMP:20260423T183542Z
DTSTART;VALUE=DATE:20170829
SUMMARY:IWWCN 2018 Abstract Due
DESCRIPTION:3rd Annual International Workshop on Wireless Communication a
 nd Network
URL:http://www.wikicfp.com/cfp/servlet/event.showcfp?eventid=67078&copyow
 nerid=100997
UID:cfp680924-A@wikicfp.com
END:VEVENT
BEGIN:VEVENT
DTSTAMP:20260423T183542Z
DTSTART;VALUE=DATE:20170920
SUMMARY:IWWCN 2018 Deadline
DESCRIPTION:3rd Annual International Workshop on Wireless Communication a
 nd Network
URL:http://www.wikicfp.com/cfp/servlet/event.showcfp?eventid=67078&copyow
 nerid=100997
UID:cfp680924-D@wikicfp.com
END:VEVENT
BEGIN:VEVENT
DTSTAMP:20260423T183542Z
DTSTART;VALUE=DATE:20170930
SUMMARY:IWWCN 2018 Notification Due
DESCRIPTION:3rd Annual International Workshop on Wireless Communication a
 nd Network
URL:http://www.wikicfp.com/cfp/servlet/event.showcfp?eventid=67078&copyow
 nerid=100997
UID:cfp680924-N@wikicfp.com
END:VEVENT
BEGIN:VEVENT
DTSTAMP:20260423T183542Z
DTSTART;VALUE=DATE:20171031
SUMMARY:IWWCN 2018 Final Version Due
DESCRIPTION:3rd Annual International Workshop on Wireless Communication a
 nd Network
URL:http://www.wikicfp.com/cfp/servlet/event.showcfp?eventid=67078&copyow
 nerid=100997
UID:cfp680924-N@wikicfp.com
END:VEVENT
BEGIN:VEVENT
DTSTAMP:20260423T183542Z
DTSTART;VALUE=DATE:20180515
DTEND;VALUE=DATE:20180519
SUMMARY:PAKDD 2018
DESCRIPTION:The 22nd Pacific-Asia Conference on Knowledge Discovery and D
 ata Mining
URL:http://www.wikicfp.com/cfp/servlet/event.showcfp?eventid=66879&copyow
 nerid=100997
UID:cfp680927-E@wikicfp.com
END:VEVENT
BEGIN:VEVENT
DTSTAMP:20260423T183542Z
DTSTART;VALUE=DATE:20171031
SUMMARY:PAKDD 2018 Deadline
DESCRIPTION:The 22nd Pacific-Asia Conference on Knowledge Discovery and D
 ata Mining
URL:http://www.wikicfp.com/cfp/servlet/event.showcfp?eventid=66879&copyow
 nerid=100997
UID:cfp680927-D@wikicfp.com
END:VEVENT
BEGIN:VEVENT
DTSTAMP:20260423T183542Z
DTSTART;VALUE=DATE:20180128
SUMMARY:PAKDD 2018 Notification Due
DESCRIPTION:The 22nd Pacific-Asia Conference on Knowledge Discovery and D
 ata Mining
URL:http://www.wikicfp.com/cfp/servlet/event.showcfp?eventid=66879&copyow
 nerid=100997
UID:cfp680927-N@wikicfp.com
END:VEVENT
BEGIN:VEVENT
DTSTAMP:20260423T183542Z
DTSTART;VALUE=DATE:20180220
SUMMARY:PAKDD 2018 Final Version Due
DESCRIPTION:The 22nd Pacific-Asia Conference on Knowledge Discovery and D
 ata Mining
URL:http://www.wikicfp.com/cfp/servlet/event.showcfp?eventid=66879&copyow
 nerid=100997
UID:cfp680927-N@wikicfp.com
END:VEVENT
BEGIN:VEVENT
DTSTAMP:20260423T183542Z
DTSTART;VALUE=DATE:20180319
DTEND;VALUE=DATE:20180324
SUMMARY:PerIoT 2018
DESCRIPTION:Second International Workshop on Mobile and Pervasive Interne
 t of Things (co-located with IEEE PerCom 2018)
URL:http://www.wikicfp.com/cfp/servlet/event.showcfp?eventid=67102&copyow
 nerid=100997
UID:cfp680925-E@wikicfp.com
END:VEVENT
BEGIN:VEVENT
DTSTAMP:20260423T183542Z
DTSTART;VALUE=DATE:20171111
SUMMARY:PerIoT 2018 Deadline
DESCRIPTION:Second International Workshop on Mobile and Pervasive Interne
 t of Things (co-located with IEEE PerCom 2018)
URL:http://www.wikicfp.com/cfp/servlet/event.showcfp?eventid=67102&copyow
 nerid=100997
UID:cfp680925-D@wikicfp.com
END:VEVENT
BEGIN:VEVENT
DTSTAMP:20260423T183542Z
DTSTART;VALUE=DATE:20171223
SUMMARY:PerIoT 2018 Notification Due
DESCRIPTION:Second International Workshop on Mobile and Pervasive Interne
 t of Things (co-located with IEEE PerCom 2018)
URL:http://www.wikicfp.com/cfp/servlet/event.showcfp?eventid=67102&copyow
 nerid=100997
UID:cfp680925-N@wikicfp.com
END:VEVENT
BEGIN:VEVENT
DTSTAMP:20260423T183542Z
DTSTART;VALUE=DATE:20180110
SUMMARY:PerIoT 2018 Final Version Due
DESCRIPTION:Second International Workshop on Mobile and Pervasive Interne
 t of Things (co-located with IEEE PerCom 2018)
URL:http://www.wikicfp.com/cfp/servlet/event.showcfp?eventid=67102&copyow
 nerid=100997
UID:cfp680925-N@wikicfp.com
END:VEVENT
BEGIN:VEVENT
DTSTAMP:20260423T183542Z
DTSTART;VALUE=DATE:20180309
DTEND;VALUE=DATE:20180313
SUMMARY:IEEE - ICBDA 2018
DESCRIPTION:2018 IEEE 3rd International Conference on Big Data Analysis (
 ICBDA 2018)--IEEE Xplore and Ei Compendex
URL:http://www.wikicfp.com/cfp/servlet/event.showcfp?eventid=64837&copyow
 nerid=100997
UID:cfp680928-E@wikicfp.com
END:VEVENT
BEGIN:VEVENT
DTSTAMP:20260423T183542Z
DTSTART;VALUE=DATE:20180110
SUMMARY:IEEE - ICBDA 2018 Deadline
DESCRIPTION:2018 IEEE 3rd International Conference on Big Data Analysis (
 ICBDA 2018)--IEEE Xplore and Ei Compendex
URL:http://www.wikicfp.com/cfp/servlet/event.showcfp?eventid=64837&copyow
 nerid=100997
UID:cfp680928-D@wikicfp.com
END:VEVENT
BEGIN:VEVENT
DTSTAMP:20260423T183542Z
DTSTART;VALUE=DATE:20180316
DTEND;VALUE=DATE:20180319
SUMMARY:ICCSP - Ei & Scopus 2018
DESCRIPTION:2018 the 2nd International Conference on Cryptography\, Secur
 ity and Privacy (ICCSP 2018)--Ei Compendex and Scopus
URL:http://www.wikicfp.com/cfp/servlet/event.showcfp?eventid=65800&copyow
 nerid=100997
UID:cfp674947-E@wikicfp.com
END:VEVENT
BEGIN:VEVENT
DTSTAMP:20260423T183542Z
DTSTART;VALUE=DATE:20180120
SUMMARY:ICCSP - Ei & Scopus 2018 Deadline
DESCRIPTION:2018 the 2nd International Conference on Cryptography\, Secur
 ity and Privacy (ICCSP 2018)--Ei Compendex and Scopus
URL:http://www.wikicfp.com/cfp/servlet/event.showcfp?eventid=65800&copyow
 nerid=100997
UID:cfp674947-D@wikicfp.com
END:VEVENT
BEGIN:VEVENT
DTSTAMP:20260423T183542Z
DTSTART;VALUE=DATE:20180525
DTEND;VALUE=DATE:20180528
SUMMARY:Scopus-DMCIT 2018
DESCRIPTION:2018 2nd International Conference On Data Mining\, Communicat
 ions And Information Technology (DMCIT 2018)
URL:http://www.wikicfp.com/cfp/servlet/event.showcfp?eventid=67072&copyow
 nerid=100997
UID:cfp680923-E@wikicfp.com
END:VEVENT
BEGIN:VEVENT
DTSTAMP:20260423T183542Z
DTSTART;VALUE=DATE:20180420
SUMMARY:Scopus-DMCIT 2018 Deadline
DESCRIPTION:2018 2nd International Conference On Data Mining\, Communicat
 ions And Information Technology (DMCIT 2018)
URL:http://www.wikicfp.com/cfp/servlet/event.showcfp?eventid=67072&copyow
 nerid=100997
UID:cfp680923-D@wikicfp.com
END:VEVENT
END:VCALENDAR
