BEGIN:VCALENDAR
PRODID:-//WikiCFP//kmike 1.0//EN
VERSION:2.0
CALSCALE:GREGORIAN
BEGIN:VEVENT
DTSTAMP:20260421T072657Z
DTSTART;VALUE=DATE:20180507
DTEND;VALUE=DATE:20180513
SUMMARY:LREC  2018
DESCRIPTION:Language Resources and Evaluation Conference
URL:http://www.wikicfp.com/cfp/servlet/event.showcfp?eventid=60252&copyow
 nerid=100630
UID:cfp673532-E@wikicfp.com
END:VEVENT
BEGIN:VEVENT
DTSTAMP:20260421T072657Z
DTSTART;VALUE=DATE:20170925
SUMMARY:LREC  2018 Deadline
DESCRIPTION:Language Resources and Evaluation Conference
URL:http://www.wikicfp.com/cfp/servlet/event.showcfp?eventid=60252&copyow
 nerid=100630
UID:cfp673532-D@wikicfp.com
END:VEVENT
END:VCALENDAR
