BEGIN:VCALENDAR
PRODID:-//WikiCFP//Aarzoo 1.0//EN
VERSION:2.0
CALSCALE:GREGORIAN
BEGIN:VEVENT
DTSTAMP:20260422T024642Z
DTSTART;VALUE=DATE:20180422
DTEND;VALUE=DATE:20180428
SUMMARY:ICASSP 2018
DESCRIPTION:IEEE International Conference on Acoustics\, Speech and Signa
 l Processing
URL:http://www.wikicfp.com/cfp/servlet/event.showcfp?eventid=44015&copyow
 nerid=100405
UID:cfp672777-E@wikicfp.com
END:VEVENT
BEGIN:VEVENT
DTSTAMP:20260422T024642Z
DTSTART;VALUE=DATE:20171027
SUMMARY:ICASSP 2018 Deadline
DESCRIPTION:IEEE International Conference on Acoustics\, Speech and Signa
 l Processing
URL:http://www.wikicfp.com/cfp/servlet/event.showcfp?eventid=44015&copyow
 nerid=100405
UID:cfp672777-D@wikicfp.com
END:VEVENT
END:VCALENDAR
