BEGIN:VCALENDAR
PRODID:-//WikiCFP//mansurnalado 1.0//EN
VERSION:2.0
CALSCALE:GREGORIAN
BEGIN:VEVENT
DTSTAMP:20260422T210558Z
DTSTART;VALUE=DATE:20180611
DTEND;VALUE=DATE:20180616
SUMMARY:IPMU 2018
DESCRIPTION:17th Information Processing and Management of Uncertainty in 
 Knowledge-Based Systems Conference
URL:http://www.wikicfp.com/cfp/servlet/event.showcfp?eventid=55355&copyow
 nerid=100162
UID:cfp671505-E@wikicfp.com
END:VEVENT
BEGIN:VEVENT
DTSTAMP:20260422T210558Z
DTSTART;VALUE=DATE:20171222
SUMMARY:IPMU 2018 Deadline
DESCRIPTION:17th Information Processing and Management of Uncertainty in 
 Knowledge-Based Systems Conference
URL:http://www.wikicfp.com/cfp/servlet/event.showcfp?eventid=55355&copyow
 nerid=100162
UID:cfp671505-D@wikicfp.com
END:VEVENT
BEGIN:VEVENT
DTSTAMP:20260422T210558Z
DTSTART;VALUE=DATE:20180201
SUMMARY:IPMU 2018 Notification Due
DESCRIPTION:17th Information Processing and Management of Uncertainty in 
 Knowledge-Based Systems Conference
URL:http://www.wikicfp.com/cfp/servlet/event.showcfp?eventid=55355&copyow
 nerid=100162
UID:cfp671505-N@wikicfp.com
END:VEVENT
BEGIN:VEVENT
DTSTAMP:20260422T210558Z
DTSTART;VALUE=DATE:20180301
SUMMARY:IPMU 2018 Final Version Due
DESCRIPTION:17th Information Processing and Management of Uncertainty in 
 Knowledge-Based Systems Conference
URL:http://www.wikicfp.com/cfp/servlet/event.showcfp?eventid=55355&copyow
 nerid=100162
UID:cfp671505-N@wikicfp.com
END:VEVENT
END:VCALENDAR
